{"text_format":"1","workbook":"xlsx","n_sheets":2,"sheets":["Surface","Data"],"not_rendered":{"charts":3,"images":2,"macros":0,"external_links":0,"defined_names":46,"comments":0,"pivot_tables":0},"unopened":[],"bounds":{"document_bytes":16777216,"sheet_cells":100000,"rows_first":2000,"rows_last":500,"rows_between":2000,"halvings":0,"cell_chars":16384,"cell_head_chars":4096},"cells_cut":0,"cells_raw":0,"read":"whole","date_system":"1900"}

{"sheet":"Surface","index":0,"n_rows":70,"n_cols":141,"rows_kept":70,"cut":false,"hidden":false,"merged":[[37,1,44,1],[6,22,6,27]]}
[]
[]
[]
[" ",null,null,null,null,null,null,null,null,null,null,null,null,null,null,null,null,null,null,null,null,null,null,null,null,null,null,null,null,null,null,null,null,null,null,null,null,null,null,null,null,null,null,null,null,null,null,null,null,null,null,null,null,null,null,null,null,null,null,null,null,null,null,null,null,null,null,null,null,null,null,null,null,null,null,null,null,null,null,null,null,null,null,null,null,"Range formatting controls hidden under second chart"]
[null,null,null,null,null,null,null,null,null,null,null,null,null,null,null,null,null,null,null,null,null,null,null,null,null,null,null,null,null,null,null,null,null,null,null,null,null,null,null,null,null,null,null,null,null,null,null,null,null,null,null,null,null,null,null,null,"Unhide everything first to see the overall layout…BJS",null,null,null,null,null,null,null,null,null,null,null,null,null,null,null,null,null,null,null,null,null,null,null,null,null,null,null,null,"Add column to end of transposed return row beginning in CL10"]
[null,null,null,null,null,null,null,null,null,null,null,null,null,null,null,null,null,null,null,null,null,null,"Choose asset",null,null,null,null,null,null,null,null,null,null,null,null,null,null,null,null,null,null,null,null,null,null,null,null,null,null,null,null,null,null,null,null,null,"Hidden min and max range for color coding conditional formatting under cable graph to avoid impact on other regions",null,null,null,null,null,null,null,null,null,null,null,null,null,null,null,null,null,null,null,null,null,null,null,null,null,null,null,null,"(update formula for row and column in cell CE14 as a single \"array\" and then copy to remainder of new area)"]
[null,null,null,null,null,null,null,null,null,null,null,null,null,null,null,null,null,null,null,null,null,null,"Illinois",null,null,null,null,null,null,null,null,null,null,null,null,null,null,null,null,null,null,null,null,null,null,null,null,null,null,null,null,null,null,null,null,null,null,null,null,null,null,null,null,null,null,null,null,null,null,null,null,null,null,null,null,null,null,null,null,null,null,null,null,null,null,null,null,null,null,"below seems to require that copy across a single row first, excluding original address, and then downward - e.g. update CL14, then copy right, then down"]
[null,null,{"$f":"IF(CH12<38,\"2023 data are preliminary only as average of historic returns\",\"\")","v":""},null,null,null,null,null,null,null,null,null,null,null,null,null,null,null,null,null,null,null,null,null,null,null,null,null,null,null,null,null,null,null,null,null,null,null,null,null,null,null,null,null,null,null,null,null,null,null,null,null,null,null,null,null,"0 1 controls here",null,"Note the treatment to start and end at different dates",null,null,null,null,null,null,null,null,null,null,null,null,null,null,null,null,null,null,null,null,null,null,null,null,null,null,null,null,null,null,"easiest may be to \"f2\" to locate the ranges first"]
[]
[null,null,null,null,null,null,null,null,null,null,null,null,null,null,null,null,null,null,null,null,null,null,null,null,null,null,null,null,null,null,null,null,null,null,null,null,null,null,null,null,null,null,null,null,null,null,null,null,null,null,null,null,null,null,null,null,null,null,null,null,null,null,null,null,null,null,null,null,null,null,null,null,null,null,null,null,null,null,null,null,null,null,null,null,null,null,null,null,null,{"$f":"TRANSPOSE(CH14:CH65)","v":1.1101885211424052},1.1403809886053236,1.3276541524268035,1.2352248017494019,1.3140303667735791,1.4237530426343119,1.1620476848984498,1.1875607901582799,1.1422599882193496,1.1153357228507577,0.97513640072939711,0.96174132818781621,1.0599023868814466,0.81651619002326181,0.96043065546865503,0.99137070019321116,1.1549830327152379,1.1567089447777805,1.0669085342607658,1.094726317202662,1.1080211969458262,1.061953626731732,1.130976868929513,1.1336310556502855,1.088853485784083,1.0863199491166375,1.1171852340660304,1.082087642354435,1.060557731819562,1.0556274107568484,1.0684436017973062,1.075328116857345,1.0943375639444757,1.2879718933332445,1.1490618847439709,1.1490045103727919,1.1611267649719879,1.0090702790423058,1.092115473225493,1.1715966285939157,1.1820588626795883,1.1715202354628038,1.0805716393534202,1.0205143137615083,1.0103350144750711,1.0085736542663937,1.0443391416156778,1.0240728570897628,1.0389769282950789,1.0895963108276756,1.148050802588799,1.0660841176452029]
[null,null,null,null,null,null,null,null,null,null,null,null,null,null,null,null,null,null,null,null,null,null,null,null,"Sell (end of year) "]
[null,null,null,1972,1973,1974,1975,1976,1977,1978,1979,1980,1981,1982,1983,1984,1985,1986,1987,1988,1989,1990,1991,1992,1993,1994,1995,1996,1997,1998,1999,2000,2001,2002,2003,2004,2005,2006,2007,2008,2009,2010,2011,2012,2013,2014,2015,2016,2017,2018,2019,2020,2021,2022,"2023p",null,null,null,null,null,null,null,null,null,null,null,null,null,null,null,null,null,null,null,null,null,null,null,null,null,null,null,null,null,null,{"$f":"MATCH(CH13,Data!C3:CS3,0)","v":49},null,null,null,"Purchased"]
[null,null,1972,null,null,null,null,null,null,null,null,null,null,null,null,null,null,null,null,null,null,null,null,null,null,null,null,null,null,null,null,null,null,null,null,null,null,null,null,null,null,null,null,null,null,null,null,null,null,null,null,null,null,null,null,null,null,1,2,3,4,5,6,7,8,9,10,11,12,13,14,15,16,17,18,19,20,21,22,23,24,25,26,null,null,{"$f":"W7","v":"Illinois"},null,null,null,1972,1973,1974,1975,1976,1977,1978,1979,1980,1981,1982,1983,1984,1985,1986,1987,1988,1989,1990,1991,1992,1993,1994,1995,1996,1997,1998,1999,2000,2001,2002,2003,2004,2005,2006,2007,2008,2009,2010,2011,2012,2013,2014,2015,2016,2017,2018,2019,2020,2021,2022,2023]
[null,null,1973,null,null,null,null,null,null,null,null,null,null,null,null,null,null,null,null,null,null,null,null,null,null,null,null,null,null,null,null,null,null,null,null,null,null,null,null,null,null,null,null,null,null,null,null,null,null,null,null,null,null,null,null,null,1972,{"$f":"CH14-1","v":0.11018852114240518},null,null,null,null,null,null,null,null,null,null,null,null,null,null,null,null,null,null,null,null,null,null,null,null,null,null,1972,{"$f":"HLOOKUP($W$7,dat,MATCH(CG14,Data!$B$3:$B$60,0),0)+1","v":1.1101885211424052},null,"Sold",1972,{"$f":"PRODUCT(IF(($CL$13:$EK$13<=CL$13*TRANSPOSE($CK$14:$CK$65>=$CK14)),$CL$10:$EK$10,1))","v":1.1101885211424052},{"$f":"PRODUCT(IF(($CL$13:$EK$13<=CM$13*TRANSPOSE($CK$14:$CK$65>=$CK14)),$CL$10:$EK$10,1))","v":1.2660378832786581},{"$f":"PRODUCT(IF(($CL$13:$EK$13<=CN$13*TRANSPOSE($CK$14:$CK$65>=$CK14)),$CL$10:$EK$10,1))","v":1.6808604528645512},{"$f":"PRODUCT(IF(($CL$13:$EK$13<=CO$13*TRANSPOSE($CK$14:$CK$65>=$CK14)),$CL$10:$EK$10,1))","v":2.0762405196580249},{"$f":"PRODUCT(IF(($CL$13:$EK$13<=CP$13*TRANSPOSE($CK$14:$CK$65>=$CK14)),$CL$10:$EK$10,1))","v":2.7282430915564011},{"$f":"PRODUCT(IF(($CL$13:$EK$13<=CQ$13*TRANSPOSE($CK$14:$CK$65>=$CK14)),$CL$10:$EK$10,1))","v":3.8843444026494676},{"$f":"PRODUCT(IF(($CL$13:$EK$13<=CR$13*TRANSPOSE($CK$14:$CK$65>=$CK14)),$CL$10:$EK$10,1))","v":4.5137934204470653},{"$f":"PRODUCT(IF(($CL$13:$EK$13<=CS$13*TRANSPOSE($CK$14:$CK$65>=$CK14)),$CL$10:$EK$10,1))","v":5.3604040809973617},{"$f":"PRODUCT(IF(($CL$13:$EK$13<=CT$13*TRANSPOSE($CK$14:$CK$65>=$CK14)),$CL$10:$EK$10,1))","v":6.122975102411},{"$f":"PRODUCT(IF(($CL$13:$EK$13<=CU$13*TRANSPOSE($CK$14:$CK$65>=$CK14)),$CL$10:$EK$10,1))","v":6.8291728618447642},{"$f":"PRODUCT(IF(($CL$13:$EK$13<=CV$13*TRANSPOSE($CK$14:$CK$65>=$CK14)),$CL$10:$EK$10,1))","v":6.6593750444581801},{"$f":"PRODUCT(IF(($CL$13:$EK$13<=CW$13*TRANSPOSE($CK$14:$CK$65>=$CK14)),$CL$10:$EK$10,1))","v":6.4045962001580081},{"$f":"PRODUCT(IF(($CL$13:$EK$13<=CX$13*TRANSPOSE($CK$14:$CK$65>=$CK14)),$CL$10:$EK$10,1))","v":6.7882467995593156},{"$f":"PRODUCT(IF(($CL$13:$EK$13<=CY$13*TRANSPOSE($CK$14:$CK$65>=$CK14)),$CL$10:$EK$10,1))","v":5.5427134137137726},{"$f":"PRODUCT(IF(($CL$13:$EK$13<=CZ$13*TRANSPOSE($CK$14:$CK$65>=$CK14)),$CL$10:$EK$10,1))","v":5.3233918770080253},{"$f":"PRODUCT(IF(($CL$13:$EK$13<=DA$13*TRANSPOSE($CK$14:$CK$65>=$CK14)),$CL$10:$EK$10,1))","v":5.2774547325122985},{"$f":"PRODUCT(IF(($CL$13:$EK$13<=DB$13*TRANSPOSE($CK$14:$CK$65>=$CK14)),$CL$10:$EK$10,1))","v":6.0953706719744396},{"$f":"PRODUCT(IF(($CL$13:$EK$13<=DC$13*TRANSPOSE($CK$14:$CK$65>=$CK14)),$CL$10:$EK$10,1))","v":7.0505697780089847},{"$f":"PRODUCT(IF(($CL$13:$EK$13<=DD$13*TRANSPOSE($CK$14:$CK$65>=$CK14)),$CL$10:$EK$10,1))","v":7.5223130675588186},{"$f":"PRODUCT(IF(($CL$13:$EK$13<=DE$13*TRANSPOSE($CK$14:$CK$65>=$CK14)),$CL$10:$EK$10,1))","v":8.2348740812941248},{"$f":"PRODUCT(IF(($CL$13:$EK$13<=DF$13*TRANSPOSE($CK$14:$CK$65>=$CK14)),$CL$10:$EK$10,1))","v":9.1244150362536782},{"$f":"PRODUCT(IF(($CL$13:$EK$13<=DG$13*TRANSPOSE($CK$14:$CK$65>=$CK14)),$CL$10:$EK$10,1))","v":9.6897056395551413},{"$f":"PRODUCT(IF(($CL$13:$EK$13<=DH$13*TRANSPOSE($CK$14:$CK$65>=$CK14)),$CL$10:$EK$10,1))","v":10.958832945072718},{"$f":"PRODUCT(IF(($CL$13:$EK$13<=DI$13*TRANSPOSE($CK$14:$CK$65>=$CK14)),$CL$10:$EK$10,1))","v":12.423273360217912},{"$f":"PRODUCT(IF(($CL$13:$EK$13<=DJ$13*TRANSPOSE($CK$14:$CK$65>=$CK14)),$CL$10:$EK$10,1))","v":13.527124503121811},{"$f":"PRODUCT(IF(($CL$13:$EK$13<=DK$13*TRANSPOSE($CK$14:$CK$65>=$CK14)),$CL$10:$EK$10,1))","v":14.694785201925708},{"$f":"PRODUCT(IF(($CL$13:$EK$13<=DL$13*TRANSPOSE($CK$14:$CK$65>=$CK14)),$CL$10:$EK$10,1))","v":16.416797045363413},{"$f":"PRODUCT(IF(($CL$13:$EK$13<=DM$13*TRANSPOSE($CK$14:$CK$65>=$CK14)),$CL$10:$EK$10,1))","v":17.76441320982855},{"$f":"PRODUCT(IF(($CL$13:$EK$13<=DN$13*TRANSPOSE($CK$14:$CK$65>=$CK14)),$CL$10:$EK$10,1))","v":18.840185780921232},{"$f":"PRODUCT(IF(($CL$13:$EK$13<=DO$13*TRANSPOSE($CK$14:$CK$65>=$CK14)),$CL$10:$EK$10,1))","v":19.888216534091871},{"$f":"PRODUCT(IF(($CL$13:$EK$13<=DP$13*TRANSPOSE($CK$14:$CK$65>=$CK14)),$CL$10:$EK$10,1))","v":21.249437707009857},{"$f":"PRODUCT(IF(($CL$13:$EK$13<=DQ$13*TRANSPOSE($CK$14:$CK$65>=$CK14)),$CL$10:$EK$10,1))","v":22.850117833756368},{"$f":"PRODUCT(IF(($CL$13:$EK$13<=DR$13*TRANSPOSE($CK$14:$CK$65>=$CK14)),$CL$10:$EK$10,1))","v":25.005742286037162},{"$f":"PRODUCT(IF(($CL$13:$EK$13<=DS$13*TRANSPOSE($CK$14:$CK$65>=$CK14)),$CL$10:$EK$10,1))","v":32.206693236350453},{"$f":"PRODUCT(IF(($CL$13:$EK$13<=DT$13*TRANSPOSE($CK$14:$CK$65>=$CK14)),$CL$10:$EK$10,1))","v":37.007483631531748},{"$f":"PRODUCT(IF(($CL$13:$EK$13<=DU$13*TRANSPOSE($CK$14:$CK$65>=$CK14)),$CL$10:$EK$10,1))","v":42.521765610177248},{"$f":"PRODUCT(IF(($CL$13:$EK$13<=DV$13*TRANSPOSE($CK$14:$CK$65>=$CK14)),$CL$10:$EK$10,1))","v":49.373160143842235},{"$f":"PRODUCT(IF(($CL$13:$EK$13<=DW$13*TRANSPOSE($CK$14:$CK$65>=$CK14)),$CL$10:$EK$10,1))","v":49.820988483547339},{"$f":"PRODUCT(IF(($CL$13:$EK$13<=DX$13*TRANSPOSE($CK$14:$CK$65>=$CK14)),$CL$10:$EK$10,1))","v":54.410272414271134},{"$f":"PRODUCT(IF(($CL$13:$EK$13<=DY$13*TRANSPOSE($CK$14:$CK$65>=$CK14)),$CL$10:$EK$10,1))","v":63.74689172143659},{"$f":"PRODUCT(IF(($CL$13:$EK$13<=DZ$13*TRANSPOSE($CK$14:$CK$65>=$CK14)),$CL$10:$EK$10,1))","v":75.352578327600199},{"$f":"PRODUCT(IF(($CL$13:$EK$13<=EA$13*TRANSPOSE($CK$14:$CK$65>=$CK14)),$CL$10:$EK$10,1))","v":88.277070305079548},{"$f":"PRODUCT(IF(($CL$13:$EK$13<=EB$13*TRANSPOSE($CK$14:$CK$65>=$CK14)),$CL$10:$EK$10,1))","v":95.389698576876938},{"$f":"PRODUCT(IF(($CL$13:$EK$13<=EC$13*TRANSPOSE($CK$14:$CK$65>=$CK14)),$CL$10:$EK$10,1))","v":97.346552783098687},{"$f":"PRODUCT(IF(($CL$13:$EK$13<=ED$13*TRANSPOSE($CK$14:$CK$65>=$CK14)),$CL$10:$EK$10,1))","v":98.35263081521029},{"$f":"PRODUCT(IF(($CL$13:$EK$13<=EE$13*TRANSPOSE($CK$14:$CK$65>=$CK14)),$CL$10:$EK$10,1))","v":99.195872268010163},{"$f":"PRODUCT(IF(($CL$13:$EK$13<=EF$13*TRANSPOSE($CK$14:$CK$65>=$CK14)),$CL$10:$EK$10,1))","v":103.59413209619214},{"$f":"PRODUCT(IF(($CL$13:$EK$13<=EG$13*TRANSPOSE($CK$14:$CK$65>=$CK14)),$CL$10:$EK$10,1))","v":106.08793883348179},{"$f":"PRODUCT(IF(($CL$13:$EK$13<=EH$13*TRANSPOSE($CK$14:$CK$65>=$CK14)),$CL$10:$EK$10,1))","v":110.22292081836713},{"$f":"PRODUCT(IF(($CL$13:$EK$13<=EI$13*TRANSPOSE($CK$14:$CK$65>=$CK14)),$CL$10:$EK$10,1))","v":120.09848789234383},{"$f":"PRODUCT(IF(($CL$13:$EK$13<=EJ$13*TRANSPOSE($CK$14:$CK$65>=$CK14)),$CL$10:$EK$10,1))","v":137.87916541450647},{"$f":"PRODUCT(IF(($CL$13:$EK$13<=EK$13*TRANSPOSE($CK$14:$CK$65>=$CK14)),$CL$10:$EK$10,1))","v":146.9907884025811}]
[null,null,1974,null,null,null,null,null,null,null,null,null,null,null,null,null,null,null,null,null,null,null,null,null,null,null,null,null,null,null,null,null,null,null,null,null,null,null,null,null,null,null,null,null,null,null,null,null,null,null,null,null,null,null,null,null,1973,0.14038098860532355,{"$f":"PRODUCT(CH14:CH15)^(1/BG$13)-1","v":0.12518348871579965},null,null,null,null,null,null,null,null,null,null,null,null,null,null,null,null,null,null,null,null,null,null,null,null,null,1973,{"$f":"HLOOKUP($W$7,dat,MATCH(CG15,Data!$B$3:$B$60,0),0)+1","v":1.1403809886053236},null,null,1973,{"$f":"PRODUCT(IF(($CL$13:$EK$13<=CL$13*TRANSPOSE($CK$14:$CK$65>=$CK15)),$CL$10:$EK$10,1))","v":1},{"$f":"PRODUCT(IF(($CL$13:$EK$13<=CM$13*TRANSPOSE($CK$14:$CK$65>=$CK15)),$CL$10:$EK$10,1))","v":1.1403809886053236},{"$f":"PRODUCT(IF(($CL$13:$EK$13<=CN$13*TRANSPOSE($CK$14:$CK$65>=$CK15)),$CL$10:$EK$10,1))","v":1.5140315548704411},{"$f":"PRODUCT(IF(($CL$13:$EK$13<=CO$13*TRANSPOSE($CK$14:$CK$65>=$CK15)),$CL$10:$EK$10,1))","v":1.8701693272071791},{"$f":"PRODUCT(IF(($CL$13:$EK$13<=CP$13*TRANSPOSE($CK$14:$CK$65>=$CK15)),$CL$10:$EK$10,1))","v":2.457459286958747},{"$f":"PRODUCT(IF(($CL$13:$EK$13<=CQ$13*TRANSPOSE($CK$14:$CK$65>=$CK15)),$CL$10:$EK$10,1))","v":3.4988151369574627},{"$f":"PRODUCT(IF(($CL$13:$EK$13<=CR$13*TRANSPOSE($CK$14:$CK$65>=$CK15)),$CL$10:$EK$10,1))","v":4.0657900297890723},{"$f":"PRODUCT(IF(($CL$13:$EK$13<=CS$13*TRANSPOSE($CK$14:$CK$65>=$CK15)),$CL$10:$EK$10,1))","v":4.8283728203939669},{"$f":"PRODUCT(IF(($CL$13:$EK$13<=CT$13*TRANSPOSE($CK$14:$CK$65>=$CK15)),$CL$10:$EK$10,1))","v":5.51525708094184},{"$f":"PRODUCT(IF(($CL$13:$EK$13<=CU$13*TRANSPOSE($CK$14:$CK$65>=$CK15)),$CL$10:$EK$10,1))","v":6.1513632430800271},{"$f":"PRODUCT(IF(($CL$13:$EK$13<=CV$13*TRANSPOSE($CK$14:$CK$65>=$CK15)),$CL$10:$EK$10,1))","v":5.9984182124361691},{"$f":"PRODUCT(IF(($CL$13:$EK$13<=CW$13*TRANSPOSE($CK$14:$CK$65>=$CK15)),$CL$10:$EK$10,1))","v":5.7689266986543473},{"$f":"PRODUCT(IF(($CL$13:$EK$13<=CX$13*TRANSPOSE($CK$14:$CK$65>=$CK15)),$CL$10:$EK$10,1))","v":6.1144991776478461},{"$f":"PRODUCT(IF(($CL$13:$EK$13<=CY$13*TRANSPOSE($CK$14:$CK$65>=$CK15)),$CL$10:$EK$10,1))","v":4.9925875724333872},{"$f":"PRODUCT(IF(($CL$13:$EK$13<=CZ$13*TRANSPOSE($CK$14:$CK$65>=$CK15)),$CL$10:$EK$10,1))","v":4.7950341546768591},{"$f":"PRODUCT(IF(($CL$13:$EK$13<=DA$13*TRANSPOSE($CK$14:$CK$65>=$CK15)),$CL$10:$EK$10,1))","v":4.7536563673723604},{"$f":"PRODUCT(IF(($CL$13:$EK$13<=DB$13*TRANSPOSE($CK$14:$CK$65>=$CK15)),$CL$10:$EK$10,1))","v":5.4903924476738304},{"$f":"PRODUCT(IF(($CL$13:$EK$13<=DC$13*TRANSPOSE($CK$14:$CK$65>=$CK15)),$CL$10:$EK$10,1))","v":6.3507860545646917},{"$f":"PRODUCT(IF(($CL$13:$EK$13<=DD$13*TRANSPOSE($CK$14:$CK$65>=$CK15)),$CL$10:$EK$10,1))","v":6.7757078408793268},{"$f":"PRODUCT(IF(($CL$13:$EK$13<=DE$13*TRANSPOSE($CK$14:$CK$65>=$CK15)),$CL$10:$EK$10,1))","v":7.4175456910870263},{"$f":"PRODUCT(IF(($CL$13:$EK$13<=DF$13*TRANSPOSE($CK$14:$CK$65>=$CK15)),$CL$10:$EK$10,1))","v":8.2187978550386021},{"$f":"PRODUCT(IF(($CL$13:$EK$13<=DG$13*TRANSPOSE($CK$14:$CK$65>=$CK15)),$CL$10:$EK$10,1))","v":8.7279821895332237},{"$f":"PRODUCT(IF(($CL$13:$EK$13<=DH$13*TRANSPOSE($CK$14:$CK$65>=$CK15)),$CL$10:$EK$10,1))","v":9.8711459687908398},{"$f":"PRODUCT(IF(($CL$13:$EK$13<=DI$13*TRANSPOSE($CK$14:$CK$65>=$CK15)),$CL$10:$EK$10,1))","v":11.190237625078421},{"$f":"PRODUCT(IF(($CL$13:$EK$13<=DJ$13*TRANSPOSE($CK$14:$CK$65>=$CK15)),$CL$10:$EK$10,1))","v":12.184529244818837},{"$f":"PRODUCT(IF(($CL$13:$EK$13<=DK$13*TRANSPOSE($CK$14:$CK$65>=$CK15)),$CL$10:$EK$10,1))","v":13.23629718924178},{"$f":"PRODUCT(IF(($CL$13:$EK$13<=DL$13*TRANSPOSE($CK$14:$CK$65>=$CK15)),$CL$10:$EK$10,1))","v":14.787395773530619},{"$f":"PRODUCT(IF(($CL$13:$EK$13<=DM$13*TRANSPOSE($CK$14:$CK$65>=$CK15)),$CL$10:$EK$10,1))","v":16.001258229141683},{"$f":"PRODUCT(IF(($CL$13:$EK$13<=DN$13*TRANSPOSE($CK$14:$CK$65>=$CK15)),$CL$10:$EK$10,1))","v":16.970258133757607},{"$f":"PRODUCT(IF(($CL$13:$EK$13<=DO$13*TRANSPOSE($CK$14:$CK$65>=$CK15)),$CL$10:$EK$10,1))","v":17.914269653613889},{"$f":"PRODUCT(IF(($CL$13:$EK$13<=DP$13*TRANSPOSE($CK$14:$CK$65>=$CK15)),$CL$10:$EK$10,1))","v":19.140386792275404},{"$f":"PRODUCT(IF(($CL$13:$EK$13<=DQ$13*TRANSPOSE($CK$14:$CK$65>=$CK15)),$CL$10:$EK$10,1))","v":20.582196085258708},{"$f":"PRODUCT(IF(($CL$13:$EK$13<=DR$13*TRANSPOSE($CK$14:$CK$65>=$CK15)),$CL$10:$EK$10,1))","v":22.52387032456954},{"$f":"PRODUCT(IF(($CL$13:$EK$13<=DS$13*TRANSPOSE($CK$14:$CK$65>=$CK15)),$CL$10:$EK$10,1))","v":29.010111907128309},{"$f":"PRODUCT(IF(($CL$13:$EK$13<=DT$13*TRANSPOSE($CK$14:$CK$65>=$CK15)),$CL$10:$EK$10,1))","v":33.334413864638364},{"$f":"PRODUCT(IF(($CL$13:$EK$13<=DU$13*TRANSPOSE($CK$14:$CK$65>=$CK15)),$CL$10:$EK$10,1))","v":38.301391881102809},{"$f":"PRODUCT(IF(($CL$13:$EK$13<=DV$13*TRANSPOSE($CK$14:$CK$65>=$CK15)),$CL$10:$EK$10,1))","v":44.472771248829268},{"$f":"PRODUCT(IF(($CL$13:$EK$13<=DW$13*TRANSPOSE($CK$14:$CK$65>=$CK15)),$CL$10:$EK$10,1))","v":44.876151693840789},{"$f":"PRODUCT(IF(($CL$13:$EK$13<=DX$13*TRANSPOSE($CK$14:$CK$65>=$CK15)),$CL$10:$EK$10,1))","v":49.009939643657944},{"$f":"PRODUCT(IF(($CL$13:$EK$13<=DY$13*TRANSPOSE($CK$14:$CK$65>=$CK15)),$CL$10:$EK$10,1))","v":57.419880054100943},{"$f":"PRODUCT(IF(($CL$13:$EK$13<=DZ$13*TRANSPOSE($CK$14:$CK$65>=$CK15)),$CL$10:$EK$10,1))","v":67.873678111948934},{"$f":"PRODUCT(IF(($CL$13:$EK$13<=EA$13*TRANSPOSE($CK$14:$CK$65>=$CK15)),$CL$10:$EK$10,1))","v":79.515387363436972},{"$f":"PRODUCT(IF(($CL$13:$EK$13<=EB$13*TRANSPOSE($CK$14:$CK$65>=$CK15)),$CL$10:$EK$10,1))","v":85.922072477131323},{"$f":"PRODUCT(IF(($CL$13:$EK$13<=EC$13*TRANSPOSE($CK$14:$CK$65>=$CK15)),$CL$10:$EK$10,1))","v":87.684704830966254},{"$f":"PRODUCT(IF(($CL$13:$EK$13<=ED$13*TRANSPOSE($CK$14:$CK$65>=$CK15)),$CL$10:$EK$10,1))","v":88.590927524636626},{"$f":"PRODUCT(IF(($CL$13:$EK$13<=EE$13*TRANSPOSE($CK$14:$CK$65>=$CK15)),$CL$10:$EK$10,1))","v":89.350475508372},{"$f":"PRODUCT(IF(($CL$13:$EK$13<=EF$13*TRANSPOSE($CK$14:$CK$65>=$CK15)),$CL$10:$EK$10,1))","v":93.312198895365853},{"$f":"PRODUCT(IF(($CL$13:$EK$13<=EG$13*TRANSPOSE($CK$14:$CK$65>=$CK15)),$CL$10:$EK$10,1))","v":95.558490124105518},{"$f":"PRODUCT(IF(($CL$13:$EK$13<=EH$13*TRANSPOSE($CK$14:$CK$65>=$CK15)),$CL$10:$EK$10,1))","v":99.283066541658783},{"$f":"PRODUCT(IF(($CL$13:$EK$13<=EI$13*TRANSPOSE($CK$14:$CK$65>=$CK15)),$CL$10:$EK$10,1))","v":108.17846303145005},{"$f":"PRODUCT(IF(($CL$13:$EK$13<=EJ$13*TRANSPOSE($CK$14:$CK$65>=$CK15)),$CL$10:$EK$10,1))","v":124.19437130607895},{"$f":"PRODUCT(IF(($CL$13:$EK$13<=EK$13*TRANSPOSE($CK$14:$CK$65>=$CK15)),$CL$10:$EK$10,1))","v":132.40164675034188}]
[null,null,1975,null,null,null,null,null,null,null,null,null,null,null,null,null,null,null,null,null,null,null,null,null,null,null,null,null,null,null,null,null,null,null,null,null,null,null,null,null,null,null,null,null,null,null,null,null,null,null,null,null,null,null,null,null,1974,0.32765415242680351,{"$f":"PRODUCT(CH15:CH16)^(1/BG$13)-1","v":0.23045989567740111},{"$f":"PRODUCT(CH14:CH16)^(1/BH$13)-1","v":0.18898731086030307},null,null,null,null,null,null,null,null,null,null,null,null,null,null,null,null,null,null,null,null,null,null,null,null,1974,{"$f":"HLOOKUP($W$7,dat,MATCH(CG16,Data!$B$3:$B$60,0),0)+1","v":1.3276541524268035},null,null,1974,{"$f":"PRODUCT(IF(($CL$13:$EK$13<=CL$13*TRANSPOSE($CK$14:$CK$65>=$CK16)),$CL$10:$EK$10,1))","v":1},{"$f":"PRODUCT(IF(($CL$13:$EK$13<=CM$13*TRANSPOSE($CK$14:$CK$65>=$CK16)),$CL$10:$EK$10,1))","v":1},{"$f":"PRODUCT(IF(($CL$13:$EK$13<=CN$13*TRANSPOSE($CK$14:$CK$65>=$CK16)),$CL$10:$EK$10,1))","v":1.3276541524268035},{"$f":"PRODUCT(IF(($CL$13:$EK$13<=CO$13*TRANSPOSE($CK$14:$CK$65>=$CK16)),$CL$10:$EK$10,1))","v":1.6399513372231684},{"$f":"PRODUCT(IF(($CL$13:$EK$13<=CP$13*TRANSPOSE($CK$14:$CK$65>=$CK16)),$CL$10:$EK$10,1))","v":2.1549458571421813},{"$f":"PRODUCT(IF(($CL$13:$EK$13<=CQ$13*TRANSPOSE($CK$14:$CK$65>=$CK16)),$CL$10:$EK$10,1))","v":3.0681107208183858},{"$f":"PRODUCT(IF(($CL$13:$EK$13<=CR$13*TRANSPOSE($CK$14:$CK$65>=$CK16)),$CL$10:$EK$10,1))","v":3.5652909601391194},{"$f":"PRODUCT(IF(($CL$13:$EK$13<=CS$13*TRANSPOSE($CK$14:$CK$65>=$CK16)),$CL$10:$EK$10,1))","v":4.2339997497669852},{"$f":"PRODUCT(IF(($CL$13:$EK$13<=CT$13*TRANSPOSE($CK$14:$CK$65>=$CK16)),$CL$10:$EK$10,1))","v":4.8363285042895656},{"$f":"PRODUCT(IF(($CL$13:$EK$13<=CU$13*TRANSPOSE($CK$14:$CK$65>=$CK16)),$CL$10:$EK$10,1))","v":5.3941299482755261},{"$f":"PRODUCT(IF(($CL$13:$EK$13<=CV$13*TRANSPOSE($CK$14:$CK$65>=$CK16)),$CL$10:$EK$10,1))","v":5.2600124628280458},{"$f":"PRODUCT(IF(($CL$13:$EK$13<=CW$13*TRANSPOSE($CK$14:$CK$65>=$CK16)),$CL$10:$EK$10,1))","v":5.0587713722847107},{"$f":"PRODUCT(IF(($CL$13:$EK$13<=CX$13*TRANSPOSE($CK$14:$CK$65>=$CK16)),$CL$10:$EK$10,1))","v":5.3618038521720957},{"$f":"PRODUCT(IF(($CL$13:$EK$13<=CY$13*TRANSPOSE($CK$14:$CK$65>=$CK16)),$CL$10:$EK$10,1))","v":4.377999653027608},{"$f":"PRODUCT(IF(($CL$13:$EK$13<=CZ$13*TRANSPOSE($CK$14:$CK$65>=$CK16)),$CL$10:$EK$10,1))","v":4.20476507639885},{"$f":"PRODUCT(IF(($CL$13:$EK$13<=DA$13*TRANSPOSE($CK$14:$CK$65>=$CK16)),$CL$10:$EK$10,1))","v":4.1684808979374885},{"$f":"PRODUCT(IF(($CL$13:$EK$13<=DB$13*TRANSPOSE($CK$14:$CK$65>=$CK16)),$CL$10:$EK$10,1))","v":4.8145247093153785},{"$f":"PRODUCT(IF(($CL$13:$EK$13<=DC$13*TRANSPOSE($CK$14:$CK$65>=$CK16)),$CL$10:$EK$10,1))","v":5.569003796118742},{"$f":"PRODUCT(IF(($CL$13:$EK$13<=DD$13*TRANSPOSE($CK$14:$CK$65>=$CK16)),$CL$10:$EK$10,1))","v":5.9416176774096874},{"$f":"PRODUCT(IF(($CL$13:$EK$13<=DE$13*TRANSPOSE($CK$14:$CK$65>=$CK16)),$CL$10:$EK$10,1))","v":6.5044452382169409},{"$f":"PRODUCT(IF(($CL$13:$EK$13<=DF$13*TRANSPOSE($CK$14:$CK$65>=$CK16)),$CL$10:$EK$10,1))","v":7.2070631983177149},{"$f":"PRODUCT(IF(($CL$13:$EK$13<=DG$13*TRANSPOSE($CK$14:$CK$65>=$CK16)),$CL$10:$EK$10,1))","v":7.6535669015382934},{"$f":"PRODUCT(IF(($CL$13:$EK$13<=DH$13*TRANSPOSE($CK$14:$CK$65>=$CK16)),$CL$10:$EK$10,1))","v":8.6560071304443333},{"$f":"PRODUCT(IF(($CL$13:$EK$13<=DI$13*TRANSPOSE($CK$14:$CK$65>=$CK16)),$CL$10:$EK$10,1))","v":9.8127185010020082},{"$f":"PRODUCT(IF(($CL$13:$EK$13<=DJ$13*TRANSPOSE($CK$14:$CK$65>=$CK16)),$CL$10:$EK$10,1))","v":10.684612744833998},{"$f":"PRODUCT(IF(($CL$13:$EK$13<=DK$13*TRANSPOSE($CK$14:$CK$65>=$CK16)),$CL$10:$EK$10,1))","v":11.606907973299046},{"$f":"PRODUCT(IF(($CL$13:$EK$13<=DL$13*TRANSPOSE($CK$14:$CK$65>=$CK16)),$CL$10:$EK$10,1))","v":12.967066200932971},{"$f":"PRODUCT(IF(($CL$13:$EK$13<=DM$13*TRANSPOSE($CK$14:$CK$65>=$CK16)),$CL$10:$EK$10,1))","v":14.031502093621439},{"$f":"PRODUCT(IF(($CL$13:$EK$13<=DN$13*TRANSPOSE($CK$14:$CK$65>=$CK16)),$CL$10:$EK$10,1))","v":14.881218034432589},{"$f":"PRODUCT(IF(($CL$13:$EK$13<=DO$13*TRANSPOSE($CK$14:$CK$65>=$CK16)),$CL$10:$EK$10,1))","v":15.709021662596191},{"$f":"PRODUCT(IF(($CL$13:$EK$13<=DP$13*TRANSPOSE($CK$14:$CK$65>=$CK16)),$CL$10:$EK$10,1))","v":16.784203685896184},{"$f":"PRODUCT(IF(($CL$13:$EK$13<=DQ$13*TRANSPOSE($CK$14:$CK$65>=$CK16)),$CL$10:$EK$10,1))","v":18.048526142504851},{"$f":"PRODUCT(IF(($CL$13:$EK$13<=DR$13*TRANSPOSE($CK$14:$CK$65>=$CK16)),$CL$10:$EK$10,1))","v":19.751180131576945},{"$f":"PRODUCT(IF(($CL$13:$EK$13<=DS$13*TRANSPOSE($CK$14:$CK$65>=$CK16)),$CL$10:$EK$10,1))","v":25.438964869633118},{"$f":"PRODUCT(IF(($CL$13:$EK$13<=DT$13*TRANSPOSE($CK$14:$CK$65>=$CK16)),$CL$10:$EK$10,1))","v":29.230944919036293},{"$f":"PRODUCT(IF(($CL$13:$EK$13<=DU$13*TRANSPOSE($CK$14:$CK$65>=$CK16)),$CL$10:$EK$10,1))","v":33.586487554431343},{"$f":"PRODUCT(IF(($CL$13:$EK$13<=DV$13*TRANSPOSE($CK$14:$CK$65>=$CK16)),$CL$10:$EK$10,1))","v":38.998169640848801},{"$f":"PRODUCT(IF(($CL$13:$EK$13<=DW$13*TRANSPOSE($CK$14:$CK$65>=$CK16)),$CL$10:$EK$10,1))","v":39.351893921630477},{"$f":"PRODUCT(IF(($CL$13:$EK$13<=DX$13*TRANSPOSE($CK$14:$CK$65>=$CK16)),$CL$10:$EK$10,1))","v":42.976812252540867},{"$f":"PRODUCT(IF(($CL$13:$EK$13<=DY$13*TRANSPOSE($CK$14:$CK$65>=$CK16)),$CL$10:$EK$10,1))","v":50.351488342790567},{"$f":"PRODUCT(IF(($CL$13:$EK$13<=DZ$13*TRANSPOSE($CK$14:$CK$65>=$CK16)),$CL$10:$EK$10,1))","v":59.518423044703567},{"$f":"PRODUCT(IF(($CL$13:$EK$13<=EA$13*TRANSPOSE($CK$14:$CK$65>=$CK16)),$CL$10:$EK$10,1))","v":69.727036979705886},{"$f":"PRODUCT(IF(($CL$13:$EK$13<=EB$13*TRANSPOSE($CK$14:$CK$65>=$CK16)),$CL$10:$EK$10,1))","v":75.345058656417336},{"$f":"PRODUCT(IF(($CL$13:$EK$13<=EC$13*TRANSPOSE($CK$14:$CK$65>=$CK16)),$CL$10:$EK$10,1))","v":76.890710830074326},{"$f":"PRODUCT(IF(($CL$13:$EK$13<=ED$13*TRANSPOSE($CK$14:$CK$65>=$CK16)),$CL$10:$EK$10,1))","v":77.68537743950165},{"$f":"PRODUCT(IF(($CL$13:$EK$13<=EE$13*TRANSPOSE($CK$14:$CK$65>=$CK16)),$CL$10:$EK$10,1))","v":78.351425007222232},{"$f":"PRODUCT(IF(($CL$13:$EK$13<=EF$13*TRANSPOSE($CK$14:$CK$65>=$CK16)),$CL$10:$EK$10,1))","v":81.825459936407611},{"$f":"PRODUCT(IF(($CL$13:$EK$13<=EG$13*TRANSPOSE($CK$14:$CK$65>=$CK16)),$CL$10:$EK$10,1))","v":83.79523253976086},{"$f":"PRODUCT(IF(($CL$13:$EK$13<=EH$13*TRANSPOSE($CK$14:$CK$65>=$CK16)),$CL$10:$EK$10,1))","v":87.061313309932586},{"$f":"PRODUCT(IF(($CL$13:$EK$13<=EI$13*TRANSPOSE($CK$14:$CK$65>=$CK16)),$CL$10:$EK$10,1))","v":94.861685798314952},{"$f":"PRODUCT(IF(($CL$13:$EK$13<=EJ$13*TRANSPOSE($CK$14:$CK$65>=$CK16)),$CL$10:$EK$10,1))","v":108.90603451568195},{"$f":"PRODUCT(IF(($CL$13:$EK$13<=EK$13*TRANSPOSE($CK$14:$CK$65>=$CK16)),$CL$10:$EK$10,1))","v":116.10299371288882}]
[null,null,1976,null,null,null,null,null,null,null,null,null,null,null,null,null,null,null,null,null,null,null,null,null,null,null,null,null,null,null,null,null,null,null,null,null,null,null,null,null,null,null,null,null,null,null,null,null,null,null,null,null,null,null,null,null,1975,0.23522480174940186,0.2806058477233222,0.23204615188906663,{"$f":"PRODUCT($CH14:$CH17)^(1/BI$13)-1","v":0.20038183733809545},null,null,null,null,null,null,null,null,null,null,null,null,null,null,null,null,null,null,null,null,null,null,null,1975,{"$f":"HLOOKUP($W$7,dat,MATCH(CG17,Data!$B$3:$B$60,0),0)+1","v":1.2352248017494019},null,null,1975,{"$f":"PRODUCT(IF(($CL$13:$EK$13<=CL$13*TRANSPOSE($CK$14:$CK$65>=$CK17)),$CL$10:$EK$10,1))","v":1},{"$f":"PRODUCT(IF(($CL$13:$EK$13<=CM$13*TRANSPOSE($CK$14:$CK$65>=$CK17)),$CL$10:$EK$10,1))","v":1},{"$f":"PRODUCT(IF(($CL$13:$EK$13<=CN$13*TRANSPOSE($CK$14:$CK$65>=$CK17)),$CL$10:$EK$10,1))","v":1},{"$f":"PRODUCT(IF(($CL$13:$EK$13<=CO$13*TRANSPOSE($CK$14:$CK$65>=$CK17)),$CL$10:$EK$10,1))","v":1.2352248017494019},{"$f":"PRODUCT(IF(($CL$13:$EK$13<=CP$13*TRANSPOSE($CK$14:$CK$65>=$CK17)),$CL$10:$EK$10,1))","v":1.623122899290588},{"$f":"PRODUCT(IF(($CL$13:$EK$13<=CQ$13*TRANSPOSE($CK$14:$CK$65>=$CK17)),$CL$10:$EK$10,1))","v":2.3109261664344003},{"$f":"PRODUCT(IF(($CL$13:$EK$13<=CR$13*TRANSPOSE($CK$14:$CK$65>=$CK17)),$CL$10:$EK$10,1))","v":2.6854064016763446},{"$f":"PRODUCT(IF(($CL$13:$EK$13<=CS$13*TRANSPOSE($CK$14:$CK$65>=$CK17)),$CL$10:$EK$10,1))","v":3.1890833482708629},{"$f":"PRODUCT(IF(($CL$13:$EK$13<=CT$13*TRANSPOSE($CK$14:$CK$65>=$CK17)),$CL$10:$EK$10,1))","v":3.6427623078263998},{"$f":"PRODUCT(IF(($CL$13:$EK$13<=CU$13*TRANSPOSE($CK$14:$CK$65>=$CK17)),$CL$10:$EK$10,1))","v":4.0629029317730518},{"$f":"PRODUCT(IF(($CL$13:$EK$13<=CV$13*TRANSPOSE($CK$14:$CK$65>=$CK17)),$CL$10:$EK$10,1))","v":3.9618845414020889},{"$f":"PRODUCT(IF(($CL$13:$EK$13<=CW$13*TRANSPOSE($CK$14:$CK$65>=$CK17)),$CL$10:$EK$10,1))","v":3.8103081009748223},{"$f":"PRODUCT(IF(($CL$13:$EK$13<=CX$13*TRANSPOSE($CK$14:$CK$65>=$CK17)),$CL$10:$EK$10,1))","v":4.0385546509769261},{"$f":"PRODUCT(IF(($CL$13:$EK$13<=CY$13*TRANSPOSE($CK$14:$CK$65>=$CK17)),$CL$10:$EK$10,1))","v":3.2975452568164036},{"$f":"PRODUCT(IF(($CL$13:$EK$13<=CZ$13*TRANSPOSE($CK$14:$CK$65>=$CK17)),$CL$10:$EK$10,1))","v":3.167063552441733},{"$f":"PRODUCT(IF(($CL$13:$EK$13<=DA$13*TRANSPOSE($CK$14:$CK$65>=$CK17)),$CL$10:$EK$10,1))","v":3.1397340115405594},{"$f":"PRODUCT(IF(($CL$13:$EK$13<=DB$13*TRANSPOSE($CK$14:$CK$65>=$CK17)),$CL$10:$EK$10,1))","v":3.6263395105682954},{"$f":"PRODUCT(IF(($CL$13:$EK$13<=DC$13*TRANSPOSE($CK$14:$CK$65>=$CK17)),$CL$10:$EK$10,1))","v":4.1946193486754257},{"$f":"PRODUCT(IF(($CL$13:$EK$13<=DD$13*TRANSPOSE($CK$14:$CK$65>=$CK17)),$CL$10:$EK$10,1))","v":4.4752751810771469},{"$f":"PRODUCT(IF(($CL$13:$EK$13<=DE$13*TRANSPOSE($CK$14:$CK$65>=$CK17)),$CL$10:$EK$10,1))","v":4.8992015174490611},{"$f":"PRODUCT(IF(($CL$13:$EK$13<=DF$13*TRANSPOSE($CK$14:$CK$65>=$CK17)),$CL$10:$EK$10,1))","v":5.4284191294427169},{"$f":"PRODUCT(IF(($CL$13:$EK$13<=DG$13*TRANSPOSE($CK$14:$CK$65>=$CK17)),$CL$10:$EK$10,1))","v":5.7647293819316046},{"$f":"PRODUCT(IF(($CL$13:$EK$13<=DH$13*TRANSPOSE($CK$14:$CK$65>=$CK17)),$CL$10:$EK$10,1))","v":6.5197755866029725},{"$f":"PRODUCT(IF(($CL$13:$EK$13<=DI$13*TRANSPOSE($CK$14:$CK$65>=$CK17)),$CL$10:$EK$10,1))","v":7.3910200808436874},{"$f":"PRODUCT(IF(($CL$13:$EK$13<=DJ$13*TRANSPOSE($CK$14:$CK$65>=$CK17)),$CL$10:$EK$10,1))","v":8.0477379785268042},{"$f":"PRODUCT(IF(($CL$13:$EK$13<=DK$13*TRANSPOSE($CK$14:$CK$65>=$CK17)),$CL$10:$EK$10,1))","v":8.7424183113372695},{"$f":"PRODUCT(IF(($CL$13:$EK$13<=DL$13*TRANSPOSE($CK$14:$CK$65>=$CK17)),$CL$10:$EK$10,1))","v":9.7669006474544773},{"$f":"PRODUCT(IF(($CL$13:$EK$13<=DM$13*TRANSPOSE($CK$14:$CK$65>=$CK17)),$CL$10:$EK$10,1))","v":10.56864249471402},{"$f":"PRODUCT(IF(($CL$13:$EK$13<=DN$13*TRANSPOSE($CK$14:$CK$65>=$CK17)),$CL$10:$EK$10,1))","v":11.208655512605738},{"$f":"PRODUCT(IF(($CL$13:$EK$13<=DO$13*TRANSPOSE($CK$14:$CK$65>=$CK17)),$CL$10:$EK$10,1))","v":11.832163996837471},{"$f":"PRODUCT(IF(($CL$13:$EK$13<=DP$13*TRANSPOSE($CK$14:$CK$65>=$CK17)),$CL$10:$EK$10,1))","v":12.641999917837438},{"$f":"PRODUCT(IF(($CL$13:$EK$13<=DQ$13*TRANSPOSE($CK$14:$CK$65>=$CK17)),$CL$10:$EK$10,1))","v":13.594297964958843},{"$f":"PRODUCT(IF(($CL$13:$EK$13<=DR$13*TRANSPOSE($CK$14:$CK$65>=$CK17)),$CL$10:$EK$10,1))","v":14.876750918508403},{"$f":"PRODUCT(IF(($CL$13:$EK$13<=DS$13*TRANSPOSE($CK$14:$CK$65>=$CK17)),$CL$10:$EK$10,1))","v":19.160837047158353},{"$f":"PRODUCT(IF(($CL$13:$EK$13<=DT$13*TRANSPOSE($CK$14:$CK$65>=$CK17)),$CL$10:$EK$10,1))","v":22.016987530679877},{"$f":"PRODUCT(IF(($CL$13:$EK$13<=DU$13*TRANSPOSE($CK$14:$CK$65>=$CK17)),$CL$10:$EK$10,1))","v":25.297617977572699},{"$f":"PRODUCT(IF(($CL$13:$EK$13<=DV$13*TRANSPOSE($CK$14:$CK$65>=$CK17)),$CL$10:$EK$10,1))","v":29.373741323796189},{"$f":"PRODUCT(IF(($CL$13:$EK$13<=DW$13*TRANSPOSE($CK$14:$CK$65>=$CK17)),$CL$10:$EK$10,1))","v":29.640169354119532},{"$f":"PRODUCT(IF(($CL$13:$EK$13<=DX$13*TRANSPOSE($CK$14:$CK$65>=$CK17)),$CL$10:$EK$10,1))","v":32.370487580658008},{"$f":"PRODUCT(IF(($CL$13:$EK$13<=DY$13*TRANSPOSE($CK$14:$CK$65>=$CK17)),$CL$10:$EK$10,1))","v":37.925154115440137},{"$f":"PRODUCT(IF(($CL$13:$EK$13<=DZ$13*TRANSPOSE($CK$14:$CK$65>=$CK17)),$CL$10:$EK$10,1))","v":44.829764540645272},{"$f":"PRODUCT(IF(($CL$13:$EK$13<=EA$13*TRANSPOSE($CK$14:$CK$65>=$CK17)),$CL$10:$EK$10,1))","v":52.518976310398799},{"$f":"PRODUCT(IF(($CL$13:$EK$13<=EB$13*TRANSPOSE($CK$14:$CK$65>=$CK17)),$CL$10:$EK$10,1))","v":56.750516328891067},{"$f":"PRODUCT(IF(($CL$13:$EK$13<=EC$13*TRANSPOSE($CK$14:$CK$65>=$CK17)),$CL$10:$EK$10,1))","v":57.914714226989538},{"$f":"PRODUCT(IF(($CL$13:$EK$13<=ED$13*TRANSPOSE($CK$14:$CK$65>=$CK17)),$CL$10:$EK$10,1))","v":58.513263636845082},{"$f":"PRODUCT(IF(($CL$13:$EK$13<=EE$13*TRANSPOSE($CK$14:$CK$65>=$CK17)),$CL$10:$EK$10,1))","v":59.014936129265735},{"$f":"PRODUCT(IF(($CL$13:$EK$13<=EF$13*TRANSPOSE($CK$14:$CK$65>=$CK17)),$CL$10:$EK$10,1))","v":61.631607739741426},{"$f":"PRODUCT(IF(($CL$13:$EK$13<=EG$13*TRANSPOSE($CK$14:$CK$65>=$CK17)),$CL$10:$EK$10,1))","v":63.11525662507254},{"$f":"PRODUCT(IF(($CL$13:$EK$13<=EH$13*TRANSPOSE($CK$14:$CK$65>=$CK17)),$CL$10:$EK$10,1))","v":65.575295456873491},{"$f":"PRODUCT(IF(($CL$13:$EK$13<=EI$13*TRANSPOSE($CK$14:$CK$65>=$CK17)),$CL$10:$EK$10,1))","v":71.450600011244191},{"$f":"PRODUCT(IF(($CL$13:$EK$13<=EJ$13*TRANSPOSE($CK$14:$CK$65>=$CK17)),$CL$10:$EK$10,1))","v":82.02891868836015},{"$f":"PRODUCT(IF(($CL$13:$EK$13<=EK$13*TRANSPOSE($CK$14:$CK$65>=$CK17)),$CL$10:$EK$10,1))","v":87.449727401270522}]
[null,null,1977,null,null,null,null,null,null,null,null,null,null,null,null,null,null,null,null,null,null,null,null,null,null,null,null,null,null,null,null,null,null,null,null,null,null,null,null,null,null,null,null,null,null,null,null,null,null,null,null,null,null,null,null,null,1976,0.31403036677357909,0.27401840618202522,0.29165180248147227,0.25204974148866133,{"$f":"PRODUCT($CH14:$CH18)^(1/BJ$13)-1","v":0.22229662567776831},null,null,null,null,null,null,null,null,null,null,null,null,null,null,null,null,null,null,null,null,null,null,1976,{"$f":"HLOOKUP($W$7,dat,MATCH(CG18,Data!$B$3:$B$60,0),0)+1","v":1.3140303667735791},null,null,1976,{"$f":"PRODUCT(IF(($CL$13:$EK$13<=CL$13*TRANSPOSE($CK$14:$CK$65>=$CK18)),$CL$10:$EK$10,1))","v":1},{"$f":"PRODUCT(IF(($CL$13:$EK$13<=CM$13*TRANSPOSE($CK$14:$CK$65>=$CK18)),$CL$10:$EK$10,1))","v":1},{"$f":"PRODUCT(IF(($CL$13:$EK$13<=CN$13*TRANSPOSE($CK$14:$CK$65>=$CK18)),$CL$10:$EK$10,1))","v":1},{"$f":"PRODUCT(IF(($CL$13:$EK$13<=CO$13*TRANSPOSE($CK$14:$CK$65>=$CK18)),$CL$10:$EK$10,1))","v":1},{"$f":"PRODUCT(IF(($CL$13:$EK$13<=CP$13*TRANSPOSE($CK$14:$CK$65>=$CK18)),$CL$10:$EK$10,1))","v":1.3140303667735791},{"$f":"PRODUCT(IF(($CL$13:$EK$13<=CQ$13*TRANSPOSE($CK$14:$CK$65>=$CK18)),$CL$10:$EK$10,1))","v":1.870854732807764},{"$f":"PRODUCT(IF(($CL$13:$EK$13<=CR$13*TRANSPOSE($CK$14:$CK$65>=$CK18)),$CL$10:$EK$10,1))","v":2.1740224110405699},{"$f":"PRODUCT(IF(($CL$13:$EK$13<=CS$13*TRANSPOSE($CK$14:$CK$65>=$CK18)),$CL$10:$EK$10,1))","v":2.5817837722771477},{"$f":"PRODUCT(IF(($CL$13:$EK$13<=CT$13*TRANSPOSE($CK$14:$CK$65>=$CK18)),$CL$10:$EK$10,1))","v":2.9490683013062027},{"$f":"PRODUCT(IF(($CL$13:$EK$13<=CU$13*TRANSPOSE($CK$14:$CK$65>=$CK18)),$CL$10:$EK$10,1))","v":3.2892012255736094},{"$f":"PRODUCT(IF(($CL$13:$EK$13<=CV$13*TRANSPOSE($CK$14:$CK$65>=$CK18)),$CL$10:$EK$10,1))","v":3.2074198443805715},{"$f":"PRODUCT(IF(($CL$13:$EK$13<=CW$13*TRANSPOSE($CK$14:$CK$65>=$CK18)),$CL$10:$EK$10,1))","v":3.0847082211905295},{"$f":"PRODUCT(IF(($CL$13:$EK$13<=CX$13*TRANSPOSE($CK$14:$CK$65>=$CK18)),$CL$10:$EK$10,1))","v":3.2694896064726633},{"$f":"PRODUCT(IF(($CL$13:$EK$13<=CY$13*TRANSPOSE($CK$14:$CK$65>=$CK18)),$CL$10:$EK$10,1))","v":2.6695911967977128},{"$f":"PRODUCT(IF(($CL$13:$EK$13<=CZ$13*TRANSPOSE($CK$14:$CK$65>=$CK18)),$CL$10:$EK$10,1))","v":2.5639572229737784},{"$f":"PRODUCT(IF(($CL$13:$EK$13<=DA$13*TRANSPOSE($CK$14:$CK$65>=$CK18)),$CL$10:$EK$10,1))","v":2.5418320674049557},{"$f":"PRODUCT(IF(($CL$13:$EK$13<=DB$13*TRANSPOSE($CK$14:$CK$65>=$CK18)),$CL$10:$EK$10,1))","v":2.9357729098642187},{"$f":"PRODUCT(IF(($CL$13:$EK$13<=DC$13*TRANSPOSE($CK$14:$CK$65>=$CK18)),$CL$10:$EK$10,1))","v":3.3958347846762345},{"$f":"PRODUCT(IF(($CL$13:$EK$13<=DD$13*TRANSPOSE($CK$14:$CK$65>=$CK18)),$CL$10:$EK$10,1))","v":3.6230451127106447},{"$f":"PRODUCT(IF(($CL$13:$EK$13<=DE$13*TRANSPOSE($CK$14:$CK$65>=$CK18)),$CL$10:$EK$10,1))","v":3.9662428332968274},{"$f":"PRODUCT(IF(($CL$13:$EK$13<=DF$13*TRANSPOSE($CK$14:$CK$65>=$CK18)),$CL$10:$EK$10,1))","v":4.3946811315273555},{"$f":"PRODUCT(IF(($CL$13:$EK$13<=DG$13*TRANSPOSE($CK$14:$CK$65>=$CK18)),$CL$10:$EK$10,1))","v":4.6669475659549873},{"$f":"PRODUCT(IF(($CL$13:$EK$13<=DH$13*TRANSPOSE($CK$14:$CK$65>=$CK18)),$CL$10:$EK$10,1))","v":5.2782097456019832},{"$f":"PRODUCT(IF(($CL$13:$EK$13<=DI$13*TRANSPOSE($CK$14:$CK$65>=$CK18)),$CL$10:$EK$10,1))","v":5.9835424858504016},{"$f":"PRODUCT(IF(($CL$13:$EK$13<=DJ$13*TRANSPOSE($CK$14:$CK$65>=$CK18)),$CL$10:$EK$10,1))","v":6.5152010930553672},{"$f":"PRODUCT(IF(($CL$13:$EK$13<=DK$13*TRANSPOSE($CK$14:$CK$65>=$CK18)),$CL$10:$EK$10,1))","v":7.0775929198925676},{"$f":"PRODUCT(IF(($CL$13:$EK$13<=DL$13*TRANSPOSE($CK$14:$CK$65>=$CK18)),$CL$10:$EK$10,1))","v":7.9069823028342583},{"$f":"PRODUCT(IF(($CL$13:$EK$13<=DM$13*TRANSPOSE($CK$14:$CK$65>=$CK18)),$CL$10:$EK$10,1))","v":8.5560478382121641},{"$f":"PRODUCT(IF(($CL$13:$EK$13<=DN$13*TRANSPOSE($CK$14:$CK$65>=$CK18)),$CL$10:$EK$10,1))","v":9.0741826886339592},{"$f":"PRODUCT(IF(($CL$13:$EK$13<=DO$13*TRANSPOSE($CK$14:$CK$65>=$CK18)),$CL$10:$EK$10,1))","v":9.5789559763372836},{"$f":"PRODUCT(IF(($CL$13:$EK$13<=DP$13*TRANSPOSE($CK$14:$CK$65>=$CK18)),$CL$10:$EK$10,1))","v":10.23457422481564},{"$f":"PRODUCT(IF(($CL$13:$EK$13<=DQ$13*TRANSPOSE($CK$14:$CK$65>=$CK18)),$CL$10:$EK$10,1))","v":11.005525428007724},{"$f":"PRODUCT(IF(($CL$13:$EK$13<=DR$13*TRANSPOSE($CK$14:$CK$65>=$CK18)),$CL$10:$EK$10,1))","v":12.043759886814955},{"$f":"PRODUCT(IF(($CL$13:$EK$13<=DS$13*TRANSPOSE($CK$14:$CK$65>=$CK18)),$CL$10:$EK$10,1))","v":15.512024224272039},{"$f":"PRODUCT(IF(($CL$13:$EK$13<=DT$13*TRANSPOSE($CK$14:$CK$65>=$CK18)),$CL$10:$EK$10,1))","v":17.824275791336163},{"$f":"PRODUCT(IF(($CL$13:$EK$13<=DU$13*TRANSPOSE($CK$14:$CK$65>=$CK18)),$CL$10:$EK$10,1))","v":20.480173278373815},{"$f":"PRODUCT(IF(($CL$13:$EK$13<=DV$13*TRANSPOSE($CK$14:$CK$65>=$CK18)),$CL$10:$EK$10,1))","v":23.78007734478394},{"$f":"PRODUCT(IF(($CL$13:$EK$13<=DW$13*TRANSPOSE($CK$14:$CK$65>=$CK18)),$CL$10:$EK$10,1))","v":23.995769281948746},{"$f":"PRODUCT(IF(($CL$13:$EK$13<=DX$13*TRANSPOSE($CK$14:$CK$65>=$CK18)),$CL$10:$EK$10,1))","v":26.206150924765204},{"$f":"PRODUCT(IF(($CL$13:$EK$13<=DY$13*TRANSPOSE($CK$14:$CK$65>=$CK18)),$CL$10:$EK$10,1))","v":30.70303807187824},{"$f":"PRODUCT(IF(($CL$13:$EK$13<=DZ$13*TRANSPOSE($CK$14:$CK$65>=$CK18)),$CL$10:$EK$10,1))","v":36.292798264052493},{"$f":"PRODUCT(IF(($CL$13:$EK$13<=EA$13*TRANSPOSE($CK$14:$CK$65>=$CK18)),$CL$10:$EK$10,1))","v":42.517747567906817},{"$f":"PRODUCT(IF(($CL$13:$EK$13<=EB$13*TRANSPOSE($CK$14:$CK$65>=$CK18)),$CL$10:$EK$10,1))","v":45.943472191067961},{"$f":"PRODUCT(IF(($CL$13:$EK$13<=EC$13*TRANSPOSE($CK$14:$CK$65>=$CK18)),$CL$10:$EK$10,1))","v":46.885970994888659},{"$f":"PRODUCT(IF(($CL$13:$EK$13<=ED$13*TRANSPOSE($CK$14:$CK$65>=$CK18)),$CL$10:$EK$10,1))","v":47.370538183798601},{"$f":"PRODUCT(IF(($CL$13:$EK$13<=EE$13*TRANSPOSE($CK$14:$CK$65>=$CK18)),$CL$10:$EK$10,1))","v":47.776676800599489},{"$f":"PRODUCT(IF(($CL$13:$EK$13<=EF$13*TRANSPOSE($CK$14:$CK$65>=$CK18)),$CL$10:$EK$10,1))","v":49.895053639187736},{"$f":"PRODUCT(IF(($CL$13:$EK$13<=EG$13*TRANSPOSE($CK$14:$CK$65>=$CK18)),$CL$10:$EK$10,1))","v":51.096170134929956},{"$f":"PRODUCT(IF(($CL$13:$EK$13<=EH$13*TRANSPOSE($CK$14:$CK$65>=$CK18)),$CL$10:$EK$10,1))","v":53.087741894432277},{"$f":"PRODUCT(IF(($CL$13:$EK$13<=EI$13*TRANSPOSE($CK$14:$CK$65>=$CK18)),$CL$10:$EK$10,1))","v":57.844207718345245},{"$f":"PRODUCT(IF(($CL$13:$EK$13<=EJ$13*TRANSPOSE($CK$14:$CK$65>=$CK18)),$CL$10:$EK$10,1))","v":66.408089096159458},{"$f":"PRODUCT(IF(($CL$13:$EK$13<=EK$13*TRANSPOSE($CK$14:$CK$65>=$CK18)),$CL$10:$EK$10,1))","v":70.79660906858318}]
[null,null,1978,null,null,null,null,null,null,null,null,null,null,null,null,null,null,null,null,null,null,null,null,null,null,null,null,null,null,null,null,null,null,null,null,null,null,null,null,null,null,null,null,null,null,null,null,null,null,null,null,null,null,null,null,null,1977,0.4237530426343119,0.36779191868052941,0.32209305345287786,0.32348114060268673,0.28464816047319275,{"$f":"PRODUCT($CH14:$CH19)^(1/BK$13)-1","v":0.25377504534586426},null,null,null,null,null,null,null,null,null,null,null,null,null,null,null,null,null,null,null,null,null,1977,{"$f":"HLOOKUP($W$7,dat,MATCH(CG19,Data!$B$3:$B$60,0),0)+1","v":1.4237530426343119},null,null,1977,{"$f":"PRODUCT(IF(($CL$13:$EK$13<=CL$13*TRANSPOSE($CK$14:$CK$65>=$CK19)),$CL$10:$EK$10,1))","v":1},{"$f":"PRODUCT(IF(($CL$13:$EK$13<=CM$13*TRANSPOSE($CK$14:$CK$65>=$CK19)),$CL$10:$EK$10,1))","v":1},{"$f":"PRODUCT(IF(($CL$13:$EK$13<=CN$13*TRANSPOSE($CK$14:$CK$65>=$CK19)),$CL$10:$EK$10,1))","v":1},{"$f":"PRODUCT(IF(($CL$13:$EK$13<=CO$13*TRANSPOSE($CK$14:$CK$65>=$CK19)),$CL$10:$EK$10,1))","v":1},{"$f":"PRODUCT(IF(($CL$13:$EK$13<=CP$13*TRANSPOSE($CK$14:$CK$65>=$CK19)),$CL$10:$EK$10,1))","v":1},{"$f":"PRODUCT(IF(($CL$13:$EK$13<=CQ$13*TRANSPOSE($CK$14:$CK$65>=$CK19)),$CL$10:$EK$10,1))","v":1.4237530426343119},{"$f":"PRODUCT(IF(($CL$13:$EK$13<=CR$13*TRANSPOSE($CK$14:$CK$65>=$CK19)),$CL$10:$EK$10,1))","v":1.6544689270603261},{"$f":"PRODUCT(IF(($CL$13:$EK$13<=CS$13*TRANSPOSE($CK$14:$CK$65>=$CK19)),$CL$10:$EK$10,1))","v":1.9647824263120823},{"$f":"PRODUCT(IF(($CL$13:$EK$13<=CT$13*TRANSPOSE($CK$14:$CK$65>=$CK19)),$CL$10:$EK$10,1))","v":2.2442923511328243},{"$f":"PRODUCT(IF(($CL$13:$EK$13<=CU$13*TRANSPOSE($CK$14:$CK$65>=$CK19)),$CL$10:$EK$10,1))","v":2.5031394317391551},{"$f":"PRODUCT(IF(($CL$13:$EK$13<=CV$13*TRANSPOSE($CK$14:$CK$65>=$CK19)),$CL$10:$EK$10,1))","v":2.440902375989948},{"$f":"PRODUCT(IF(($CL$13:$EK$13<=CW$13*TRANSPOSE($CK$14:$CK$65>=$CK19)),$CL$10:$EK$10,1))","v":2.3475166930613689},{"$f":"PRODUCT(IF(($CL$13:$EK$13<=CX$13*TRANSPOSE($CK$14:$CK$65>=$CK19)),$CL$10:$EK$10,1))","v":2.4881385462197851},{"$f":"PRODUCT(IF(($CL$13:$EK$13<=CY$13*TRANSPOSE($CK$14:$CK$65>=$CK19)),$CL$10:$EK$10,1))","v":2.0316054060093967},{"$f":"PRODUCT(IF(($CL$13:$EK$13<=CZ$13*TRANSPOSE($CK$14:$CK$65>=$CK19)),$CL$10:$EK$10,1))","v":1.9512161117472679},{"$f":"PRODUCT(IF(($CL$13:$EK$13<=DA$13*TRANSPOSE($CK$14:$CK$65>=$CK19)),$CL$10:$EK$10,1))","v":1.9343784829311639},{"$f":"PRODUCT(IF(($CL$13:$EK$13<=DB$13*TRANSPOSE($CK$14:$CK$65>=$CK19)),$CL$10:$EK$10,1))","v":2.2341743266349368},{"$f":"PRODUCT(IF(($CL$13:$EK$13<=DC$13*TRANSPOSE($CK$14:$CK$65>=$CK19)),$CL$10:$EK$10,1))","v":2.5842894278115058},{"$f":"PRODUCT(IF(($CL$13:$EK$13<=DD$13*TRANSPOSE($CK$14:$CK$65>=$CK19)),$CL$10:$EK$10,1))","v":2.757200445531967},{"$f":"PRODUCT(IF(($CL$13:$EK$13<=DE$13*TRANSPOSE($CK$14:$CK$65>=$CK19)),$CL$10:$EK$10,1))","v":3.0183798895267491},{"$f":"PRODUCT(IF(($CL$13:$EK$13<=DF$13*TRANSPOSE($CK$14:$CK$65>=$CK19)),$CL$10:$EK$10,1))","v":3.3444288980306394},{"$f":"PRODUCT(IF(($CL$13:$EK$13<=DG$13*TRANSPOSE($CK$14:$CK$65>=$CK19)),$CL$10:$EK$10,1))","v":3.5516283976100476},{"$f":"PRODUCT(IF(($CL$13:$EK$13<=DH$13*TRANSPOSE($CK$14:$CK$65>=$CK19)),$CL$10:$EK$10,1))","v":4.0168095647301554},{"$f":"PRODUCT(IF(($CL$13:$EK$13<=DI$13*TRANSPOSE($CK$14:$CK$65>=$CK19)),$CL$10:$EK$10,1))","v":4.5535800672112101},{"$f":"PRODUCT(IF(($CL$13:$EK$13<=DJ$13*TRANSPOSE($CK$14:$CK$65>=$CK19)),$CL$10:$EK$10,1))","v":4.9581815289798454},{"$f":"PRODUCT(IF(($CL$13:$EK$13<=DK$13*TRANSPOSE($CK$14:$CK$65>=$CK19)),$CL$10:$EK$10,1))","v":5.3861715062724382},{"$f":"PRODUCT(IF(($CL$13:$EK$13<=DL$13*TRANSPOSE($CK$14:$CK$65>=$CK19)),$CL$10:$EK$10,1))","v":6.0173512749547573},{"$f":"PRODUCT(IF(($CL$13:$EK$13<=DM$13*TRANSPOSE($CK$14:$CK$65>=$CK19)),$CL$10:$EK$10,1))","v":6.5113014543342471},{"$f":"PRODUCT(IF(($CL$13:$EK$13<=DN$13*TRANSPOSE($CK$14:$CK$65>=$CK19)),$CL$10:$EK$10,1))","v":6.9056111016021449},{"$f":"PRODUCT(IF(($CL$13:$EK$13<=DO$13*TRANSPOSE($CK$14:$CK$65>=$CK19)),$CL$10:$EK$10,1))","v":7.2897523668780195},{"$f":"PRODUCT(IF(($CL$13:$EK$13<=DP$13*TRANSPOSE($CK$14:$CK$65>=$CK19)),$CL$10:$EK$10,1))","v":7.7886892750775898},{"$f":"PRODUCT(IF(($CL$13:$EK$13<=DQ$13*TRANSPOSE($CK$14:$CK$65>=$CK19)),$CL$10:$EK$10,1))","v":8.375396570956184},{"$f":"PRODUCT(IF(($CL$13:$EK$13<=DR$13*TRANSPOSE($CK$14:$CK$65>=$CK19)),$CL$10:$EK$10,1))","v":9.1655110805291056},{"$f":"PRODUCT(IF(($CL$13:$EK$13<=DS$13*TRANSPOSE($CK$14:$CK$65>=$CK19)),$CL$10:$EK$10,1))","v":11.804920659755904},{"$f":"PRODUCT(IF(($CL$13:$EK$13<=DT$13*TRANSPOSE($CK$14:$CK$65>=$CK19)),$CL$10:$EK$10,1))","v":13.564584382552159},{"$f":"PRODUCT(IF(($CL$13:$EK$13<=DU$13*TRANSPOSE($CK$14:$CK$65>=$CK19)),$CL$10:$EK$10,1))","v":15.585768636884763},{"$f":"PRODUCT(IF(($CL$13:$EK$13<=DV$13*TRANSPOSE($CK$14:$CK$65>=$CK19)),$CL$10:$EK$10,1))","v":18.097053116947873},{"$f":"PRODUCT(IF(($CL$13:$EK$13<=DW$13*TRANSPOSE($CK$14:$CK$65>=$CK19)),$CL$10:$EK$10,1))","v":18.261198438562019},{"$f":"PRODUCT(IF(($CL$13:$EK$13<=DX$13*TRANSPOSE($CK$14:$CK$65>=$CK19)),$CL$10:$EK$10,1))","v":19.943337374394794},{"$f":"PRODUCT(IF(($CL$13:$EK$13<=DY$13*TRANSPOSE($CK$14:$CK$65>=$CK19)),$CL$10:$EK$10,1))","v":23.365546830751974},{"$f":"PRODUCT(IF(($CL$13:$EK$13<=DZ$13*TRANSPOSE($CK$14:$CK$65>=$CK19)),$CL$10:$EK$10,1))","v":27.619451712645336},{"$f":"PRODUCT(IF(($CL$13:$EK$13<=EA$13*TRANSPOSE($CK$14:$CK$65>=$CK19)),$CL$10:$EK$10,1))","v":32.356746573751806},{"$f":"PRODUCT(IF(($CL$13:$EK$13<=EB$13*TRANSPOSE($CK$14:$CK$65>=$CK19)),$CL$10:$EK$10,1))","v":34.963782689342153},{"$f":"PRODUCT(IF(($CL$13:$EK$13<=EC$13*TRANSPOSE($CK$14:$CK$65>=$CK19)),$CL$10:$EK$10,1))","v":35.681040697720512},{"$f":"PRODUCT(IF(($CL$13:$EK$13<=ED$13*TRANSPOSE($CK$14:$CK$65>=$CK19)),$CL$10:$EK$10,1))","v":36.049804769817058},{"$f":"PRODUCT(IF(($CL$13:$EK$13<=EE$13*TRANSPOSE($CK$14:$CK$65>=$CK19)),$CL$10:$EK$10,1))","v":36.358883332284456},{"$f":"PRODUCT(IF(($CL$13:$EK$13<=EF$13*TRANSPOSE($CK$14:$CK$65>=$CK19)),$CL$10:$EK$10,1))","v":37.97100500934252},{"$f":"PRODUCT(IF(($CL$13:$EK$13<=EG$13*TRANSPOSE($CK$14:$CK$65>=$CK19)),$CL$10:$EK$10,1))","v":38.885075586487091},{"$f":"PRODUCT(IF(($CL$13:$EK$13<=EH$13*TRANSPOSE($CK$14:$CK$65>=$CK19)),$CL$10:$EK$10,1))","v":40.400696389370324},{"$f":"PRODUCT(IF(($CL$13:$EK$13<=EI$13*TRANSPOSE($CK$14:$CK$65>=$CK19)),$CL$10:$EK$10,1))","v":44.020449740726903},{"$f":"PRODUCT(IF(($CL$13:$EK$13<=EJ$13*TRANSPOSE($CK$14:$CK$65>=$CK19)),$CL$10:$EK$10,1))","v":50.537712655161407},{"$f":"PRODUCT(IF(($CL$13:$EK$13<=EK$13*TRANSPOSE($CK$14:$CK$65>=$CK19)),$CL$10:$EK$10,1))","v":53.877452803784557}]
[null,null,1979,null,null,null,null,null,null,null,null,null,null,null,null,null,null,null,null,null,null,null,null,null,null,null,null,null,null,null,null,null,null,null,null,null,null,null,null,null,null,null,null,null,null,null,null,null,null,null,null,null,null,null,null,null,1978,0.16204768489844978,0.28626160910614384,0.29545203899568184,0.2801253708783904,0.28949301984884368,0.26335137614262916,{"$f":"PRODUCT($CH14:$CH20)^(1/BL$13)-1","v":0.24024062866479357},null,null,null,null,null,null,null,null,null,null,null,null,null,null,null,null,null,null,null,null,1978,{"$f":"HLOOKUP($W$7,dat,MATCH(CG20,Data!$B$3:$B$60,0),0)+1","v":1.1620476848984498},null,null,1978,{"$f":"PRODUCT(IF(($CL$13:$EK$13<=CL$13*TRANSPOSE($CK$14:$CK$65>=$CK20)),$CL$10:$EK$10,1))","v":1},{"$f":"PRODUCT(IF(($CL$13:$EK$13<=CM$13*TRANSPOSE($CK$14:$CK$65>=$CK20)),$CL$10:$EK$10,1))","v":1},{"$f":"PRODUCT(IF(($CL$13:$EK$13<=CN$13*TRANSPOSE($CK$14:$CK$65>=$CK20)),$CL$10:$EK$10,1))","v":1},{"$f":"PRODUCT(IF(($CL$13:$EK$13<=CO$13*TRANSPOSE($CK$14:$CK$65>=$CK20)),$CL$10:$EK$10,1))","v":1},{"$f":"PRODUCT(IF(($CL$13:$EK$13<=CP$13*TRANSPOSE($CK$14:$CK$65>=$CK20)),$CL$10:$EK$10,1))","v":1},{"$f":"PRODUCT(IF(($CL$13:$EK$13<=CQ$13*TRANSPOSE($CK$14:$CK$65>=$CK20)),$CL$10:$EK$10,1))","v":1},{"$f":"PRODUCT(IF(($CL$13:$EK$13<=CR$13*TRANSPOSE($CK$14:$CK$65>=$CK20)),$CL$10:$EK$10,1))","v":1.1620476848984498},{"$f":"PRODUCT(IF(($CL$13:$EK$13<=CS$13*TRANSPOSE($CK$14:$CK$65>=$CK20)),$CL$10:$EK$10,1))","v":1.3800022668796028},{"$f":"PRODUCT(IF(($CL$13:$EK$13<=CT$13*TRANSPOSE($CK$14:$CK$65>=$CK20)),$CL$10:$EK$10,1))","v":1.5763213731085708},{"$f":"PRODUCT(IF(($CL$13:$EK$13<=CU$13*TRANSPOSE($CK$14:$CK$65>=$CK20)),$CL$10:$EK$10,1))","v":1.7581275381211467},{"$f":"PRODUCT(IF(($CL$13:$EK$13<=CV$13*TRANSPOSE($CK$14:$CK$65>=$CK20)),$CL$10:$EK$10,1))","v":1.7144141595466909},{"$f":"PRODUCT(IF(($CL$13:$EK$13<=CW$13*TRANSPOSE($CK$14:$CK$65>=$CK20)),$CL$10:$EK$10,1))","v":1.6488229508664332},{"$f":"PRODUCT(IF(($CL$13:$EK$13<=CX$13*TRANSPOSE($CK$14:$CK$65>=$CK20)),$CL$10:$EK$10,1))","v":1.7475913811682426},{"$f":"PRODUCT(IF(($CL$13:$EK$13<=CY$13*TRANSPOSE($CK$14:$CK$65>=$CK20)),$CL$10:$EK$10,1))","v":1.4269366562689834},{"$f":"PRODUCT(IF(($CL$13:$EK$13<=CZ$13*TRANSPOSE($CK$14:$CK$65>=$CK20)),$CL$10:$EK$10,1))","v":1.3704737080926706},{"$f":"PRODUCT(IF(($CL$13:$EK$13<=DA$13*TRANSPOSE($CK$14:$CK$65>=$CK20)),$CL$10:$EK$10,1))","v":1.3586474795882173},{"$f":"PRODUCT(IF(($CL$13:$EK$13<=DB$13*TRANSPOSE($CK$14:$CK$65>=$CK20)),$CL$10:$EK$10,1))","v":1.5692147863657135},{"$f":"PRODUCT(IF(($CL$13:$EK$13<=DC$13*TRANSPOSE($CK$14:$CK$65>=$CK20)),$CL$10:$EK$10,1))","v":1.8151247796667749},{"$f":"PRODUCT(IF(($CL$13:$EK$13<=DD$13*TRANSPOSE($CK$14:$CK$65>=$CK20)),$CL$10:$EK$10,1))","v":1.9365721181746742},{"$f":"PRODUCT(IF(($CL$13:$EK$13<=DE$13*TRANSPOSE($CK$14:$CK$65>=$CK20)),$CL$10:$EK$10,1))","v":2.1200164629267193},{"$f":"PRODUCT(IF(($CL$13:$EK$13<=DF$13*TRANSPOSE($CK$14:$CK$65>=$CK20)),$CL$10:$EK$10,1))","v":2.3490231787969202},{"$f":"PRODUCT(IF(($CL$13:$EK$13<=DG$13*TRANSPOSE($CK$14:$CK$65>=$CK20)),$CL$10:$EK$10,1))","v":2.4945536840002913},{"$f":"PRODUCT(IF(($CL$13:$EK$13<=DH$13*TRANSPOSE($CK$14:$CK$65>=$CK20)),$CL$10:$EK$10,1))","v":2.8212825149072311},{"$f":"PRODUCT(IF(($CL$13:$EK$13<=DI$13*TRANSPOSE($CK$14:$CK$65>=$CK20)),$CL$10:$EK$10,1))","v":3.198293475661977},{"$f":"PRODUCT(IF(($CL$13:$EK$13<=DJ$13*TRANSPOSE($CK$14:$CK$65>=$CK20)),$CL$10:$EK$10,1))","v":3.4824729995350339},{"$f":"PRODUCT(IF(($CL$13:$EK$13<=DK$13*TRANSPOSE($CK$14:$CK$65>=$CK20)),$CL$10:$EK$10,1))","v":3.7830798916549622},{"$f":"PRODUCT(IF(($CL$13:$EK$13<=DL$13*TRANSPOSE($CK$14:$CK$65>=$CK20)),$CL$10:$EK$10,1))","v":4.2264009942490421},{"$f":"PRODUCT(IF(($CL$13:$EK$13<=DM$13*TRANSPOSE($CK$14:$CK$65>=$CK20)),$CL$10:$EK$10,1))","v":4.5733362875113857},{"$f":"PRODUCT(IF(($CL$13:$EK$13<=DN$13*TRANSPOSE($CK$14:$CK$65>=$CK20)),$CL$10:$EK$10,1))","v":4.8502871599311712},{"$f":"PRODUCT(IF(($CL$13:$EK$13<=DO$13*TRANSPOSE($CK$14:$CK$65>=$CK20)),$CL$10:$EK$10,1))","v":5.1200960760653302},{"$f":"PRODUCT(IF(($CL$13:$EK$13<=DP$13*TRANSPOSE($CK$14:$CK$65>=$CK20)),$CL$10:$EK$10,1))","v":5.4705338930594962},{"$f":"PRODUCT(IF(($CL$13:$EK$13<=DQ$13*TRANSPOSE($CK$14:$CK$65>=$CK20)),$CL$10:$EK$10,1))","v":5.882618909427948},{"$f":"PRODUCT(IF(($CL$13:$EK$13<=DR$13*TRANSPOSE($CK$14:$CK$65>=$CK20)),$CL$10:$EK$10,1))","v":6.4375708469570885},{"$f":"PRODUCT(IF(($CL$13:$EK$13<=DS$13*TRANSPOSE($CK$14:$CK$65>=$CK20)),$CL$10:$EK$10,1))","v":8.2914103122222187},{"$f":"PRODUCT(IF(($CL$13:$EK$13<=DT$13*TRANSPOSE($CK$14:$CK$65>=$CK20)),$CL$10:$EK$10,1))","v":9.5273435605476582},{"$f":"PRODUCT(IF(($CL$13:$EK$13<=DU$13*TRANSPOSE($CK$14:$CK$65>=$CK20)),$CL$10:$EK$10,1))","v":10.946960722940434},{"$f":"PRODUCT(IF(($CL$13:$EK$13<=DV$13*TRANSPOSE($CK$14:$CK$65>=$CK20)),$CL$10:$EK$10,1))","v":12.71080909050324},{"$f":"PRODUCT(IF(($CL$13:$EK$13<=DW$13*TRANSPOSE($CK$14:$CK$65>=$CK20)),$CL$10:$EK$10,1))","v":12.826099675807582},{"$f":"PRODUCT(IF(($CL$13:$EK$13<=DX$13*TRANSPOSE($CK$14:$CK$65>=$CK20)),$CL$10:$EK$10,1))","v":14.007581917081939},{"$f":"PRODUCT(IF(($CL$13:$EK$13<=DY$13*TRANSPOSE($CK$14:$CK$65>=$CK20)),$CL$10:$EK$10,1))","v":16.411235748806298},{"$f":"PRODUCT(IF(($CL$13:$EK$13<=DZ$13*TRANSPOSE($CK$14:$CK$65>=$CK20)),$CL$10:$EK$10,1))","v":19.399046664400576},{"$f":"PRODUCT(IF(($CL$13:$EK$13<=EA$13*TRANSPOSE($CK$14:$CK$65>=$CK20)),$CL$10:$EK$10,1))","v":22.726375716032482},{"$f":"PRODUCT(IF(($CL$13:$EK$13<=EB$13*TRANSPOSE($CK$14:$CK$65>=$CK20)),$CL$10:$EK$10,1))","v":24.557477064034977},{"$f":"PRODUCT(IF(($CL$13:$EK$13<=EC$13*TRANSPOSE($CK$14:$CK$65>=$CK20)),$CL$10:$EK$10,1))","v":25.061256853717634},{"$f":"PRODUCT(IF(($CL$13:$EK$13<=ED$13*TRANSPOSE($CK$14:$CK$65>=$CK20)),$CL$10:$EK$10,1))","v":25.320265306064282},{"$f":"PRODUCT(IF(($CL$13:$EK$13<=EE$13*TRANSPOSE($CK$14:$CK$65>=$CK20)),$CL$10:$EK$10,1))","v":25.537352506731839},{"$f":"PRODUCT(IF(($CL$13:$EK$13<=EF$13*TRANSPOSE($CK$14:$CK$65>=$CK20)),$CL$10:$EK$10,1))","v":26.669656796017307},{"$f":"PRODUCT(IF(($CL$13:$EK$13<=EG$13*TRANSPOSE($CK$14:$CK$65>=$CK20)),$CL$10:$EK$10,1))","v":27.311671632700854},{"$f":"PRODUCT(IF(($CL$13:$EK$13<=EH$13*TRANSPOSE($CK$14:$CK$65>=$CK20)),$CL$10:$EK$10,1))","v":28.376196699547375},{"$f":"PRODUCT(IF(($CL$13:$EK$13<=EI$13*TRANSPOSE($CK$14:$CK$65>=$CK20)),$CL$10:$EK$10,1))","v":30.918599239147284},{"$f":"PRODUCT(IF(($CL$13:$EK$13<=EJ$13*TRANSPOSE($CK$14:$CK$65>=$CK20)),$CL$10:$EK$10,1))","v":35.496122671424466},{"$f":"PRODUCT(IF(($CL$13:$EK$13<=EK$13*TRANSPOSE($CK$14:$CK$65>=$CK20)),$CL$10:$EK$10,1))","v":37.841852617991435}]
[null,null,1980,null,null,null,null,null,null,null,null,null,null,null,null,null,null,null,null,null,null,null,null,null,null,null,null,null,null,null,null,null,null,null,null,null,null,null,null,null,null,null,null,null,null,null,null,null,null,null,null,null,null,null,null,null,1979,0.18756079015827987,0.17473497729470999,0.25248198614726025,0.26759339243112956,0.26105251895688708,0.27191611947592009,0.25223497093050806,{"$f":"PRODUCT($CH14:$CH21)^(1/BM$13)-1","v":0.23352992886435819},null,null,null,null,null,null,null,null,null,null,null,null,null,null,null,null,null,null,null,1979,{"$f":"HLOOKUP($W$7,dat,MATCH(CG21,Data!$B$3:$B$60,0),0)+1","v":1.1875607901582799},null,null,1979,{"$f":"PRODUCT(IF(($CL$13:$EK$13<=CL$13*TRANSPOSE($CK$14:$CK$65>=$CK21)),$CL$10:$EK$10,1))","v":1},{"$f":"PRODUCT(IF(($CL$13:$EK$13<=CM$13*TRANSPOSE($CK$14:$CK$65>=$CK21)),$CL$10:$EK$10,1))","v":1},{"$f":"PRODUCT(IF(($CL$13:$EK$13<=CN$13*TRANSPOSE($CK$14:$CK$65>=$CK21)),$CL$10:$EK$10,1))","v":1},{"$f":"PRODUCT(IF(($CL$13:$EK$13<=CO$13*TRANSPOSE($CK$14:$CK$65>=$CK21)),$CL$10:$EK$10,1))","v":1},{"$f":"PRODUCT(IF(($CL$13:$EK$13<=CP$13*TRANSPOSE($CK$14:$CK$65>=$CK21)),$CL$10:$EK$10,1))","v":1},{"$f":"PRODUCT(IF(($CL$13:$EK$13<=CQ$13*TRANSPOSE($CK$14:$CK$65>=$CK21)),$CL$10:$EK$10,1))","v":1},{"$f":"PRODUCT(IF(($CL$13:$EK$13<=CR$13*TRANSPOSE($CK$14:$CK$65>=$CK21)),$CL$10:$EK$10,1))","v":1},{"$f":"PRODUCT(IF(($CL$13:$EK$13<=CS$13*TRANSPOSE($CK$14:$CK$65>=$CK21)),$CL$10:$EK$10,1))","v":1.1875607901582799},{"$f":"PRODUCT(IF(($CL$13:$EK$13<=CT$13*TRANSPOSE($CK$14:$CK$65>=$CK21)),$CL$10:$EK$10,1))","v":1.3565031741759583},{"$f":"PRODUCT(IF(($CL$13:$EK$13<=CU$13*TRANSPOSE($CK$14:$CK$65>=$CK21)),$CL$10:$EK$10,1))","v":1.5129564483188898},{"$f":"PRODUCT(IF(($CL$13:$EK$13<=CV$13*TRANSPOSE($CK$14:$CK$65>=$CK21)),$CL$10:$EK$10,1))","v":1.4753389054740143},{"$f":"PRODUCT(IF(($CL$13:$EK$13<=CW$13*TRANSPOSE($CK$14:$CK$65>=$CK21)),$CL$10:$EK$10,1))","v":1.4188943984777376},{"$f":"PRODUCT(IF(($CL$13:$EK$13<=CX$13*TRANSPOSE($CK$14:$CK$65>=$CK21)),$CL$10:$EK$10,1))","v":1.5038895596792683},{"$f":"PRODUCT(IF(($CL$13:$EK$13<=CY$13*TRANSPOSE($CK$14:$CK$65>=$CK21)),$CL$10:$EK$10,1))","v":1.2279501734850771},{"$f":"PRODUCT(IF(($CL$13:$EK$13<=CZ$13*TRANSPOSE($CK$14:$CK$65>=$CK21)),$CL$10:$EK$10,1))","v":1.1793609900031212},{"$f":"PRODUCT(IF(($CL$13:$EK$13<=DA$13*TRANSPOSE($CK$14:$CK$65>=$CK21)),$CL$10:$EK$10,1))","v":1.1691839304399529},{"$f":"PRODUCT(IF(($CL$13:$EK$13<=DB$13*TRANSPOSE($CK$14:$CK$65>=$CK21)),$CL$10:$EK$10,1))","v":1.3503876017814587},{"$f":"PRODUCT(IF(($CL$13:$EK$13<=DC$13*TRANSPOSE($CK$14:$CK$65>=$CK21)),$CL$10:$EK$10,1))","v":1.5620054178976288},{"$f":"PRODUCT(IF(($CL$13:$EK$13<=DD$13*TRANSPOSE($CK$14:$CK$65>=$CK21)),$CL$10:$EK$10,1))","v":1.6665169109165341},{"$f":"PRODUCT(IF(($CL$13:$EK$13<=DE$13*TRANSPOSE($CK$14:$CK$65>=$CK21)),$CL$10:$EK$10,1))","v":1.8243799204436142},{"$f":"PRODUCT(IF(($CL$13:$EK$13<=DF$13*TRANSPOSE($CK$14:$CK$65>=$CK21)),$CL$10:$EK$10,1))","v":2.0214516231338648},{"$f":"PRODUCT(IF(($CL$13:$EK$13<=DG$13*TRANSPOSE($CK$14:$CK$65>=$CK21)),$CL$10:$EK$10,1))","v":2.1466878824497542},{"$f":"PRODUCT(IF(($CL$13:$EK$13<=DH$13*TRANSPOSE($CK$14:$CK$65>=$CK21)),$CL$10:$EK$10,1))","v":2.4278543398619492},{"$f":"PRODUCT(IF(($CL$13:$EK$13<=DI$13*TRANSPOSE($CK$14:$CK$65>=$CK21)),$CL$10:$EK$10,1))","v":2.7522910782628287},{"$f":"PRODUCT(IF(($CL$13:$EK$13<=DJ$13*TRANSPOSE($CK$14:$CK$65>=$CK21)),$CL$10:$EK$10,1))","v":2.9968417344589136},{"$f":"PRODUCT(IF(($CL$13:$EK$13<=DK$13*TRANSPOSE($CK$14:$CK$65>=$CK21)),$CL$10:$EK$10,1))","v":3.2555289604880229},{"$f":"PRODUCT(IF(($CL$13:$EK$13<=DL$13*TRANSPOSE($CK$14:$CK$65>=$CK21)),$CL$10:$EK$10,1))","v":3.6370288837315528},{"$f":"PRODUCT(IF(($CL$13:$EK$13<=DM$13*TRANSPOSE($CK$14:$CK$65>=$CK21)),$CL$10:$EK$10,1))","v":3.9355840099720583},{"$f":"PRODUCT(IF(($CL$13:$EK$13<=DN$13*TRANSPOSE($CK$14:$CK$65>=$CK21)),$CL$10:$EK$10,1))","v":4.1739140510013026},{"$f":"PRODUCT(IF(($CL$13:$EK$13<=DO$13*TRANSPOSE($CK$14:$CK$65>=$CK21)),$CL$10:$EK$10,1))","v":4.406098082380133},{"$f":"PRODUCT(IF(($CL$13:$EK$13<=DP$13*TRANSPOSE($CK$14:$CK$65>=$CK21)),$CL$10:$EK$10,1))","v":4.7076673050104336},{"$f":"PRODUCT(IF(($CL$13:$EK$13<=DQ$13*TRANSPOSE($CK$14:$CK$65>=$CK21)),$CL$10:$EK$10,1))","v":5.0622870178877619},{"$f":"PRODUCT(IF(($CL$13:$EK$13<=DR$13*TRANSPOSE($CK$14:$CK$65>=$CK21)),$CL$10:$EK$10,1))","v":5.5398508431430376},{"$f":"PRODUCT(IF(($CL$13:$EK$13<=DS$13*TRANSPOSE($CK$14:$CK$65>=$CK21)),$CL$10:$EK$10,1))","v":7.1351721792267089},{"$f":"PRODUCT(IF(($CL$13:$EK$13<=DT$13*TRANSPOSE($CK$14:$CK$65>=$CK21)),$CL$10:$EK$10,1))","v":8.1987543922349886},{"$f":"PRODUCT(IF(($CL$13:$EK$13<=DU$13*TRANSPOSE($CK$14:$CK$65>=$CK21)),$CL$10:$EK$10,1))","v":9.4204057761167412},{"$f":"PRODUCT(IF(($CL$13:$EK$13<=DV$13*TRANSPOSE($CK$14:$CK$65>=$CK21)),$CL$10:$EK$10,1))","v":10.938285283545861},{"$f":"PRODUCT(IF(($CL$13:$EK$13<=DW$13*TRANSPOSE($CK$14:$CK$65>=$CK21)),$CL$10:$EK$10,1))","v":11.037498583311969},{"$f":"PRODUCT(IF(($CL$13:$EK$13<=DX$13*TRANSPOSE($CK$14:$CK$65>=$CK21)),$CL$10:$EK$10,1))","v":12.054222988539459},{"$f":"PRODUCT(IF(($CL$13:$EK$13<=DY$13*TRANSPOSE($CK$14:$CK$65>=$CK21)),$CL$10:$EK$10,1))","v":14.122687013692104},{"$f":"PRODUCT(IF(($CL$13:$EK$13<=DZ$13*TRANSPOSE($CK$14:$CK$65>=$CK21)),$CL$10:$EK$10,1))","v":16.693847349384679},{"$f":"PRODUCT(IF(($CL$13:$EK$13<=EA$13*TRANSPOSE($CK$14:$CK$65>=$CK21)),$CL$10:$EK$10,1))","v":19.557179977531241},{"$f":"PRODUCT(IF(($CL$13:$EK$13<=EB$13*TRANSPOSE($CK$14:$CK$65>=$CK21)),$CL$10:$EK$10,1))","v":21.132934029450819},{"$f":"PRODUCT(IF(($CL$13:$EK$13<=EC$13*TRANSPOSE($CK$14:$CK$65>=$CK21)),$CL$10:$EK$10,1))","v":21.566461668832229},{"$f":"PRODUCT(IF(($CL$13:$EK$13<=ED$13*TRANSPOSE($CK$14:$CK$65>=$CK21)),$CL$10:$EK$10,1))","v":21.789351362355678},{"$f":"PRODUCT(IF(($CL$13:$EK$13<=EE$13*TRANSPOSE($CK$14:$CK$65>=$CK21)),$CL$10:$EK$10,1))","v":21.976165727625489},{"$f":"PRODUCT(IF(($CL$13:$EK$13<=EF$13*TRANSPOSE($CK$14:$CK$65>=$CK21)),$CL$10:$EK$10,1))","v":22.95057005199228},{"$f":"PRODUCT(IF(($CL$13:$EK$13<=EG$13*TRANSPOSE($CK$14:$CK$65>=$CK21)),$CL$10:$EK$10,1))","v":23.50305584498248},{"$f":"PRODUCT(IF(($CL$13:$EK$13<=EH$13*TRANSPOSE($CK$14:$CK$65>=$CK21)),$CL$10:$EK$10,1))","v":24.419132767367596},{"$f":"PRODUCT(IF(($CL$13:$EK$13<=EI$13*TRANSPOSE($CK$14:$CK$65>=$CK21)),$CL$10:$EK$10,1))","v":26.606996976934941},{"$f":"PRODUCT(IF(($CL$13:$EK$13<=EJ$13*TRANSPOSE($CK$14:$CK$65>=$CK21)),$CL$10:$EK$10,1))","v":30.546184233847907},{"$f":"PRODUCT(IF(($CL$13:$EK$13<=EK$13*TRANSPOSE($CK$14:$CK$65>=$CK21)),$CL$10:$EK$10,1))","v":32.564801866369557}]
[null,null,1981,null,null,null,null,null,null,null,null,null,null,null,null,null,null,null,null,null,null,null,null,null,null,null,null,null,null,null,null,null,null,null,null,null,null,null,null,null,null,null,null,null,null,null,null,null,null,null,null,null,null,null,null,null,1980,0.1422599882193496,0.16469016230753764,0.16380866951724116,0.22396741879830651,0.24147210643308425,0.24042869908632025,0.25252952025806952,0.23792895203923714,{"$f":"PRODUCT($CH14:$CH22)^(1/BN$13)-1","v":0.22303891864013048},null,null,null,null,null,null,null,null,null,null,null,null,null,null,null,null,null,null,1980,{"$f":"HLOOKUP($W$7,dat,MATCH(CG22,Data!$B$3:$B$60,0),0)+1","v":1.1422599882193496},null,null,1980,{"$f":"PRODUCT(IF(($CL$13:$EK$13<=CL$13*TRANSPOSE($CK$14:$CK$65>=$CK22)),$CL$10:$EK$10,1))","v":1},{"$f":"PRODUCT(IF(($CL$13:$EK$13<=CM$13*TRANSPOSE($CK$14:$CK$65>=$CK22)),$CL$10:$EK$10,1))","v":1},{"$f":"PRODUCT(IF(($CL$13:$EK$13<=CN$13*TRANSPOSE($CK$14:$CK$65>=$CK22)),$CL$10:$EK$10,1))","v":1},{"$f":"PRODUCT(IF(($CL$13:$EK$13<=CO$13*TRANSPOSE($CK$14:$CK$65>=$CK22)),$CL$10:$EK$10,1))","v":1},{"$f":"PRODUCT(IF(($CL$13:$EK$13<=CP$13*TRANSPOSE($CK$14:$CK$65>=$CK22)),$CL$10:$EK$10,1))","v":1},{"$f":"PRODUCT(IF(($CL$13:$EK$13<=CQ$13*TRANSPOSE($CK$14:$CK$65>=$CK22)),$CL$10:$EK$10,1))","v":1},{"$f":"PRODUCT(IF(($CL$13:$EK$13<=CR$13*TRANSPOSE($CK$14:$CK$65>=$CK22)),$CL$10:$EK$10,1))","v":1},{"$f":"PRODUCT(IF(($CL$13:$EK$13<=CS$13*TRANSPOSE($CK$14:$CK$65>=$CK22)),$CL$10:$EK$10,1))","v":1},{"$f":"PRODUCT(IF(($CL$13:$EK$13<=CT$13*TRANSPOSE($CK$14:$CK$65>=$CK22)),$CL$10:$EK$10,1))","v":1.1422599882193496},{"$f":"PRODUCT(IF(($CL$13:$EK$13<=CU$13*TRANSPOSE($CK$14:$CK$65>=$CK22)),$CL$10:$EK$10,1))","v":1.2740033696441262},{"$f":"PRODUCT(IF(($CL$13:$EK$13<=CV$13*TRANSPOSE($CK$14:$CK$65>=$CK22)),$CL$10:$EK$10,1))","v":1.2423270603918968},{"$f":"PRODUCT(IF(($CL$13:$EK$13<=CW$13*TRANSPOSE($CK$14:$CK$65>=$CK22)),$CL$10:$EK$10,1))","v":1.1947972771049682},{"$f":"PRODUCT(IF(($CL$13:$EK$13<=CX$13*TRANSPOSE($CK$14:$CK$65>=$CK22)),$CL$10:$EK$10,1))","v":1.2663684858430089},{"$f":"PRODUCT(IF(($CL$13:$EK$13<=CY$13*TRANSPOSE($CK$14:$CK$65>=$CK22)),$CL$10:$EK$10,1))","v":1.0340103712260607},{"$f":"PRODUCT(IF(($CL$13:$EK$13<=CZ$13*TRANSPOSE($CK$14:$CK$65>=$CK22)),$CL$10:$EK$10,1))","v":0.99309525859803272},{"$f":"PRODUCT(IF(($CL$13:$EK$13<=DA$13*TRANSPOSE($CK$14:$CK$65>=$CK22)),$CL$10:$EK$10,1))","v":0.98452554187488983},{"$f":"PRODUCT(IF(($CL$13:$EK$13<=DB$13*TRANSPOSE($CK$14:$CK$65>=$CK22)),$CL$10:$EK$10,1))","v":1.1371102961402733},{"$f":"PRODUCT(IF(($CL$13:$EK$13<=DC$13*TRANSPOSE($CK$14:$CK$65>=$CK22)),$CL$10:$EK$10,1))","v":1.315305650744365},{"$f":"PRODUCT(IF(($CL$13:$EK$13<=DD$13*TRANSPOSE($CK$14:$CK$65>=$CK22)),$CL$10:$EK$10,1))","v":1.4033108239405732},{"$f":"PRODUCT(IF(($CL$13:$EK$13<=DE$13*TRANSPOSE($CK$14:$CK$65>=$CK22)),$CL$10:$EK$10,1))","v":1.5362412901830969},{"$f":"PRODUCT(IF(($CL$13:$EK$13<=DF$13*TRANSPOSE($CK$14:$CK$65>=$CK22)),$CL$10:$EK$10,1))","v":1.7021879131462754},{"$f":"PRODUCT(IF(($CL$13:$EK$13<=DG$13*TRANSPOSE($CK$14:$CK$65>=$CK22)),$CL$10:$EK$10,1))","v":1.8076446277446057},{"$f":"PRODUCT(IF(($CL$13:$EK$13<=DH$13*TRANSPOSE($CK$14:$CK$65>=$CK22)),$CL$10:$EK$10,1))","v":2.0444042612238493},{"$f":"PRODUCT(IF(($CL$13:$EK$13<=DI$13*TRANSPOSE($CK$14:$CK$65>=$CK22)),$CL$10:$EK$10,1))","v":2.3176001608271344},{"$f":"PRODUCT(IF(($CL$13:$EK$13<=DJ$13*TRANSPOSE($CK$14:$CK$65>=$CK22)),$CL$10:$EK$10,1))","v":2.5235270137703769},{"$f":"PRODUCT(IF(($CL$13:$EK$13<=DK$13*TRANSPOSE($CK$14:$CK$65>=$CK22)),$CL$10:$EK$10,1))","v":2.7413577371934963},{"$f":"PRODUCT(IF(($CL$13:$EK$13<=DL$13*TRANSPOSE($CK$14:$CK$65>=$CK22)),$CL$10:$EK$10,1))","v":3.0626043852852396},{"$f":"PRODUCT(IF(($CL$13:$EK$13<=DM$13*TRANSPOSE($CK$14:$CK$65>=$CK22)),$CL$10:$EK$10,1))","v":3.3140063587376587},{"$f":"PRODUCT(IF(($CL$13:$EK$13<=DN$13*TRANSPOSE($CK$14:$CK$65>=$CK22)),$CL$10:$EK$10,1))","v":3.5146950670584172},{"$f":"PRODUCT(IF(($CL$13:$EK$13<=DO$13*TRANSPOSE($CK$14:$CK$65>=$CK22)),$CL$10:$EK$10,1))","v":3.7102084532387445},{"$f":"PRODUCT(IF(($CL$13:$EK$13<=DP$13*TRANSPOSE($CK$14:$CK$65>=$CK22)),$CL$10:$EK$10,1))","v":3.9641484831972167},{"$f":"PRODUCT(IF(($CL$13:$EK$13<=DQ$13*TRANSPOSE($CK$14:$CK$65>=$CK22)),$CL$10:$EK$10,1))","v":4.2627603233793634},{"$f":"PRODUCT(IF(($CL$13:$EK$13<=DR$13*TRANSPOSE($CK$14:$CK$65>=$CK22)),$CL$10:$EK$10,1))","v":4.6648987479661379},{"$f":"PRODUCT(IF(($CL$13:$EK$13<=DS$13*TRANSPOSE($CK$14:$CK$65>=$CK22)),$CL$10:$EK$10,1))","v":6.0082584726258279},{"$f":"PRODUCT(IF(($CL$13:$EK$13<=DT$13*TRANSPOSE($CK$14:$CK$65>=$CK22)),$CL$10:$EK$10,1))","v":6.9038608045843652},{"$f":"PRODUCT(IF(($CL$13:$EK$13<=DU$13*TRANSPOSE($CK$14:$CK$65>=$CK22)),$CL$10:$EK$10,1))","v":7.9325672034533676},{"$f":"PRODUCT(IF(($CL$13:$EK$13<=DV$13*TRANSPOSE($CK$14:$CK$65>=$CK22)),$CL$10:$EK$10,1))","v":9.2107160948686975},{"$f":"PRODUCT(IF(($CL$13:$EK$13<=DW$13*TRANSPOSE($CK$14:$CK$65>=$CK22)),$CL$10:$EK$10,1))","v":9.2942598600286139},{"$f":"PRODUCT(IF(($CL$13:$EK$13<=DX$13*TRANSPOSE($CK$14:$CK$65>=$CK22)),$CL$10:$EK$10,1))","v":10.150405005315854},{"$f":"PRODUCT(IF(($CL$13:$EK$13<=DY$13*TRANSPOSE($CK$14:$CK$65>=$CK22)),$CL$10:$EK$10,1))","v":11.892180283090861},{"$f":"PRODUCT(IF(($CL$13:$EK$13<=DZ$13*TRANSPOSE($CK$14:$CK$65>=$CK22)),$CL$10:$EK$10,1))","v":14.057257100211007},{"$f":"PRODUCT(IF(($CL$13:$EK$13<=EA$13*TRANSPOSE($CK$14:$CK$65>=$CK22)),$CL$10:$EK$10,1))","v":16.468361148000369},{"$f":"PRODUCT(IF(($CL$13:$EK$13<=EB$13*TRANSPOSE($CK$14:$CK$65>=$CK22)),$CL$10:$EK$10,1))","v":17.795244003158931},{"$f":"PRODUCT(IF(($CL$13:$EK$13<=EC$13*TRANSPOSE($CK$14:$CK$65>=$CK22)),$CL$10:$EK$10,1))","v":18.16030122210233},{"$f":"PRODUCT(IF(($CL$13:$EK$13<=ED$13*TRANSPOSE($CK$14:$CK$65>=$CK22)),$CL$10:$EK$10,1))","v":18.34798819810441},{"$f":"PRODUCT(IF(($CL$13:$EK$13<=EE$13*TRANSPOSE($CK$14:$CK$65>=$CK22)),$CL$10:$EK$10,1))","v":18.505297505398829},{"$f":"PRODUCT(IF(($CL$13:$EK$13<=EF$13*TRANSPOSE($CK$14:$CK$65>=$CK22)),$CL$10:$EK$10,1))","v":19.325806512130956},{"$f":"PRODUCT(IF(($CL$13:$EK$13<=EG$13*TRANSPOSE($CK$14:$CK$65>=$CK22)),$CL$10:$EK$10,1))","v":19.791033890441891},{"$f":"PRODUCT(IF(($CL$13:$EK$13<=EH$13*TRANSPOSE($CK$14:$CK$65>=$CK22)),$CL$10:$EK$10,1))","v":20.562427599275122},{"$f":"PRODUCT(IF(($CL$13:$EK$13<=EI$13*TRANSPOSE($CK$14:$CK$65>=$CK22)),$CL$10:$EK$10,1))","v":22.404745253831351},{"$f":"PRODUCT(IF(($CL$13:$EK$13<=EJ$13*TRANSPOSE($CK$14:$CK$65>=$CK22)),$CL$10:$EK$10,1))","v":25.721785770458666},{"$f":"PRODUCT(IF(($CL$13:$EK$13<=EK$13*TRANSPOSE($CK$14:$CK$65>=$CK22)),$CL$10:$EK$10,1))","v":27.421587287358363}]
[null,null,1982,null,null,null,null,null,null,null,null,null,null,null,null,null,null,null,null,null,null,null,null,null,null,null,null,null,null,null,null,null,null,null,null,null,null,null,null,null,null,null,null,null,null,null,null,null,null,null,null,null,null,null,null,null,1981,0.11533572285075766,0.12871757744979151,0.14800067185402854,0.15149642540375297,0.20142595041865952,0.21949982005808999,0.22173392986354501,0.23449738861338854,0.2236676700977327,{"$f":"PRODUCT($CH14:$CH23)^(1/BO$13)-1","v":0.21181635786881214},null,null,null,null,null,null,null,null,null,null,null,null,null,null,null,null,null,1981,{"$f":"HLOOKUP($W$7,dat,MATCH(CG23,Data!$B$3:$B$60,0),0)+1","v":1.1153357228507577},null,null,1981,{"$f":"PRODUCT(IF(($CL$13:$EK$13<=CL$13*TRANSPOSE($CK$14:$CK$65>=$CK23)),$CL$10:$EK$10,1))","v":1},{"$f":"PRODUCT(IF(($CL$13:$EK$13<=CM$13*TRANSPOSE($CK$14:$CK$65>=$CK23)),$CL$10:$EK$10,1))","v":1},{"$f":"PRODUCT(IF(($CL$13:$EK$13<=CN$13*TRANSPOSE($CK$14:$CK$65>=$CK23)),$CL$10:$EK$10,1))","v":1},{"$f":"PRODUCT(IF(($CL$13:$EK$13<=CO$13*TRANSPOSE($CK$14:$CK$65>=$CK23)),$CL$10:$EK$10,1))","v":1},{"$f":"PRODUCT(IF(($CL$13:$EK$13<=CP$13*TRANSPOSE($CK$14:$CK$65>=$CK23)),$CL$10:$EK$10,1))","v":1},{"$f":"PRODUCT(IF(($CL$13:$EK$13<=CQ$13*TRANSPOSE($CK$14:$CK$65>=$CK23)),$CL$10:$EK$10,1))","v":1},{"$f":"PRODUCT(IF(($CL$13:$EK$13<=CR$13*TRANSPOSE($CK$14:$CK$65>=$CK23)),$CL$10:$EK$10,1))","v":1},{"$f":"PRODUCT(IF(($CL$13:$EK$13<=CS$13*TRANSPOSE($CK$14:$CK$65>=$CK23)),$CL$10:$EK$10,1))","v":1},{"$f":"PRODUCT(IF(($CL$13:$EK$13<=CT$13*TRANSPOSE($CK$14:$CK$65>=$CK23)),$CL$10:$EK$10,1))","v":1},{"$f":"PRODUCT(IF(($CL$13:$EK$13<=CU$13*TRANSPOSE($CK$14:$CK$65>=$CK23)),$CL$10:$EK$10,1))","v":1.1153357228507577},{"$f":"PRODUCT(IF(($CL$13:$EK$13<=CV$13*TRANSPOSE($CK$14:$CK$65>=$CK23)),$CL$10:$EK$10,1))","v":1.0876044623856083},{"$f":"PRODUCT(IF(($CL$13:$EK$13<=CW$13*TRANSPOSE($CK$14:$CK$65>=$CK23)),$CL$10:$EK$10,1))","v":1.0459941601977307},{"$f":"PRODUCT(IF(($CL$13:$EK$13<=CX$13*TRANSPOSE($CK$14:$CK$65>=$CK23)),$CL$10:$EK$10,1))","v":1.1086517070576289},{"$f":"PRODUCT(IF(($CL$13:$EK$13<=CY$13*TRANSPOSE($CK$14:$CK$65>=$CK23)),$CL$10:$EK$10,1))","v":0.90523206790948052},{"$f":"PRODUCT(IF(($CL$13:$EK$13<=CZ$13*TRANSPOSE($CK$14:$CK$65>=$CK23)),$CL$10:$EK$10,1))","v":0.86941262833354838},{"$f":"PRODUCT(IF(($CL$13:$EK$13<=DA$13*TRANSPOSE($CK$14:$CK$65>=$CK23)),$CL$10:$EK$10,1))","v":0.86191020610784996},{"$f":"PRODUCT(IF(($CL$13:$EK$13<=DB$13*TRANSPOSE($CK$14:$CK$65>=$CK23)),$CL$10:$EK$10,1))","v":0.99549166377866039},{"$f":"PRODUCT(IF(($CL$13:$EK$13<=DC$13*TRANSPOSE($CK$14:$CK$65>=$CK23)),$CL$10:$EK$10,1))","v":1.1514941119444912},{"$f":"PRODUCT(IF(($CL$13:$EK$13<=DD$13*TRANSPOSE($CK$14:$CK$65>=$CK23)),$CL$10:$EK$10,1))","v":1.2285388951845992},{"$f":"PRODUCT(IF(($CL$13:$EK$13<=DE$13*TRANSPOSE($CK$14:$CK$65>=$CK23)),$CL$10:$EK$10,1))","v":1.3449138602656636},{"$f":"PRODUCT(IF(($CL$13:$EK$13<=DF$13*TRANSPOSE($CK$14:$CK$65>=$CK23)),$CL$10:$EK$10,1))","v":1.4901930652405924},{"$f":"PRODUCT(IF(($CL$13:$EK$13<=DG$13*TRANSPOSE($CK$14:$CK$65>=$CK23)),$CL$10:$EK$10,1))","v":1.5825159301627236},{"$f":"PRODUCT(IF(($CL$13:$EK$13<=DH$13*TRANSPOSE($CK$14:$CK$65>=$CK23)),$CL$10:$EK$10,1))","v":1.7897889117265131},{"$f":"PRODUCT(IF(($CL$13:$EK$13<=DI$13*TRANSPOSE($CK$14:$CK$65>=$CK23)),$CL$10:$EK$10,1))","v":2.0289602933917026},{"$f":"PRODUCT(IF(($CL$13:$EK$13<=DJ$13*TRANSPOSE($CK$14:$CK$65>=$CK23)),$CL$10:$EK$10,1))","v":2.2092404879770511},{"$f":"PRODUCT(IF(($CL$13:$EK$13<=DK$13*TRANSPOSE($CK$14:$CK$65>=$CK23)),$CL$10:$EK$10,1))","v":2.3999420144856458},{"$f":"PRODUCT(IF(($CL$13:$EK$13<=DL$13*TRANSPOSE($CK$14:$CK$65>=$CK23)),$CL$10:$EK$10,1))","v":2.6811797811980469},{"$f":"PRODUCT(IF(($CL$13:$EK$13<=DM$13*TRANSPOSE($CK$14:$CK$65>=$CK23)),$CL$10:$EK$10,1))","v":2.9012715081649745},{"$f":"PRODUCT(IF(($CL$13:$EK$13<=DN$13*TRANSPOSE($CK$14:$CK$65>=$CK23)),$CL$10:$EK$10,1))","v":3.0769659300921655},{"$f":"PRODUCT(IF(($CL$13:$EK$13<=DO$13*TRANSPOSE($CK$14:$CK$65>=$CK23)),$CL$10:$EK$10,1))","v":3.2481295777702304},{"$f":"PRODUCT(IF(($CL$13:$EK$13<=DP$13*TRANSPOSE($CK$14:$CK$65>=$CK23)),$CL$10:$EK$10,1))","v":3.4704432651771886},{"$f":"PRODUCT(IF(($CL$13:$EK$13<=DQ$13*TRANSPOSE($CK$14:$CK$65>=$CK23)),$CL$10:$EK$10,1))","v":3.7318652210032419},{"$f":"PRODUCT(IF(($CL$13:$EK$13<=DR$13*TRANSPOSE($CK$14:$CK$65>=$CK23)),$CL$10:$EK$10,1))","v":4.0839202949217999},{"$f":"PRODUCT(IF(($CL$13:$EK$13<=DS$13*TRANSPOSE($CK$14:$CK$65>=$CK23)),$CL$10:$EK$10,1))","v":5.2599745544724925},{"$f":"PRODUCT(IF(($CL$13:$EK$13<=DT$13*TRANSPOSE($CK$14:$CK$65>=$CK23)),$CL$10:$EK$10,1))","v":6.0440362752674908},{"$f":"PRODUCT(IF(($CL$13:$EK$13<=DU$13*TRANSPOSE($CK$14:$CK$65>=$CK23)),$CL$10:$EK$10,1))","v":6.9446249411391161},{"$f":"PRODUCT(IF(($CL$13:$EK$13<=DV$13*TRANSPOSE($CK$14:$CK$65>=$CK23)),$CL$10:$EK$10,1))","v":8.0635898918486433},{"$f":"PRODUCT(IF(($CL$13:$EK$13<=DW$13*TRANSPOSE($CK$14:$CK$65>=$CK23)),$CL$10:$EK$10,1))","v":8.136728902250427},{"$f":"PRODUCT(IF(($CL$13:$EK$13<=DX$13*TRANSPOSE($CK$14:$CK$65>=$CK23)),$CL$10:$EK$10,1))","v":8.8862475355887707},{"$f":"PRODUCT(IF(($CL$13:$EK$13<=DY$13*TRANSPOSE($CK$14:$CK$65>=$CK23)),$CL$10:$EK$10,1))","v":10.411097653546795},{"$f":"PRODUCT(IF(($CL$13:$EK$13<=DZ$13*TRANSPOSE($CK$14:$CK$65>=$CK23)),$CL$10:$EK$10,1))","v":12.306530251597655},{"$f":"PRODUCT(IF(($CL$13:$EK$13<=EA$13*TRANSPOSE($CK$14:$CK$65>=$CK23)),$CL$10:$EK$10,1))","v":14.417349218081803},{"$f":"PRODUCT(IF(($CL$13:$EK$13<=EB$13*TRANSPOSE($CK$14:$CK$65>=$CK23)),$CL$10:$EK$10,1))","v":15.578978679713405},{"$f":"PRODUCT(IF(($CL$13:$EK$13<=EC$13*TRANSPOSE($CK$14:$CK$65>=$CK23)),$CL$10:$EK$10,1))","v":15.898570736432893},{"$f":"PRODUCT(IF(($CL$13:$EK$13<=ED$13*TRANSPOSE($CK$14:$CK$65>=$CK23)),$CL$10:$EK$10,1))","v":16.06288269512687},{"$f":"PRODUCT(IF(($CL$13:$EK$13<=EE$13*TRANSPOSE($CK$14:$CK$65>=$CK23)),$CL$10:$EK$10,1))","v":16.200600297876527},{"$f":"PRODUCT(IF(($CL$13:$EK$13<=EF$13*TRANSPOSE($CK$14:$CK$65>=$CK23)),$CL$10:$EK$10,1))","v":16.918921008743066},{"$f":"PRODUCT(IF(($CL$13:$EK$13<=EG$13*TRANSPOSE($CK$14:$CK$65>=$CK23)),$CL$10:$EK$10,1))","v":17.326207776299523},{"$f":"PRODUCT(IF(($CL$13:$EK$13<=EH$13*TRANSPOSE($CK$14:$CK$65>=$CK23)),$CL$10:$EK$10,1))","v":18.001530134421987},{"$f":"PRODUCT(IF(($CL$13:$EK$13<=EI$13*TRANSPOSE($CK$14:$CK$65>=$CK23)),$CL$10:$EK$10,1))","v":19.614400823719429},{"$f":"PRODUCT(IF(($CL$13:$EK$13<=EJ$13*TRANSPOSE($CK$14:$CK$65>=$CK23)),$CL$10:$EK$10,1))","v":22.51832860796949},{"$f":"PRODUCT(IF(($CL$13:$EK$13<=EK$13*TRANSPOSE($CK$14:$CK$65>=$CK23)),$CL$10:$EK$10,1))","v":24.006432484871883}]
[null,null,1983,null,null,null,null,null,null,null,null,null,null,null,null,null,null,null,null,null,null,null,null,null,null,null,null,null,null,null,null,null,null,null,null,null,null,null,null,null,null,null,null,null,null,null,null,null,null,null,null,null,null,null,null,null,1982,-2.4863599270602887E-2,4.2882765408273515E-2,7.5008706730821828E-2,0.1021049393370379,0.11384086907034918,0.160357289860247,0.18115793837238292,0.18778470027851912,0.20256799516383794,0.19619965871550327,{"$f":"PRODUCT($CH14:$CH24)^(1/BP$13)-1","v":0.18811256429713419},null,null,null,null,null,null,null,null,null,null,null,null,null,null,null,null,1982,{"$f":"HLOOKUP($W$7,dat,MATCH(CG24,Data!$B$3:$B$60,0),0)+1","v":0.97513640072939711},null,null,1982,{"$f":"PRODUCT(IF(($CL$13:$EK$13<=CL$13*TRANSPOSE($CK$14:$CK$65>=$CK24)),$CL$10:$EK$10,1))","v":1},{"$f":"PRODUCT(IF(($CL$13:$EK$13<=CM$13*TRANSPOSE($CK$14:$CK$65>=$CK24)),$CL$10:$EK$10,1))","v":1},{"$f":"PRODUCT(IF(($CL$13:$EK$13<=CN$13*TRANSPOSE($CK$14:$CK$65>=$CK24)),$CL$10:$EK$10,1))","v":1},{"$f":"PRODUCT(IF(($CL$13:$EK$13<=CO$13*TRANSPOSE($CK$14:$CK$65>=$CK24)),$CL$10:$EK$10,1))","v":1},{"$f":"PRODUCT(IF(($CL$13:$EK$13<=CP$13*TRANSPOSE($CK$14:$CK$65>=$CK24)),$CL$10:$EK$10,1))","v":1},{"$f":"PRODUCT(IF(($CL$13:$EK$13<=CQ$13*TRANSPOSE($CK$14:$CK$65>=$CK24)),$CL$10:$EK$10,1))","v":1},{"$f":"PRODUCT(IF(($CL$13:$EK$13<=CR$13*TRANSPOSE($CK$14:$CK$65>=$CK24)),$CL$10:$EK$10,1))","v":1},{"$f":"PRODUCT(IF(($CL$13:$EK$13<=CS$13*TRANSPOSE($CK$14:$CK$65>=$CK24)),$CL$10:$EK$10,1))","v":1},{"$f":"PRODUCT(IF(($CL$13:$EK$13<=CT$13*TRANSPOSE($CK$14:$CK$65>=$CK24)),$CL$10:$EK$10,1))","v":1},{"$f":"PRODUCT(IF(($CL$13:$EK$13<=CU$13*TRANSPOSE($CK$14:$CK$65>=$CK24)),$CL$10:$EK$10,1))","v":1},{"$f":"PRODUCT(IF(($CL$13:$EK$13<=CV$13*TRANSPOSE($CK$14:$CK$65>=$CK24)),$CL$10:$EK$10,1))","v":0.97513640072939711},{"$f":"PRODUCT(IF(($CL$13:$EK$13<=CW$13*TRANSPOSE($CK$14:$CK$65>=$CK24)),$CL$10:$EK$10,1))","v":0.93782897720177694},{"$f":"PRODUCT(IF(($CL$13:$EK$13<=CX$13*TRANSPOSE($CK$14:$CK$65>=$CK24)),$CL$10:$EK$10,1))","v":0.99400717142274908},{"$f":"PRODUCT(IF(($CL$13:$EK$13<=CY$13*TRANSPOSE($CK$14:$CK$65>=$CK24)),$CL$10:$EK$10,1))","v":0.81162294846590233},{"$f":"PRODUCT(IF(($CL$13:$EK$13<=CZ$13*TRANSPOSE($CK$14:$CK$65>=$CK24)),$CL$10:$EK$10,1))","v":0.77950756038850899},{"$f":"PRODUCT(IF(($CL$13:$EK$13<=DA$13*TRANSPOSE($CK$14:$CK$65>=$CK24)),$CL$10:$EK$10,1))","v":0.77278095594825802},{"$f":"PRODUCT(IF(($CL$13:$EK$13<=DB$13*TRANSPOSE($CK$14:$CK$65>=$CK24)),$CL$10:$EK$10,1))","v":0.89254889212569977},{"$f":"PRODUCT(IF(($CL$13:$EK$13<=DC$13*TRANSPOSE($CK$14:$CK$65>=$CK24)),$CL$10:$EK$10,1))","v":1.0324192871732953},{"$f":"PRODUCT(IF(($CL$13:$EK$13<=DD$13*TRANSPOSE($CK$14:$CK$65>=$CK24)),$CL$10:$EK$10,1))","v":1.1014969484206052},{"$f":"PRODUCT(IF(($CL$13:$EK$13<=DE$13*TRANSPOSE($CK$14:$CK$65>=$CK24)),$CL$10:$EK$10,1))","v":1.2058376977544596},{"$f":"PRODUCT(IF(($CL$13:$EK$13<=DF$13*TRANSPOSE($CK$14:$CK$65>=$CK24)),$CL$10:$EK$10,1))","v":1.3360937291882957},{"$f":"PRODUCT(IF(($CL$13:$EK$13<=DG$13*TRANSPOSE($CK$14:$CK$65>=$CK24)),$CL$10:$EK$10,1))","v":1.4188695813650352},{"$f":"PRODUCT(IF(($CL$13:$EK$13<=DH$13*TRANSPOSE($CK$14:$CK$65>=$CK24)),$CL$10:$EK$10,1))","v":1.6047086765515564},{"$f":"PRODUCT(IF(($CL$13:$EK$13<=DI$13*TRANSPOSE($CK$14:$CK$65>=$CK24)),$CL$10:$EK$10,1))","v":1.8191475910103134},{"$f":"PRODUCT(IF(($CL$13:$EK$13<=DJ$13*TRANSPOSE($CK$14:$CK$65>=$CK24)),$CL$10:$EK$10,1))","v":1.9807851956272973},{"$f":"PRODUCT(IF(($CL$13:$EK$13<=DK$13*TRANSPOSE($CK$14:$CK$65>=$CK24)),$CL$10:$EK$10,1))","v":2.1517664729248347},{"$f":"PRODUCT(IF(($CL$13:$EK$13<=DL$13*TRANSPOSE($CK$14:$CK$65>=$CK24)),$CL$10:$EK$10,1))","v":2.4039217307099681},{"$f":"PRODUCT(IF(($CL$13:$EK$13<=DM$13*TRANSPOSE($CK$14:$CK$65>=$CK24)),$CL$10:$EK$10,1))","v":2.6012539979885423},{"$f":"PRODUCT(IF(($CL$13:$EK$13<=DN$13*TRANSPOSE($CK$14:$CK$65>=$CK24)),$CL$10:$EK$10,1))","v":2.758780039993296},{"$f":"PRODUCT(IF(($CL$13:$EK$13<=DO$13*TRANSPOSE($CK$14:$CK$65>=$CK24)),$CL$10:$EK$10,1))","v":2.9122438304657976},{"$f":"PRODUCT(IF(($CL$13:$EK$13<=DP$13*TRANSPOSE($CK$14:$CK$65>=$CK24)),$CL$10:$EK$10,1))","v":3.1115682875348605},{"$f":"PRODUCT(IF(($CL$13:$EK$13<=DQ$13*TRANSPOSE($CK$14:$CK$65>=$CK24)),$CL$10:$EK$10,1))","v":3.3459568671078954},{"$f":"PRODUCT(IF(($CL$13:$EK$13<=DR$13*TRANSPOSE($CK$14:$CK$65>=$CK24)),$CL$10:$EK$10,1))","v":3.6616062870141439},{"$f":"PRODUCT(IF(($CL$13:$EK$13<=DS$13*TRANSPOSE($CK$14:$CK$65>=$CK24)),$CL$10:$EK$10,1))","v":4.7160459821265182},{"$f":"PRODUCT(IF(($CL$13:$EK$13<=DT$13*TRANSPOSE($CK$14:$CK$65>=$CK24)),$CL$10:$EK$10,1))","v":5.4190286847615283},{"$f":"PRODUCT(IF(($CL$13:$EK$13<=DU$13*TRANSPOSE($CK$14:$CK$65>=$CK24)),$CL$10:$EK$10,1))","v":6.2264884006305348},{"$f":"PRODUCT(IF(($CL$13:$EK$13<=DV$13*TRANSPOSE($CK$14:$CK$65>=$CK24)),$CL$10:$EK$10,1))","v":7.2297423337597397},{"$f":"PRODUCT(IF(($CL$13:$EK$13<=DW$13*TRANSPOSE($CK$14:$CK$65>=$CK24)),$CL$10:$EK$10,1))","v":7.2953181141309118},{"$f":"PRODUCT(IF(($CL$13:$EK$13<=DX$13*TRANSPOSE($CK$14:$CK$65>=$CK24)),$CL$10:$EK$10,1))","v":7.9673297945445913},{"$f":"PRODUCT(IF(($CL$13:$EK$13<=DY$13*TRANSPOSE($CK$14:$CK$65>=$CK24)),$CL$10:$EK$10,1))","v":9.3344967261842982},{"$f":"PRODUCT(IF(($CL$13:$EK$13<=DZ$13*TRANSPOSE($CK$14:$CK$65>=$CK24)),$CL$10:$EK$10,1))","v":11.033924583839751},{"$f":"PRODUCT(IF(($CL$13:$EK$13<=EA$13*TRANSPOSE($CK$14:$CK$65>=$CK24)),$CL$10:$EK$10,1))","v":12.926465926538764},{"$f":"PRODUCT(IF(($CL$13:$EK$13<=EB$13*TRANSPOSE($CK$14:$CK$65>=$CK24)),$CL$10:$EK$10,1))","v":13.96797247728612},{"$f":"PRODUCT(IF(($CL$13:$EK$13<=EC$13*TRANSPOSE($CK$14:$CK$65>=$CK24)),$CL$10:$EK$10,1))","v":14.254515847297279},{"$f":"PRODUCT(IF(($CL$13:$EK$13<=ED$13*TRANSPOSE($CK$14:$CK$65>=$CK24)),$CL$10:$EK$10,1))","v":14.401836474914226},{"$f":"PRODUCT(IF(($CL$13:$EK$13<=EE$13*TRANSPOSE($CK$14:$CK$65>=$CK24)),$CL$10:$EK$10,1))","v":14.525312841651278},{"$f":"PRODUCT(IF(($CL$13:$EK$13<=EF$13*TRANSPOSE($CK$14:$CK$65>=$CK24)),$CL$10:$EK$10,1))","v":15.169352744749277},{"$f":"PRODUCT(IF(($CL$13:$EK$13<=EG$13*TRANSPOSE($CK$14:$CK$65>=$CK24)),$CL$10:$EK$10,1))","v":15.534522405517828},{"$f":"PRODUCT(IF(($CL$13:$EK$13<=EH$13*TRANSPOSE($CK$14:$CK$65>=$CK24)),$CL$10:$EK$10,1))","v":16.140010371415993},{"$f":"PRODUCT(IF(($CL$13:$EK$13<=EI$13*TRANSPOSE($CK$14:$CK$65>=$CK24)),$CL$10:$EK$10,1))","v":17.58609575741529},{"$f":"PRODUCT(IF(($CL$13:$EK$13<=EJ$13*TRANSPOSE($CK$14:$CK$65>=$CK24)),$CL$10:$EK$10,1))","v":20.189731348704097},{"$f":"PRODUCT(IF(($CL$13:$EK$13<=EK$13*TRANSPOSE($CK$14:$CK$65>=$CK24)),$CL$10:$EK$10,1))","v":21.523951930376899}]
[null,null,1984,null,null,null,null,null,null,null,null,null,null,null,null,null,null,null,null,null,null,null,null,null,null,null,null,null,null,null,null,null,null,null,null,null,null,null,null,null,null,null,null,null,null,null,null,null,null,null,null,null,null,null,null,null,1983,-3.8258671812183787E-2,-3.1584295252407135E-2,1.5102163253979617E-2,4.5498841810470703E-2,7.2482007168285678E-2,8.691522118364281E-2,0.12965049889178437,0.15120259888229559,0.16024878302915568,0.17599237334133333,0.17270953534620848,{"$f":"PRODUCT($CH14:$CH25)^(1/BQ$13)-1","v":0.16736762878136724},null,null,null,null,null,null,null,null,null,null,null,null,null,null,null,1983,{"$f":"HLOOKUP($W$7,dat,MATCH(CG25,Data!$B$3:$B$60,0),0)+1","v":0.96174132818781621},null,null,1983,{"$f":"PRODUCT(IF(($CL$13:$EK$13<=CL$13*TRANSPOSE($CK$14:$CK$65>=$CK25)),$CL$10:$EK$10,1))","v":1},{"$f":"PRODUCT(IF(($CL$13:$EK$13<=CM$13*TRANSPOSE($CK$14:$CK$65>=$CK25)),$CL$10:$EK$10,1))","v":1},{"$f":"PRODUCT(IF(($CL$13:$EK$13<=CN$13*TRANSPOSE($CK$14:$CK$65>=$CK25)),$CL$10:$EK$10,1))","v":1},{"$f":"PRODUCT(IF(($CL$13:$EK$13<=CO$13*TRANSPOSE($CK$14:$CK$65>=$CK25)),$CL$10:$EK$10,1))","v":1},{"$f":"PRODUCT(IF(($CL$13:$EK$13<=CP$13*TRANSPOSE($CK$14:$CK$65>=$CK25)),$CL$10:$EK$10,1))","v":1},{"$f":"PRODUCT(IF(($CL$13:$EK$13<=CQ$13*TRANSPOSE($CK$14:$CK$65>=$CK25)),$CL$10:$EK$10,1))","v":1},{"$f":"PRODUCT(IF(($CL$13:$EK$13<=CR$13*TRANSPOSE($CK$14:$CK$65>=$CK25)),$CL$10:$EK$10,1))","v":1},{"$f":"PRODUCT(IF(($CL$13:$EK$13<=CS$13*TRANSPOSE($CK$14:$CK$65>=$CK25)),$CL$10:$EK$10,1))","v":1},{"$f":"PRODUCT(IF(($CL$13:$EK$13<=CT$13*TRANSPOSE($CK$14:$CK$65>=$CK25)),$CL$10:$EK$10,1))","v":1},{"$f":"PRODUCT(IF(($CL$13:$EK$13<=CU$13*TRANSPOSE($CK$14:$CK$65>=$CK25)),$CL$10:$EK$10,1))","v":1},{"$f":"PRODUCT(IF(($CL$13:$EK$13<=CV$13*TRANSPOSE($CK$14:$CK$65>=$CK25)),$CL$10:$EK$10,1))","v":1},{"$f":"PRODUCT(IF(($CL$13:$EK$13<=CW$13*TRANSPOSE($CK$14:$CK$65>=$CK25)),$CL$10:$EK$10,1))","v":0.96174132818781621},{"$f":"PRODUCT(IF(($CL$13:$EK$13<=CX$13*TRANSPOSE($CK$14:$CK$65>=$CK25)),$CL$10:$EK$10,1))","v":1.0193519293087991},{"$f":"PRODUCT(IF(($CL$13:$EK$13<=CY$13*TRANSPOSE($CK$14:$CK$65>=$CK25)),$CL$10:$EK$10,1))","v":0.83231735361208203},{"$f":"PRODUCT(IF(($CL$13:$EK$13<=CZ$13*TRANSPOSE($CK$14:$CK$65>=$CK25)),$CL$10:$EK$10,1))","v":0.79938310148758829},{"$f":"PRODUCT(IF(($CL$13:$EK$13<=DA$13*TRANSPOSE($CK$14:$CK$65>=$CK25)),$CL$10:$EK$10,1))","v":0.79248498504437115},{"$f":"PRODUCT(IF(($CL$13:$EK$13<=DB$13*TRANSPOSE($CK$14:$CK$65>=$CK25)),$CL$10:$EK$10,1))","v":0.91530671140783781},{"$f":"PRODUCT(IF(($CL$13:$EK$13<=DC$13*TRANSPOSE($CK$14:$CK$65>=$CK25)),$CL$10:$EK$10,1))","v":1.0587434603005805},{"$f":"PRODUCT(IF(($CL$13:$EK$13<=DD$13*TRANSPOSE($CK$14:$CK$65>=$CK25)),$CL$10:$EK$10,1))","v":1.1295824333874638},{"$f":"PRODUCT(IF(($CL$13:$EK$13<=DE$13*TRANSPOSE($CK$14:$CK$65>=$CK25)),$CL$10:$EK$10,1))","v":1.2365836172790794},{"$f":"PRODUCT(IF(($CL$13:$EK$13<=DF$13*TRANSPOSE($CK$14:$CK$65>=$CK25)),$CL$10:$EK$10,1))","v":1.370160859741165},{"$f":"PRODUCT(IF(($CL$13:$EK$13<=DG$13*TRANSPOSE($CK$14:$CK$65>=$CK25)),$CL$10:$EK$10,1))","v":1.4550472942079982},{"$f":"PRODUCT(IF(($CL$13:$EK$13<=DH$13*TRANSPOSE($CK$14:$CK$65>=$CK25)),$CL$10:$EK$10,1))","v":1.6456248329477217},{"$f":"PRODUCT(IF(($CL$13:$EK$13<=DI$13*TRANSPOSE($CK$14:$CK$65>=$CK25)),$CL$10:$EK$10,1))","v":1.8655314165788506},{"$f":"PRODUCT(IF(($CL$13:$EK$13<=DJ$13*TRANSPOSE($CK$14:$CK$65>=$CK25)),$CL$10:$EK$10,1))","v":2.0312903857815998},{"$f":"PRODUCT(IF(($CL$13:$EK$13<=DK$13*TRANSPOSE($CK$14:$CK$65>=$CK25)),$CL$10:$EK$10,1))","v":2.2066312685233824},{"$f":"PRODUCT(IF(($CL$13:$EK$13<=DL$13*TRANSPOSE($CK$14:$CK$65>=$CK25)),$CL$10:$EK$10,1))","v":2.4652158702227167},{"$f":"PRODUCT(IF(($CL$13:$EK$13<=DM$13*TRANSPOSE($CK$14:$CK$65>=$CK25)),$CL$10:$EK$10,1))","v":2.6675796289040363},{"$f":"PRODUCT(IF(($CL$13:$EK$13<=DN$13*TRANSPOSE($CK$14:$CK$65>=$CK25)),$CL$10:$EK$10,1))","v":2.8291222006785337},{"$f":"PRODUCT(IF(($CL$13:$EK$13<=DO$13*TRANSPOSE($CK$14:$CK$65>=$CK25)),$CL$10:$EK$10,1))","v":2.9864989434169975},{"$f":"PRODUCT(IF(($CL$13:$EK$13<=DP$13*TRANSPOSE($CK$14:$CK$65>=$CK25)),$CL$10:$EK$10,1))","v":3.1909056878683062},{"$f":"PRODUCT(IF(($CL$13:$EK$13<=DQ$13*TRANSPOSE($CK$14:$CK$65>=$CK25)),$CL$10:$EK$10,1))","v":3.4312706044048169},{"$f":"PRODUCT(IF(($CL$13:$EK$13<=DR$13*TRANSPOSE($CK$14:$CK$65>=$CK25)),$CL$10:$EK$10,1))","v":3.7549683144586559},{"$f":"PRODUCT(IF(($CL$13:$EK$13<=DS$13*TRANSPOSE($CK$14:$CK$65>=$CK25)),$CL$10:$EK$10,1))","v":4.8362936493796571},{"$f":"PRODUCT(IF(($CL$13:$EK$13<=DT$13*TRANSPOSE($CK$14:$CK$65>=$CK25)),$CL$10:$EK$10,1))","v":5.5572006959314857},{"$f":"PRODUCT(IF(($CL$13:$EK$13<=DU$13*TRANSPOSE($CK$14:$CK$65>=$CK25)),$CL$10:$EK$10,1))","v":6.385248664672095},{"$f":"PRODUCT(IF(($CL$13:$EK$13<=DV$13*TRANSPOSE($CK$14:$CK$65>=$CK25)),$CL$10:$EK$10,1))","v":7.4140831255524153},{"$f":"PRODUCT(IF(($CL$13:$EK$13<=DW$13*TRANSPOSE($CK$14:$CK$65>=$CK25)),$CL$10:$EK$10,1))","v":7.4813309283440264},{"$f":"PRODUCT(IF(($CL$13:$EK$13<=DX$13*TRANSPOSE($CK$14:$CK$65>=$CK25)),$CL$10:$EK$10,1))","v":8.1704772671649533},{"$f":"PRODUCT(IF(($CL$13:$EK$13<=DY$13*TRANSPOSE($CK$14:$CK$65>=$CK25)),$CL$10:$EK$10,1))","v":9.5725036202136895},{"$f":"PRODUCT(IF(($CL$13:$EK$13<=DZ$13*TRANSPOSE($CK$14:$CK$65>=$CK25)),$CL$10:$EK$10,1))","v":11.315262742306036},{"$f":"PRODUCT(IF(($CL$13:$EK$13<=EA$13*TRANSPOSE($CK$14:$CK$65>=$CK25)),$CL$10:$EK$10,1))","v":13.256059272189859},{"$f":"PRODUCT(IF(($CL$13:$EK$13<=EB$13*TRANSPOSE($CK$14:$CK$65>=$CK25)),$CL$10:$EK$10,1))","v":14.324121699116301},{"$f":"PRODUCT(IF(($CL$13:$EK$13<=EC$13*TRANSPOSE($CK$14:$CK$65>=$CK25)),$CL$10:$EK$10,1))","v":14.617971226010001},{"$f":"PRODUCT(IF(($CL$13:$EK$13<=ED$13*TRANSPOSE($CK$14:$CK$65>=$CK25)),$CL$10:$EK$10,1))","v":14.769048170226988},{"$f":"PRODUCT(IF(($CL$13:$EK$13<=EE$13*TRANSPOSE($CK$14:$CK$65>=$CK25)),$CL$10:$EK$10,1))","v":14.895672883082229},{"$f":"PRODUCT(IF(($CL$13:$EK$13<=EF$13*TRANSPOSE($CK$14:$CK$65>=$CK25)),$CL$10:$EK$10,1))","v":15.556134232506023},{"$f":"PRODUCT(IF(($CL$13:$EK$13<=EG$13*TRANSPOSE($CK$14:$CK$65>=$CK25)),$CL$10:$EK$10,1))","v":15.930614828754308},{"$f":"PRODUCT(IF(($CL$13:$EK$13<=EH$13*TRANSPOSE($CK$14:$CK$65>=$CK25)),$CL$10:$EK$10,1))","v":16.551541260631186},{"$f":"PRODUCT(IF(($CL$13:$EK$13<=EI$13*TRANSPOSE($CK$14:$CK$65>=$CK25)),$CL$10:$EK$10,1))","v":18.034498296095794},{"$f":"PRODUCT(IF(($CL$13:$EK$13<=EJ$13*TRANSPOSE($CK$14:$CK$65>=$CK25)),$CL$10:$EK$10,1))","v":20.704520243119106},{"$f":"PRODUCT(IF(($CL$13:$EK$13<=EK$13*TRANSPOSE($CK$14:$CK$65>=$CK25)),$CL$10:$EK$10,1))","v":22.072760194652876}]
[null,null,1985,null,null,null,null,null,null,null,null,null,null,null,null,null,null,null,null,null,null,null,null,null,null,null,null,null,null,null,null,null,null,null,null,null,null,null,null,null,null,null,null,null,null,null,null,null,null,null,null,null,null,null,null,null,1984,5.9902386881446557E-2,9.6296000557825057E-3,-2.0016133084618248E-3,2.6121488589057718E-2,4.8363806104116058E-2,7.0375083057860888E-2,8.3014498394522906E-2,0.1206869633228651,0.14068161049436334,0.14980077338242603,0.16493312041951391,0.16286707502187436,{"$f":"PRODUCT($CH14:$CH26)^(1/BR$13)-1","v":0.15872761069303087},null,null,null,null,null,null,null,null,null,null,null,null,null,null,1984,{"$f":"HLOOKUP($W$7,dat,MATCH(CG26,Data!$B$3:$B$60,0),0)+1","v":1.0599023868814466},null,null,1984,{"$f":"PRODUCT(IF(($CL$13:$EK$13<=CL$13*TRANSPOSE($CK$14:$CK$65>=$CK26)),$CL$10:$EK$10,1))","v":1},{"$f":"PRODUCT(IF(($CL$13:$EK$13<=CM$13*TRANSPOSE($CK$14:$CK$65>=$CK26)),$CL$10:$EK$10,1))","v":1},{"$f":"PRODUCT(IF(($CL$13:$EK$13<=CN$13*TRANSPOSE($CK$14:$CK$65>=$CK26)),$CL$10:$EK$10,1))","v":1},{"$f":"PRODUCT(IF(($CL$13:$EK$13<=CO$13*TRANSPOSE($CK$14:$CK$65>=$CK26)),$CL$10:$EK$10,1))","v":1},{"$f":"PRODUCT(IF(($CL$13:$EK$13<=CP$13*TRANSPOSE($CK$14:$CK$65>=$CK26)),$CL$10:$EK$10,1))","v":1},{"$f":"PRODUCT(IF(($CL$13:$EK$13<=CQ$13*TRANSPOSE($CK$14:$CK$65>=$CK26)),$CL$10:$EK$10,1))","v":1},{"$f":"PRODUCT(IF(($CL$13:$EK$13<=CR$13*TRANSPOSE($CK$14:$CK$65>=$CK26)),$CL$10:$EK$10,1))","v":1},{"$f":"PRODUCT(IF(($CL$13:$EK$13<=CS$13*TRANSPOSE($CK$14:$CK$65>=$CK26)),$CL$10:$EK$10,1))","v":1},{"$f":"PRODUCT(IF(($CL$13:$EK$13<=CT$13*TRANSPOSE($CK$14:$CK$65>=$CK26)),$CL$10:$EK$10,1))","v":1},{"$f":"PRODUCT(IF(($CL$13:$EK$13<=CU$13*TRANSPOSE($CK$14:$CK$65>=$CK26)),$CL$10:$EK$10,1))","v":1},{"$f":"PRODUCT(IF(($CL$13:$EK$13<=CV$13*TRANSPOSE($CK$14:$CK$65>=$CK26)),$CL$10:$EK$10,1))","v":1},{"$f":"PRODUCT(IF(($CL$13:$EK$13<=CW$13*TRANSPOSE($CK$14:$CK$65>=$CK26)),$CL$10:$EK$10,1))","v":1},{"$f":"PRODUCT(IF(($CL$13:$EK$13<=CX$13*TRANSPOSE($CK$14:$CK$65>=$CK26)),$CL$10:$EK$10,1))","v":1.0599023868814466},{"$f":"PRODUCT(IF(($CL$13:$EK$13<=CY$13*TRANSPOSE($CK$14:$CK$65>=$CK26)),$CL$10:$EK$10,1))","v":0.86542745873299998},{"$f":"PRODUCT(IF(($CL$13:$EK$13<=CZ$13*TRANSPOSE($CK$14:$CK$65>=$CK26)),$CL$10:$EK$10,1))","v":0.83118306145150755},{"$f":"PRODUCT(IF(($CL$13:$EK$13<=DA$13*TRANSPOSE($CK$14:$CK$65>=$CK26)),$CL$10:$EK$10,1))","v":0.82401053361991794},{"$f":"PRODUCT(IF(($CL$13:$EK$13<=DB$13*TRANSPOSE($CK$14:$CK$65>=$CK26)),$CL$10:$EK$10,1))","v":0.95171818510963435},{"$f":"PRODUCT(IF(($CL$13:$EK$13<=DC$13*TRANSPOSE($CK$14:$CK$65>=$CK26)),$CL$10:$EK$10,1))","v":1.1008609376239895},{"$f":"PRODUCT(IF(($CL$13:$EK$13<=DD$13*TRANSPOSE($CK$14:$CK$65>=$CK26)),$CL$10:$EK$10,1))","v":1.1745179293853429},{"$f":"PRODUCT(IF(($CL$13:$EK$13<=DE$13*TRANSPOSE($CK$14:$CK$65>=$CK26)),$CL$10:$EK$10,1))","v":1.2857756873245128},{"$f":"PRODUCT(IF(($CL$13:$EK$13<=DF$13*TRANSPOSE($CK$14:$CK$65>=$CK26)),$CL$10:$EK$10,1))","v":1.424666716073149},{"$f":"PRODUCT(IF(($CL$13:$EK$13<=DG$13*TRANSPOSE($CK$14:$CK$65>=$CK26)),$CL$10:$EK$10,1))","v":1.5129299860178673},{"$f":"PRODUCT(IF(($CL$13:$EK$13<=DH$13*TRANSPOSE($CK$14:$CK$65>=$CK26)),$CL$10:$EK$10,1))","v":1.7110888184960595},{"$f":"PRODUCT(IF(($CL$13:$EK$13<=DI$13*TRANSPOSE($CK$14:$CK$65>=$CK26)),$CL$10:$EK$10,1))","v":1.9397434236230877},{"$f":"PRODUCT(IF(($CL$13:$EK$13<=DJ$13*TRANSPOSE($CK$14:$CK$65>=$CK26)),$CL$10:$EK$10,1))","v":2.1120963883387502},{"$f":"PRODUCT(IF(($CL$13:$EK$13<=DK$13*TRANSPOSE($CK$14:$CK$65>=$CK26)),$CL$10:$EK$10,1))","v":2.2944124411095852},{"$f":"PRODUCT(IF(($CL$13:$EK$13<=DL$13*TRANSPOSE($CK$14:$CK$65>=$CK26)),$CL$10:$EK$10,1))","v":2.5632837000650244},{"$f":"PRODUCT(IF(($CL$13:$EK$13<=DM$13*TRANSPOSE($CK$14:$CK$65>=$CK26)),$CL$10:$EK$10,1))","v":2.7736976156889148},{"$f":"PRODUCT(IF(($CL$13:$EK$13<=DN$13*TRANSPOSE($CK$14:$CK$65>=$CK26)),$CL$10:$EK$10,1))","v":2.9416664520483629},{"$f":"PRODUCT(IF(($CL$13:$EK$13<=DO$13*TRANSPOSE($CK$14:$CK$65>=$CK26)),$CL$10:$EK$10,1))","v":3.1053037400860979},{"$f":"PRODUCT(IF(($CL$13:$EK$13<=DP$13*TRANSPOSE($CK$14:$CK$65>=$CK26)),$CL$10:$EK$10,1))","v":3.3178419127322365},{"$f":"PRODUCT(IF(($CL$13:$EK$13<=DQ$13*TRANSPOSE($CK$14:$CK$65>=$CK26)),$CL$10:$EK$10,1))","v":3.5677686960487272},{"$f":"PRODUCT(IF(($CL$13:$EK$13<=DR$13*TRANSPOSE($CK$14:$CK$65>=$CK26)),$CL$10:$EK$10,1))","v":3.9043433035513226},{"$f":"PRODUCT(IF(($CL$13:$EK$13<=DS$13*TRANSPOSE($CK$14:$CK$65>=$CK26)),$CL$10:$EK$10,1))","v":5.0286844368979713},{"$f":"PRODUCT(IF(($CL$13:$EK$13<=DT$13*TRANSPOSE($CK$14:$CK$65>=$CK26)),$CL$10:$EK$10,1))","v":5.778269616844657},{"$f":"PRODUCT(IF(($CL$13:$EK$13<=DU$13*TRANSPOSE($CK$14:$CK$65>=$CK26)),$CL$10:$EK$10,1))","v":6.6392578519045751},{"$f":"PRODUCT(IF(($CL$13:$EK$13<=DV$13*TRANSPOSE($CK$14:$CK$65>=$CK26)),$CL$10:$EK$10,1))","v":7.7090199913968283},{"$f":"PRODUCT(IF(($CL$13:$EK$13<=DW$13*TRANSPOSE($CK$14:$CK$65>=$CK26)),$CL$10:$EK$10,1))","v":7.7789429538615114},{"$f":"PRODUCT(IF(($CL$13:$EK$13<=DX$13*TRANSPOSE($CK$14:$CK$65>=$CK26)),$CL$10:$EK$10,1))","v":8.4955039652505793},{"$f":"PRODUCT(IF(($CL$13:$EK$13<=DY$13*TRANSPOSE($CK$14:$CK$65>=$CK26)),$CL$10:$EK$10,1))","v":9.9533038038938209},{"$f":"PRODUCT(IF(($CL$13:$EK$13<=DZ$13*TRANSPOSE($CK$14:$CK$65>=$CK26)),$CL$10:$EK$10,1))","v":11.765390974335149},{"$f":"PRODUCT(IF(($CL$13:$EK$13<=EA$13*TRANSPOSE($CK$14:$CK$65>=$CK26)),$CL$10:$EK$10,1))","v":13.783393604565061},{"$f":"PRODUCT(IF(($CL$13:$EK$13<=EB$13*TRANSPOSE($CK$14:$CK$65>=$CK26)),$CL$10:$EK$10,1))","v":14.893944223138316},{"$f":"PRODUCT(IF(($CL$13:$EK$13<=EC$13*TRANSPOSE($CK$14:$CK$65>=$CK26)),$CL$10:$EK$10,1))","v":15.199483268078179},{"$f":"PRODUCT(IF(($CL$13:$EK$13<=ED$13*TRANSPOSE($CK$14:$CK$65>=$CK26)),$CL$10:$EK$10,1))","v":15.356570147667368},{"$f":"PRODUCT(IF(($CL$13:$EK$13<=EE$13*TRANSPOSE($CK$14:$CK$65>=$CK26)),$CL$10:$EK$10,1))","v":15.48823207083109},{"$f":"PRODUCT(IF(($CL$13:$EK$13<=EF$13*TRANSPOSE($CK$14:$CK$65>=$CK26)),$CL$10:$EK$10,1))","v":16.174966985996154},{"$f":"PRODUCT(IF(($CL$13:$EK$13<=EG$13*TRANSPOSE($CK$14:$CK$65>=$CK26)),$CL$10:$EK$10,1))","v":16.564344654681669},{"$f":"PRODUCT(IF(($CL$13:$EK$13<=EH$13*TRANSPOSE($CK$14:$CK$65>=$CK26)),$CL$10:$EK$10,1))","v":17.209971928542171},{"$f":"PRODUCT(IF(($CL$13:$EK$13<=EI$13*TRANSPOSE($CK$14:$CK$65>=$CK26)),$CL$10:$EK$10,1))","v":18.751921922787407},{"$f":"PRODUCT(IF(($CL$13:$EK$13<=EJ$13*TRANSPOSE($CK$14:$CK$65>=$CK26)),$CL$10:$EK$10,1))","v":21.528159013538577},{"$f":"PRODUCT(IF(($CL$13:$EK$13<=EK$13*TRANSPOSE($CK$14:$CK$65>=$CK26)),$CL$10:$EK$10,1))","v":22.950828406473896}]
[null,null,1986,null,null,null,null,null,null,null,null,null,null,null,null,null,null,null,null,null,null,null,null,null,null,null,null,null,null,null,null,null,null,null,null,null,null,null,null,null,null,null,null,null,null,null,null,null,null,null,null,null,null,null,null,null,1985,-0.18348380997673819,-6.9716463258109651E-2,-5.9346556049457377E-2,-5.084185361501492E-2,-1.971583778568009E-2,5.5896987654391328E-3,2.9769693896027016E-2,4.54435483110327E-2,8.1942979751975287E-2,0.10317516458956,0.11457231493761633,0.1309402050677555,0.13166363611080567,{"$f":"PRODUCT($CH14:$CH27)^(1/BS$13)-1","v":0.13011601729095079},null,null,null,null,null,null,null,null,null,null,null,null,null,1985,{"$f":"HLOOKUP($W$7,dat,MATCH(CG27,Data!$B$3:$B$60,0),0)+1","v":0.81651619002326181},null,null,1985,{"$f":"PRODUCT(IF(($CL$13:$EK$13<=CL$13*TRANSPOSE($CK$14:$CK$65>=$CK27)),$CL$10:$EK$10,1))","v":1},{"$f":"PRODUCT(IF(($CL$13:$EK$13<=CM$13*TRANSPOSE($CK$14:$CK$65>=$CK27)),$CL$10:$EK$10,1))","v":1},{"$f":"PRODUCT(IF(($CL$13:$EK$13<=CN$13*TRANSPOSE($CK$14:$CK$65>=$CK27)),$CL$10:$EK$10,1))","v":1},{"$f":"PRODUCT(IF(($CL$13:$EK$13<=CO$13*TRANSPOSE($CK$14:$CK$65>=$CK27)),$CL$10:$EK$10,1))","v":1},{"$f":"PRODUCT(IF(($CL$13:$EK$13<=CP$13*TRANSPOSE($CK$14:$CK$65>=$CK27)),$CL$10:$EK$10,1))","v":1},{"$f":"PRODUCT(IF(($CL$13:$EK$13<=CQ$13*TRANSPOSE($CK$14:$CK$65>=$CK27)),$CL$10:$EK$10,1))","v":1},{"$f":"PRODUCT(IF(($CL$13:$EK$13<=CR$13*TRANSPOSE($CK$14:$CK$65>=$CK27)),$CL$10:$EK$10,1))","v":1},{"$f":"PRODUCT(IF(($CL$13:$EK$13<=CS$13*TRANSPOSE($CK$14:$CK$65>=$CK27)),$CL$10:$EK$10,1))","v":1},{"$f":"PRODUCT(IF(($CL$13:$EK$13<=CT$13*TRANSPOSE($CK$14:$CK$65>=$CK27)),$CL$10:$EK$10,1))","v":1},{"$f":"PRODUCT(IF(($CL$13:$EK$13<=CU$13*TRANSPOSE($CK$14:$CK$65>=$CK27)),$CL$10:$EK$10,1))","v":1},{"$f":"PRODUCT(IF(($CL$13:$EK$13<=CV$13*TRANSPOSE($CK$14:$CK$65>=$CK27)),$CL$10:$EK$10,1))","v":1},{"$f":"PRODUCT(IF(($CL$13:$EK$13<=CW$13*TRANSPOSE($CK$14:$CK$65>=$CK27)),$CL$10:$EK$10,1))","v":1},{"$f":"PRODUCT(IF(($CL$13:$EK$13<=CX$13*TRANSPOSE($CK$14:$CK$65>=$CK27)),$CL$10:$EK$10,1))","v":1},{"$f":"PRODUCT(IF(($CL$13:$EK$13<=CY$13*TRANSPOSE($CK$14:$CK$65>=$CK27)),$CL$10:$EK$10,1))","v":0.81651619002326181},{"$f":"PRODUCT(IF(($CL$13:$EK$13<=CZ$13*TRANSPOSE($CK$14:$CK$65>=$CK27)),$CL$10:$EK$10,1))","v":0.78420717958481023},{"$f":"PRODUCT(IF(($CL$13:$EK$13<=DA$13*TRANSPOSE($CK$14:$CK$65>=$CK27)),$CL$10:$EK$10,1))","v":0.77744002072153662},{"$f":"PRODUCT(IF(($CL$13:$EK$13<=DB$13*TRANSPOSE($CK$14:$CK$65>=$CK27)),$CL$10:$EK$10,1))","v":0.89793003288715778},{"$f":"PRODUCT(IF(($CL$13:$EK$13<=DC$13*TRANSPOSE($CK$14:$CK$65>=$CK27)),$CL$10:$EK$10,1))","v":1.0386437008251821},{"$f":"PRODUCT(IF(($CL$13:$EK$13<=DD$13*TRANSPOSE($CK$14:$CK$65>=$CK27)),$CL$10:$EK$10,1))","v":1.1081378284665724},{"$f":"PRODUCT(IF(($CL$13:$EK$13<=DE$13*TRANSPOSE($CK$14:$CK$65>=$CK27)),$CL$10:$EK$10,1))","v":1.213107643910166},{"$f":"PRODUCT(IF(($CL$13:$EK$13<=DF$13*TRANSPOSE($CK$14:$CK$65>=$CK27)),$CL$10:$EK$10,1))","v":1.3441489836294733},{"$f":"PRODUCT(IF(($CL$13:$EK$13<=DG$13*TRANSPOSE($CK$14:$CK$65>=$CK27)),$CL$10:$EK$10,1))","v":1.4274238880330907},{"$f":"PRODUCT(IF(($CL$13:$EK$13<=DH$13*TRANSPOSE($CK$14:$CK$65>=$CK27)),$CL$10:$EK$10,1))","v":1.6143833995228567},{"$f":"PRODUCT(IF(($CL$13:$EK$13<=DI$13*TRANSPOSE($CK$14:$CK$65>=$CK27)),$CL$10:$EK$10,1))","v":1.8301151574253927},{"$f":"PRODUCT(IF(($CL$13:$EK$13<=DJ$13*TRANSPOSE($CK$14:$CK$65>=$CK27)),$CL$10:$EK$10,1))","v":1.9927272685489246},{"$f":"PRODUCT(IF(($CL$13:$EK$13<=DK$13*TRANSPOSE($CK$14:$CK$65>=$CK27)),$CL$10:$EK$10,1))","v":2.1647393849734038},{"$f":"PRODUCT(IF(($CL$13:$EK$13<=DL$13*TRANSPOSE($CK$14:$CK$65>=$CK27)),$CL$10:$EK$10,1))","v":2.418414876493467},{"$f":"PRODUCT(IF(($CL$13:$EK$13<=DM$13*TRANSPOSE($CK$14:$CK$65>=$CK27)),$CL$10:$EK$10,1))","v":2.6169368519397076},{"$f":"PRODUCT(IF(($CL$13:$EK$13<=DN$13*TRANSPOSE($CK$14:$CK$65>=$CK27)),$CL$10:$EK$10,1))","v":2.7754126120082012},{"$f":"PRODUCT(IF(($CL$13:$EK$13<=DO$13*TRANSPOSE($CK$14:$CK$65>=$CK27)),$CL$10:$EK$10,1))","v":2.9298016293961191},{"$f":"PRODUCT(IF(($CL$13:$EK$13<=DP$13*TRANSPOSE($CK$14:$CK$65>=$CK27)),$CL$10:$EK$10,1))","v":3.1303278054636059},{"$f":"PRODUCT(IF(($CL$13:$EK$13<=DQ$13*TRANSPOSE($CK$14:$CK$65>=$CK27)),$CL$10:$EK$10,1))","v":3.3661295041953645},{"$f":"PRODUCT(IF(($CL$13:$EK$13<=DR$13*TRANSPOSE($CK$14:$CK$65>=$CK27)),$CL$10:$EK$10,1))","v":3.6836819615427809},{"$f":"PRODUCT(IF(($CL$13:$EK$13<=DS$13*TRANSPOSE($CK$14:$CK$65>=$CK27)),$CL$10:$EK$10,1))","v":4.7444788304457752},{"$f":"PRODUCT(IF(($CL$13:$EK$13<=DT$13*TRANSPOSE($CK$14:$CK$65>=$CK27)),$CL$10:$EK$10,1))","v":5.4516997870398933},{"$f":"PRODUCT(IF(($CL$13:$EK$13<=DU$13*TRANSPOSE($CK$14:$CK$65>=$CK27)),$CL$10:$EK$10,1))","v":6.2640276445072267},{"$f":"PRODUCT(IF(($CL$13:$EK$13<=DV$13*TRANSPOSE($CK$14:$CK$65>=$CK27)),$CL$10:$EK$10,1))","v":7.2733301545617772},{"$f":"PRODUCT(IF(($CL$13:$EK$13<=DW$13*TRANSPOSE($CK$14:$CK$65>=$CK27)),$CL$10:$EK$10,1))","v":7.3393012886304696},{"$f":"PRODUCT(IF(($CL$13:$EK$13<=DX$13*TRANSPOSE($CK$14:$CK$65>=$CK27)),$CL$10:$EK$10,1))","v":8.0153644999771352},{"$f":"PRODUCT(IF(($CL$13:$EK$13<=DY$13*TRANSPOSE($CK$14:$CK$65>=$CK27)),$CL$10:$EK$10,1))","v":9.3907740251245677},{"$f":"PRODUCT(IF(($CL$13:$EK$13<=DZ$13*TRANSPOSE($CK$14:$CK$65>=$CK27)),$CL$10:$EK$10,1))","v":11.100447663819766},{"$f":"PRODUCT(IF(($CL$13:$EK$13<=EA$13*TRANSPOSE($CK$14:$CK$65>=$CK27)),$CL$10:$EK$10,1))","v":13.004399060860663},{"$f":"PRODUCT(IF(($CL$13:$EK$13<=EB$13*TRANSPOSE($CK$14:$CK$65>=$CK27)),$CL$10:$EK$10,1))","v":14.052184812000284},{"$f":"PRODUCT(IF(($CL$13:$EK$13<=EC$13*TRANSPOSE($CK$14:$CK$65>=$CK27)),$CL$10:$EK$10,1))","v":14.340455740268359},{"$f":"PRODUCT(IF(($CL$13:$EK$13<=ED$13*TRANSPOSE($CK$14:$CK$65>=$CK27)),$CL$10:$EK$10,1))","v":14.488664557923149},{"$f":"PRODUCT(IF(($CL$13:$EK$13<=EE$13*TRANSPOSE($CK$14:$CK$65>=$CK27)),$CL$10:$EK$10,1))","v":14.612885358624535},{"$f":"PRODUCT(IF(($CL$13:$EK$13<=EF$13*TRANSPOSE($CK$14:$CK$65>=$CK27)),$CL$10:$EK$10,1))","v":15.260808151954253},{"$f":"PRODUCT(IF(($CL$13:$EK$13<=EG$13*TRANSPOSE($CK$14:$CK$65>=$CK27)),$CL$10:$EK$10,1))","v":15.628179405670535},{"$f":"PRODUCT(IF(($CL$13:$EK$13<=EH$13*TRANSPOSE($CK$14:$CK$65>=$CK27)),$CL$10:$EK$10,1))","v":16.237317833747984},{"$f":"PRODUCT(IF(($CL$13:$EK$13<=EI$13*TRANSPOSE($CK$14:$CK$65>=$CK27)),$CL$10:$EK$10,1))","v":17.692121609388227},{"$f":"PRODUCT(IF(($CL$13:$EK$13<=EJ$13*TRANSPOSE($CK$14:$CK$65>=$CK27)),$CL$10:$EK$10,1))","v":20.311454413156788},{"$f":"PRODUCT(IF(($CL$13:$EK$13<=EK$13*TRANSPOSE($CK$14:$CK$65>=$CK27)),$CL$10:$EK$10,1))","v":21.653718956141017}]
[null,null,1987,null,null,null,null,null,null,null,null,null,null,null,null,null,null,null,null,null,null,null,null,null,null,null,null,null,null,null,null,null,null,null,null,null,null,null,null,null,null,null,null,null,null,null,null,null,null,null,null,null,null,null,null,null,1986,-3.9569344531344974E-2,-0.11444527013582595,-5.9774061610014417E-2,-5.4440764552387999E-2,-4.8597986186320496E-2,-2.3053029071087638E-2,-9.8932307251498042E-4,2.0835688944389474E-2,3.5637711755443169E-2,6.9130052274430476E-2,8.9365725001506302E-2,0.10083289386976069,0.1168121589981066,0.11847937217525661,{"$f":"PRODUCT($CH14:$CH28)^(1/BT$13)-1","v":0.11792472759885553},null,null,null,null,null,null,null,null,null,null,null,null,1986,{"$f":"HLOOKUP($W$7,dat,MATCH(CG28,Data!$B$3:$B$60,0),0)+1","v":0.96043065546865503},null,null,1986,{"$f":"PRODUCT(IF(($CL$13:$EK$13<=CL$13*TRANSPOSE($CK$14:$CK$65>=$CK28)),$CL$10:$EK$10,1))","v":1},{"$f":"PRODUCT(IF(($CL$13:$EK$13<=CM$13*TRANSPOSE($CK$14:$CK$65>=$CK28)),$CL$10:$EK$10,1))","v":1},{"$f":"PRODUCT(IF(($CL$13:$EK$13<=CN$13*TRANSPOSE($CK$14:$CK$65>=$CK28)),$CL$10:$EK$10,1))","v":1},{"$f":"PRODUCT(IF(($CL$13:$EK$13<=CO$13*TRANSPOSE($CK$14:$CK$65>=$CK28)),$CL$10:$EK$10,1))","v":1},{"$f":"PRODUCT(IF(($CL$13:$EK$13<=CP$13*TRANSPOSE($CK$14:$CK$65>=$CK28)),$CL$10:$EK$10,1))","v":1},{"$f":"PRODUCT(IF(($CL$13:$EK$13<=CQ$13*TRANSPOSE($CK$14:$CK$65>=$CK28)),$CL$10:$EK$10,1))","v":1},{"$f":"PRODUCT(IF(($CL$13:$EK$13<=CR$13*TRANSPOSE($CK$14:$CK$65>=$CK28)),$CL$10:$EK$10,1))","v":1},{"$f":"PRODUCT(IF(($CL$13:$EK$13<=CS$13*TRANSPOSE($CK$14:$CK$65>=$CK28)),$CL$10:$EK$10,1))","v":1},{"$f":"PRODUCT(IF(($CL$13:$EK$13<=CT$13*TRANSPOSE($CK$14:$CK$65>=$CK28)),$CL$10:$EK$10,1))","v":1},{"$f":"PRODUCT(IF(($CL$13:$EK$13<=CU$13*TRANSPOSE($CK$14:$CK$65>=$CK28)),$CL$10:$EK$10,1))","v":1},{"$f":"PRODUCT(IF(($CL$13:$EK$13<=CV$13*TRANSPOSE($CK$14:$CK$65>=$CK28)),$CL$10:$EK$10,1))","v":1},{"$f":"PRODUCT(IF(($CL$13:$EK$13<=CW$13*TRANSPOSE($CK$14:$CK$65>=$CK28)),$CL$10:$EK$10,1))","v":1},{"$f":"PRODUCT(IF(($CL$13:$EK$13<=CX$13*TRANSPOSE($CK$14:$CK$65>=$CK28)),$CL$10:$EK$10,1))","v":1},{"$f":"PRODUCT(IF(($CL$13:$EK$13<=CY$13*TRANSPOSE($CK$14:$CK$65>=$CK28)),$CL$10:$EK$10,1))","v":1},{"$f":"PRODUCT(IF(($CL$13:$EK$13<=CZ$13*TRANSPOSE($CK$14:$CK$65>=$CK28)),$CL$10:$EK$10,1))","v":0.96043065546865503},{"$f":"PRODUCT(IF(($CL$13:$EK$13<=DA$13*TRANSPOSE($CK$14:$CK$65>=$CK28)),$CL$10:$EK$10,1))","v":0.95214281139898527},{"$f":"PRODUCT(IF(($CL$13:$EK$13<=DB$13*TRANSPOSE($CK$14:$CK$65>=$CK28)),$CL$10:$EK$10,1))","v":1.0997087918876127},{"$f":"PRODUCT(IF(($CL$13:$EK$13<=DC$13*TRANSPOSE($CK$14:$CK$65>=$CK28)),$CL$10:$EK$10,1))","v":1.2720429962271684},{"$f":"PRODUCT(IF(($CL$13:$EK$13<=DD$13*TRANSPOSE($CK$14:$CK$65>=$CK28)),$CL$10:$EK$10,1))","v":1.3571535286214012},{"$f":"PRODUCT(IF(($CL$13:$EK$13<=DE$13*TRANSPOSE($CK$14:$CK$65>=$CK28)),$CL$10:$EK$10,1))","v":1.4857116842663041},{"$f":"PRODUCT(IF(($CL$13:$EK$13<=DF$13*TRANSPOSE($CK$14:$CK$65>=$CK28)),$CL$10:$EK$10,1))","v":1.6462000387171498},{"$f":"PRODUCT(IF(($CL$13:$EK$13<=DG$13*TRANSPOSE($CK$14:$CK$65>=$CK28)),$CL$10:$EK$10,1))","v":1.748188101441595},{"$f":"PRODUCT(IF(($CL$13:$EK$13<=DH$13*TRANSPOSE($CK$14:$CK$65>=$CK28)),$CL$10:$EK$10,1))","v":1.9771603052682449},{"$f":"PRODUCT(IF(($CL$13:$EK$13<=DI$13*TRANSPOSE($CK$14:$CK$65>=$CK28)),$CL$10:$EK$10,1))","v":2.2413703240510814},{"$f":"PRODUCT(IF(($CL$13:$EK$13<=DJ$13*TRANSPOSE($CK$14:$CK$65>=$CK28)),$CL$10:$EK$10,1))","v":2.4405238902760198},{"$f":"PRODUCT(IF(($CL$13:$EK$13<=DK$13*TRANSPOSE($CK$14:$CK$65>=$CK28)),$CL$10:$EK$10,1))","v":2.6511897883025841},{"$f":"PRODUCT(IF(($CL$13:$EK$13<=DL$13*TRANSPOSE($CK$14:$CK$65>=$CK28)),$CL$10:$EK$10,1))","v":2.9618700841982921},{"$f":"PRODUCT(IF(($CL$13:$EK$13<=DM$13*TRANSPOSE($CK$14:$CK$65>=$CK28)),$CL$10:$EK$10,1))","v":3.2050030163702616},{"$f":"PRODUCT(IF(($CL$13:$EK$13<=DN$13*TRANSPOSE($CK$14:$CK$65>=$CK28)),$CL$10:$EK$10,1))","v":3.3990907295164994},{"$f":"PRODUCT(IF(($CL$13:$EK$13<=DO$13*TRANSPOSE($CK$14:$CK$65>=$CK28)),$CL$10:$EK$10,1))","v":3.588173345727109},{"$f":"PRODUCT(IF(($CL$13:$EK$13<=DP$13*TRANSPOSE($CK$14:$CK$65>=$CK28)),$CL$10:$EK$10,1))","v":3.8337608533817633},{"$f":"PRODUCT(IF(($CL$13:$EK$13<=DQ$13*TRANSPOSE($CK$14:$CK$65>=$CK28)),$CL$10:$EK$10,1))","v":4.1225508389484196},{"$f":"PRODUCT(IF(($CL$13:$EK$13<=DR$13*TRANSPOSE($CK$14:$CK$65>=$CK28)),$CL$10:$EK$10,1))","v":4.5114622423320681},{"$f":"PRODUCT(IF(($CL$13:$EK$13<=DS$13*TRANSPOSE($CK$14:$CK$65>=$CK28)),$CL$10:$EK$10,1))","v":5.8106365659578785},{"$f":"PRODUCT(IF(($CL$13:$EK$13<=DT$13*TRANSPOSE($CK$14:$CK$65>=$CK28)),$CL$10:$EK$10,1))","v":6.6767810040417945},{"$f":"PRODUCT(IF(($CL$13:$EK$13<=DU$13*TRANSPOSE($CK$14:$CK$65>=$CK28)),$CL$10:$EK$10,1))","v":7.6716514884154003},{"$f":"PRODUCT(IF(($CL$13:$EK$13<=DV$13*TRANSPOSE($CK$14:$CK$65>=$CK28)),$CL$10:$EK$10,1))","v":8.9077598747363087},{"$f":"PRODUCT(IF(($CL$13:$EK$13<=DW$13*TRANSPOSE($CK$14:$CK$65>=$CK28)),$CL$10:$EK$10,1))","v":8.9885557424420224},{"$f":"PRODUCT(IF(($CL$13:$EK$13<=DX$13*TRANSPOSE($CK$14:$CK$65>=$CK28)),$CL$10:$EK$10,1))","v":9.8165408082707923},{"$f":"PRODUCT(IF(($CL$13:$EK$13<=DY$13*TRANSPOSE($CK$14:$CK$65>=$CK28)),$CL$10:$EK$10,1))","v":11.501026115424652},{"$f":"PRODUCT(IF(($CL$13:$EK$13<=DZ$13*TRANSPOSE($CK$14:$CK$65>=$CK28)),$CL$10:$EK$10,1))","v":13.594889849647108},{"$f":"PRODUCT(IF(($CL$13:$EK$13<=EA$13*TRANSPOSE($CK$14:$CK$65>=$CK28)),$CL$10:$EK$10,1))","v":15.926688557749461},{"$f":"PRODUCT(IF(($CL$13:$EK$13<=EB$13*TRANSPOSE($CK$14:$CK$65>=$CK28)),$CL$10:$EK$10,1))","v":17.209927964318695},{"$f":"PRODUCT(IF(($CL$13:$EK$13<=EC$13*TRANSPOSE($CK$14:$CK$65>=$CK28)),$CL$10:$EK$10,1))","v":17.562977826391684},{"$f":"PRODUCT(IF(($CL$13:$EK$13<=ED$13*TRANSPOSE($CK$14:$CK$65>=$CK28)),$CL$10:$EK$10,1))","v":17.744491456452796},{"$f":"PRODUCT(IF(($CL$13:$EK$13<=EE$13*TRANSPOSE($CK$14:$CK$65>=$CK28)),$CL$10:$EK$10,1))","v":17.896626591333398},{"$f":"PRODUCT(IF(($CL$13:$EK$13<=EF$13*TRANSPOSE($CK$14:$CK$65>=$CK28)),$CL$10:$EK$10,1))","v":18.690147652209433},{"$f":"PRODUCT(IF(($CL$13:$EK$13<=EG$13*TRANSPOSE($CK$14:$CK$65>=$CK28)),$CL$10:$EK$10,1))","v":19.140072905627637},{"$f":"PRODUCT(IF(($CL$13:$EK$13<=EH$13*TRANSPOSE($CK$14:$CK$65>=$CK28)),$CL$10:$EK$10,1))","v":19.886094154832868},{"$f":"PRODUCT(IF(($CL$13:$EK$13<=EI$13*TRANSPOSE($CK$14:$CK$65>=$CK28)),$CL$10:$EK$10,1))","v":21.667814827877695},{"$f":"PRODUCT(IF(($CL$13:$EK$13<=EJ$13*TRANSPOSE($CK$14:$CK$65>=$CK28)),$CL$10:$EK$10,1))","v":24.875752203490467},{"$f":"PRODUCT(IF(($CL$13:$EK$13<=EK$13*TRANSPOSE($CK$14:$CK$65>=$CK28)),$CL$10:$EK$10,1))","v":26.519644338618846}]
[null,null,1988,null,null,null,null,null,null,null,null,null,null,null,null,null,null,null,null,null,null,null,null,null,null,null,null,null,null,null,null,null,null,null,null,null,null,null,null,null,null,null,null,null,null,null,null,null,null,null,null,null,null,null,null,null,1987,-8.6292998067888371E-3,-2.4221945625448438E-2,-8.0491748019859921E-2,-4.7240712719798017E-2,-4.5451040653487595E-2,-4.2050235124129198E-2,-2.1005416348877315E-2,-1.9475307502011541E-3,1.751902348045542E-2,3.1123485548029128E-2,6.1815896673660387E-2,8.0842063342657866E-2,9.1999721240690002E-2,0.10734801042661801,0.10952012892586249,{"$f":"PRODUCT($CH14:$CH29)^(1/BU$13)-1","v":0.10956189164760044},null,null,null,null,null,null,null,null,null,null,null,1987,{"$f":"HLOOKUP($W$7,dat,MATCH(CG29,Data!$B$3:$B$60,0),0)+1","v":0.99137070019321116},null,null,1987,{"$f":"PRODUCT(IF(($CL$13:$EK$13<=CL$13*TRANSPOSE($CK$14:$CK$65>=$CK29)),$CL$10:$EK$10,1))","v":1},{"$f":"PRODUCT(IF(($CL$13:$EK$13<=CM$13*TRANSPOSE($CK$14:$CK$65>=$CK29)),$CL$10:$EK$10,1))","v":1},{"$f":"PRODUCT(IF(($CL$13:$EK$13<=CN$13*TRANSPOSE($CK$14:$CK$65>=$CK29)),$CL$10:$EK$10,1))","v":1},{"$f":"PRODUCT(IF(($CL$13:$EK$13<=CO$13*TRANSPOSE($CK$14:$CK$65>=$CK29)),$CL$10:$EK$10,1))","v":1},{"$f":"PRODUCT(IF(($CL$13:$EK$13<=CP$13*TRANSPOSE($CK$14:$CK$65>=$CK29)),$CL$10:$EK$10,1))","v":1},{"$f":"PRODUCT(IF(($CL$13:$EK$13<=CQ$13*TRANSPOSE($CK$14:$CK$65>=$CK29)),$CL$10:$EK$10,1))","v":1},{"$f":"PRODUCT(IF(($CL$13:$EK$13<=CR$13*TRANSPOSE($CK$14:$CK$65>=$CK29)),$CL$10:$EK$10,1))","v":1},{"$f":"PRODUCT(IF(($CL$13:$EK$13<=CS$13*TRANSPOSE($CK$14:$CK$65>=$CK29)),$CL$10:$EK$10,1))","v":1},{"$f":"PRODUCT(IF(($CL$13:$EK$13<=CT$13*TRANSPOSE($CK$14:$CK$65>=$CK29)),$CL$10:$EK$10,1))","v":1},{"$f":"PRODUCT(IF(($CL$13:$EK$13<=CU$13*TRANSPOSE($CK$14:$CK$65>=$CK29)),$CL$10:$EK$10,1))","v":1},{"$f":"PRODUCT(IF(($CL$13:$EK$13<=CV$13*TRANSPOSE($CK$14:$CK$65>=$CK29)),$CL$10:$EK$10,1))","v":1},{"$f":"PRODUCT(IF(($CL$13:$EK$13<=CW$13*TRANSPOSE($CK$14:$CK$65>=$CK29)),$CL$10:$EK$10,1))","v":1},{"$f":"PRODUCT(IF(($CL$13:$EK$13<=CX$13*TRANSPOSE($CK$14:$CK$65>=$CK29)),$CL$10:$EK$10,1))","v":1},{"$f":"PRODUCT(IF(($CL$13:$EK$13<=CY$13*TRANSPOSE($CK$14:$CK$65>=$CK29)),$CL$10:$EK$10,1))","v":1},{"$f":"PRODUCT(IF(($CL$13:$EK$13<=CZ$13*TRANSPOSE($CK$14:$CK$65>=$CK29)),$CL$10:$EK$10,1))","v":1},{"$f":"PRODUCT(IF(($CL$13:$EK$13<=DA$13*TRANSPOSE($CK$14:$CK$65>=$CK29)),$CL$10:$EK$10,1))","v":0.99137070019321116},{"$f":"PRODUCT(IF(($CL$13:$EK$13<=DB$13*TRANSPOSE($CK$14:$CK$65>=$CK29)),$CL$10:$EK$10,1))","v":1.145016337854184},{"$f":"PRODUCT(IF(($CL$13:$EK$13<=DC$13*TRANSPOSE($CK$14:$CK$65>=$CK29)),$CL$10:$EK$10,1))","v":1.3244506399126319},{"$f":"PRODUCT(IF(($CL$13:$EK$13<=DD$13*TRANSPOSE($CK$14:$CK$65>=$CK29)),$CL$10:$EK$10,1))","v":1.4130676909299194},{"$f":"PRODUCT(IF(($CL$13:$EK$13<=DE$13*TRANSPOSE($CK$14:$CK$65>=$CK29)),$CL$10:$EK$10,1))","v":1.5469223892497801},{"$f":"PRODUCT(IF(($CL$13:$EK$13<=DF$13*TRANSPOSE($CK$14:$CK$65>=$CK29)),$CL$10:$EK$10,1))","v":1.7140227973188387},{"$f":"PRODUCT(IF(($CL$13:$EK$13<=DG$13*TRANSPOSE($CK$14:$CK$65>=$CK29)),$CL$10:$EK$10,1))","v":1.8202127259136092},{"$f":"PRODUCT(IF(($CL$13:$EK$13<=DH$13*TRANSPOSE($CK$14:$CK$65>=$CK29)),$CL$10:$EK$10,1))","v":2.0586184895394277},{"$f":"PRODUCT(IF(($CL$13:$EK$13<=DI$13*TRANSPOSE($CK$14:$CK$65>=$CK29)),$CL$10:$EK$10,1))","v":2.3337138514777775},{"$f":"PRODUCT(IF(($CL$13:$EK$13<=DJ$13*TRANSPOSE($CK$14:$CK$65>=$CK29)),$CL$10:$EK$10,1))","v":2.541072462004176},{"$f":"PRODUCT(IF(($CL$13:$EK$13<=DK$13*TRANSPOSE($CK$14:$CK$65>=$CK29)),$CL$10:$EK$10,1))","v":2.7604177076260652},{"$f":"PRODUCT(IF(($CL$13:$EK$13<=DL$13*TRANSPOSE($CK$14:$CK$65>=$CK29)),$CL$10:$EK$10,1))","v":3.0838979028142406},{"$f":"PRODUCT(IF(($CL$13:$EK$13<=DM$13*TRANSPOSE($CK$14:$CK$65>=$CK29)),$CL$10:$EK$10,1))","v":3.3370478109180479},{"$f":"PRODUCT(IF(($CL$13:$EK$13<=DN$13*TRANSPOSE($CK$14:$CK$65>=$CK29)),$CL$10:$EK$10,1))","v":3.5391318573206796},{"$f":"PRODUCT(IF(($CL$13:$EK$13<=DO$13*TRANSPOSE($CK$14:$CK$65>=$CK29)),$CL$10:$EK$10,1))","v":3.7360045988705046},{"$f":"PRODUCT(IF(($CL$13:$EK$13<=DP$13*TRANSPOSE($CK$14:$CK$65>=$CK29)),$CL$10:$EK$10,1))","v":3.9917102099485025},{"$f":"PRODUCT(IF(($CL$13:$EK$13<=DQ$13*TRANSPOSE($CK$14:$CK$65>=$CK29)),$CL$10:$EK$10,1))","v":4.2923982231041604},{"$f":"PRODUCT(IF(($CL$13:$EK$13<=DR$13*TRANSPOSE($CK$14:$CK$65>=$CK29)),$CL$10:$EK$10,1))","v":4.697332614951403},{"$f":"PRODUCT(IF(($CL$13:$EK$13<=DS$13*TRANSPOSE($CK$14:$CK$65>=$CK29)),$CL$10:$EK$10,1))","v":6.050032381694959},{"$f":"PRODUCT(IF(($CL$13:$EK$13<=DT$13*TRANSPOSE($CK$14:$CK$65>=$CK29)),$CL$10:$EK$10,1))","v":6.9518616112724647},{"$f":"PRODUCT(IF(($CL$13:$EK$13<=DU$13*TRANSPOSE($CK$14:$CK$65>=$CK29)),$CL$10:$EK$10,1))","v":7.9877203468395264},{"$f":"PRODUCT(IF(($CL$13:$EK$13<=DV$13*TRANSPOSE($CK$14:$CK$65>=$CK29)),$CL$10:$EK$10,1))","v":9.2747558858267034},{"$f":"PRODUCT(IF(($CL$13:$EK$13<=DW$13*TRANSPOSE($CK$14:$CK$65>=$CK29)),$CL$10:$EK$10,1))","v":9.3588805097604197},{"$f":"PRODUCT(IF(($CL$13:$EK$13<=DX$13*TRANSPOSE($CK$14:$CK$65>=$CK29)),$CL$10:$EK$10,1))","v":10.220978216777844},{"$f":"PRODUCT(IF(($CL$13:$EK$13<=DY$13*TRANSPOSE($CK$14:$CK$65>=$CK29)),$CL$10:$EK$10,1))","v":11.974863619708774},{"$f":"PRODUCT(IF(($CL$13:$EK$13<=DZ$13*TRANSPOSE($CK$14:$CK$65>=$CK29)),$CL$10:$EK$10,1))","v":14.154993671056131},{"$f":"PRODUCT(IF(($CL$13:$EK$13<=EA$13*TRANSPOSE($CK$14:$CK$65>=$CK29)),$CL$10:$EK$10,1))","v":16.582861518490176},{"$f":"PRODUCT(IF(($CL$13:$EK$13<=EB$13*TRANSPOSE($CK$14:$CK$65>=$CK29)),$CL$10:$EK$10,1))","v":17.918969856205678},{"$f":"PRODUCT(IF(($CL$13:$EK$13<=EC$13*TRANSPOSE($CK$14:$CK$65>=$CK29)),$CL$10:$EK$10,1))","v":18.286565226118888},{"$f":"PRODUCT(IF(($CL$13:$EK$13<=ED$13*TRANSPOSE($CK$14:$CK$65>=$CK29)),$CL$10:$EK$10,1))","v":18.475557142430159},{"$f":"PRODUCT(IF(($CL$13:$EK$13<=EE$13*TRANSPOSE($CK$14:$CK$65>=$CK29)),$CL$10:$EK$10,1))","v":18.633960181748353},{"$f":"PRODUCT(IF(($CL$13:$EK$13<=EF$13*TRANSPOSE($CK$14:$CK$65>=$CK29)),$CL$10:$EK$10,1))","v":19.460173981107793},{"$f":"PRODUCT(IF(($CL$13:$EK$13<=EG$13*TRANSPOSE($CK$14:$CK$65>=$CK29)),$CL$10:$EK$10,1))","v":19.928635968296923},{"$f":"PRODUCT(IF(($CL$13:$EK$13<=EH$13*TRANSPOSE($CK$14:$CK$65>=$CK29)),$CL$10:$EK$10,1))","v":20.705392983451965},{"$f":"PRODUCT(IF(($CL$13:$EK$13<=EI$13*TRANSPOSE($CK$14:$CK$65>=$CK29)),$CL$10:$EK$10,1))","v":22.5605198090065},{"$f":"PRODUCT(IF(($CL$13:$EK$13<=EJ$13*TRANSPOSE($CK$14:$CK$65>=$CK29)),$CL$10:$EK$10,1))","v":25.900622873550411},{"$f":"PRODUCT(IF(($CL$13:$EK$13<=EK$13*TRANSPOSE($CK$14:$CK$65>=$CK29)),$CL$10:$EK$10,1))","v":27.612242682610152}]
[null,null,1989,null,null,null,null,null,null,null,null,null,null,null,null,null,null,null,null,null,null,null,null,null,null,null,null,null,null,null,null,null,null,null,null,null,null,null,null,null,null,null,null,null,null,null,null,null,null,null,null,null,null,null,null,null,1988,0.15498303271523794,7.0054362102311085E-2,3.2189013979116554E-2,-2.6556780509775613E-2,-9.8484456935497011E-3,-1.4641105582655856E-2,-1.6107996820335146E-2,-5.646566984766066E-4,1.4379089377995147E-2,3.0494893904564391E-2,4.1811886869353554E-2,6.9284048448212232E-2,8.6372217705516841E-2,9.6382343713180774E-2,0.11046164137691661,0.1123083867184631,{"$f":"PRODUCT($CH14:$CH30)^(1/BV$13)-1","v":0.11218357676878998},null,null,null,null,null,null,null,null,null,null,1988,{"$f":"HLOOKUP($W$7,dat,MATCH(CG30,Data!$B$3:$B$60,0),0)+1","v":1.1549830327152379},null,null,1988,{"$f":"PRODUCT(IF(($CL$13:$EK$13<=CL$13*TRANSPOSE($CK$14:$CK$65>=$CK30)),$CL$10:$EK$10,1))","v":1},{"$f":"PRODUCT(IF(($CL$13:$EK$13<=CM$13*TRANSPOSE($CK$14:$CK$65>=$CK30)),$CL$10:$EK$10,1))","v":1},{"$f":"PRODUCT(IF(($CL$13:$EK$13<=CN$13*TRANSPOSE($CK$14:$CK$65>=$CK30)),$CL$10:$EK$10,1))","v":1},{"$f":"PRODUCT(IF(($CL$13:$EK$13<=CO$13*TRANSPOSE($CK$14:$CK$65>=$CK30)),$CL$10:$EK$10,1))","v":1},{"$f":"PRODUCT(IF(($CL$13:$EK$13<=CP$13*TRANSPOSE($CK$14:$CK$65>=$CK30)),$CL$10:$EK$10,1))","v":1},{"$f":"PRODUCT(IF(($CL$13:$EK$13<=CQ$13*TRANSPOSE($CK$14:$CK$65>=$CK30)),$CL$10:$EK$10,1))","v":1},{"$f":"PRODUCT(IF(($CL$13:$EK$13<=CR$13*TRANSPOSE($CK$14:$CK$65>=$CK30)),$CL$10:$EK$10,1))","v":1},{"$f":"PRODUCT(IF(($CL$13:$EK$13<=CS$13*TRANSPOSE($CK$14:$CK$65>=$CK30)),$CL$10:$EK$10,1))","v":1},{"$f":"PRODUCT(IF(($CL$13:$EK$13<=CT$13*TRANSPOSE($CK$14:$CK$65>=$CK30)),$CL$10:$EK$10,1))","v":1},{"$f":"PRODUCT(IF(($CL$13:$EK$13<=CU$13*TRANSPOSE($CK$14:$CK$65>=$CK30)),$CL$10:$EK$10,1))","v":1},{"$f":"PRODUCT(IF(($CL$13:$EK$13<=CV$13*TRANSPOSE($CK$14:$CK$65>=$CK30)),$CL$10:$EK$10,1))","v":1},{"$f":"PRODUCT(IF(($CL$13:$EK$13<=CW$13*TRANSPOSE($CK$14:$CK$65>=$CK30)),$CL$10:$EK$10,1))","v":1},{"$f":"PRODUCT(IF(($CL$13:$EK$13<=CX$13*TRANSPOSE($CK$14:$CK$65>=$CK30)),$CL$10:$EK$10,1))","v":1},{"$f":"PRODUCT(IF(($CL$13:$EK$13<=CY$13*TRANSPOSE($CK$14:$CK$65>=$CK30)),$CL$10:$EK$10,1))","v":1},{"$f":"PRODUCT(IF(($CL$13:$EK$13<=CZ$13*TRANSPOSE($CK$14:$CK$65>=$CK30)),$CL$10:$EK$10,1))","v":1},{"$f":"PRODUCT(IF(($CL$13:$EK$13<=DA$13*TRANSPOSE($CK$14:$CK$65>=$CK30)),$CL$10:$EK$10,1))","v":1},{"$f":"PRODUCT(IF(($CL$13:$EK$13<=DB$13*TRANSPOSE($CK$14:$CK$65>=$CK30)),$CL$10:$EK$10,1))","v":1.1549830327152379},{"$f":"PRODUCT(IF(($CL$13:$EK$13<=DC$13*TRANSPOSE($CK$14:$CK$65>=$CK30)),$CL$10:$EK$10,1))","v":1.3359792050082837},{"$f":"PRODUCT(IF(($CL$13:$EK$13<=DD$13*TRANSPOSE($CK$14:$CK$65>=$CK30)),$CL$10:$EK$10,1))","v":1.4253676154182511},{"$f":"PRODUCT(IF(($CL$13:$EK$13<=DE$13*TRANSPOSE($CK$14:$CK$65>=$CK30)),$CL$10:$EK$10,1))","v":1.5603874402867624},{"$f":"PRODUCT(IF(($CL$13:$EK$13<=DF$13*TRANSPOSE($CK$14:$CK$65>=$CK30)),$CL$10:$EK$10,1))","v":1.7289423592857724},{"$f":"PRODUCT(IF(($CL$13:$EK$13<=DG$13*TRANSPOSE($CK$14:$CK$65>=$CK30)),$CL$10:$EK$10,1))","v":1.8360566088536432},{"$f":"PRODUCT(IF(($CL$13:$EK$13<=DH$13*TRANSPOSE($CK$14:$CK$65>=$CK30)),$CL$10:$EK$10,1))","v":2.0765375546586329},{"$f":"PRODUCT(IF(($CL$13:$EK$13<=DI$13*TRANSPOSE($CK$14:$CK$65>=$CK30)),$CL$10:$EK$10,1))","v":2.3540274601851285},{"$f":"PRODUCT(IF(($CL$13:$EK$13<=DJ$13*TRANSPOSE($CK$14:$CK$65>=$CK30)),$CL$10:$EK$10,1))","v":2.563191005654029},{"$f":"PRODUCT(IF(($CL$13:$EK$13<=DK$13*TRANSPOSE($CK$14:$CK$65>=$CK30)),$CL$10:$EK$10,1))","v":2.7844455228383076},{"$f":"PRODUCT(IF(($CL$13:$EK$13<=DL$13*TRANSPOSE($CK$14:$CK$65>=$CK30)),$CL$10:$EK$10,1))","v":3.1107414231762252},{"$f":"PRODUCT(IF(($CL$13:$EK$13<=DM$13*TRANSPOSE($CK$14:$CK$65>=$CK30)),$CL$10:$EK$10,1))","v":3.3660948525790411},{"$f":"PRODUCT(IF(($CL$13:$EK$13<=DN$13*TRANSPOSE($CK$14:$CK$65>=$CK30)),$CL$10:$EK$10,1))","v":3.5699379219407308},{"$f":"PRODUCT(IF(($CL$13:$EK$13<=DO$13*TRANSPOSE($CK$14:$CK$65>=$CK30)),$CL$10:$EK$10,1))","v":3.7685243251009775},{"$f":"PRODUCT(IF(($CL$13:$EK$13<=DP$13*TRANSPOSE($CK$14:$CK$65>=$CK30)),$CL$10:$EK$10,1))","v":4.026455703371651},{"$f":"PRODUCT(IF(($CL$13:$EK$13<=DQ$13*TRANSPOSE($CK$14:$CK$65>=$CK30)),$CL$10:$EK$10,1))","v":4.3297610291161543},{"$f":"PRODUCT(IF(($CL$13:$EK$13<=DR$13*TRANSPOSE($CK$14:$CK$65>=$CK30)),$CL$10:$EK$10,1))","v":4.7382201370646984},{"$f":"PRODUCT(IF(($CL$13:$EK$13<=DS$13*TRANSPOSE($CK$14:$CK$65>=$CK30)),$CL$10:$EK$10,1))","v":6.1026943609649242},{"$f":"PRODUCT(IF(($CL$13:$EK$13<=DT$13*TRANSPOSE($CK$14:$CK$65>=$CK30)),$CL$10:$EK$10,1))","v":7.0123734844267585},{"$f":"PRODUCT(IF(($CL$13:$EK$13<=DU$13*TRANSPOSE($CK$14:$CK$65>=$CK30)),$CL$10:$EK$10,1))","v":8.0572487620249174},{"$f":"PRODUCT(IF(($CL$13:$EK$13<=DV$13*TRANSPOSE($CK$14:$CK$65>=$CK30)),$CL$10:$EK$10,1))","v":9.3554871896245455},{"$f":"PRODUCT(IF(($CL$13:$EK$13<=DW$13*TRANSPOSE($CK$14:$CK$65>=$CK30)),$CL$10:$EK$10,1))","v":9.4403440690111573},{"$f":"PRODUCT(IF(($CL$13:$EK$13<=DX$13*TRANSPOSE($CK$14:$CK$65>=$CK30)),$CL$10:$EK$10,1))","v":10.309945830339595},{"$f":"PRODUCT(IF(($CL$13:$EK$13<=DY$13*TRANSPOSE($CK$14:$CK$65>=$CK30)),$CL$10:$EK$10,1))","v":12.079097775811768},{"$f":"PRODUCT(IF(($CL$13:$EK$13<=DZ$13*TRANSPOSE($CK$14:$CK$65>=$CK30)),$CL$10:$EK$10,1))","v":14.278204579071602},{"$f":"PRODUCT(IF(($CL$13:$EK$13<=EA$13*TRANSPOSE($CK$14:$CK$65>=$CK30)),$CL$10:$EK$10,1))","v":16.727205590460045},{"$f":"PRODUCT(IF(($CL$13:$EK$13<=EB$13*TRANSPOSE($CK$14:$CK$65>=$CK30)),$CL$10:$EK$10,1))","v":18.074943966685105},{"$f":"PRODUCT(IF(($CL$13:$EK$13<=EC$13*TRANSPOSE($CK$14:$CK$65>=$CK30)),$CL$10:$EK$10,1))","v":18.445739038439363},{"$f":"PRODUCT(IF(($CL$13:$EK$13<=ED$13*TRANSPOSE($CK$14:$CK$65>=$CK30)),$CL$10:$EK$10,1))","v":18.63637601840502},{"$f":"PRODUCT(IF(($CL$13:$EK$13<=EE$13*TRANSPOSE($CK$14:$CK$65>=$CK30)),$CL$10:$EK$10,1))","v":18.796157863165334},{"$f":"PRODUCT(IF(($CL$13:$EK$13<=EF$13*TRANSPOSE($CK$14:$CK$65>=$CK30)),$CL$10:$EK$10,1))","v":19.629563368490857},{"$f":"PRODUCT(IF(($CL$13:$EK$13<=EG$13*TRANSPOSE($CK$14:$CK$65>=$CK30)),$CL$10:$EK$10,1))","v":20.10210304219498},{"$f":"PRODUCT(IF(($CL$13:$EK$13<=EH$13*TRANSPOSE($CK$14:$CK$65>=$CK30)),$CL$10:$EK$10,1))","v":20.885621271050901},{"$f":"PRODUCT(IF(($CL$13:$EK$13<=EI$13*TRANSPOSE($CK$14:$CK$65>=$CK30)),$CL$10:$EK$10,1))","v":22.75689588628109},{"$f":"PRODUCT(IF(($CL$13:$EK$13<=EJ$13*TRANSPOSE($CK$14:$CK$65>=$CK30)),$CL$10:$EK$10,1))","v":26.126072586674741},{"$f":"PRODUCT(IF(($CL$13:$EK$13<=EK$13*TRANSPOSE($CK$14:$CK$65>=$CK30)),$CL$10:$EK$10,1))","v":27.852591041099668}]
[null,null,1990,null,null,null,null,null,null,null,null,null,null,null,null,null,null,null,null,null,null,null,null,null,null,null,null,null,null,null,null,null,null,null,null,null,null,null,null,null,null,null,null,null,null,null,null,null,null,null,null,null,null,null,null,null,1989,0.15670894477778052,0.15584566660444921,9.8192801135359442E-2,6.2002276700264813E-2,7.6119705056452158E-3,1.6144358337249365E-2,8.1880243098078065E-3,3.9960719093763419E-3,1.5796841140254037E-2,2.7785931249969309E-2,4.1375853126331741E-2,5.093423676110298E-2,7.5767822986589017E-2,9.1251248927348705E-2,0.10030436806069809,0.11329714315191919,0.11487235357135894,{"$f":"PRODUCT($CH14:$CH31)^(1/BW$13)-1","v":0.11461162300876659},null,null,null,null,null,null,null,null,null,1989,{"$f":"HLOOKUP($W$7,dat,MATCH(CG31,Data!$B$3:$B$60,0),0)+1","v":1.1567089447777805},null,null,1989,{"$f":"PRODUCT(IF(($CL$13:$EK$13<=CL$13*TRANSPOSE($CK$14:$CK$65>=$CK31)),$CL$10:$EK$10,1))","v":1},{"$f":"PRODUCT(IF(($CL$13:$EK$13<=CM$13*TRANSPOSE($CK$14:$CK$65>=$CK31)),$CL$10:$EK$10,1))","v":1},{"$f":"PRODUCT(IF(($CL$13:$EK$13<=CN$13*TRANSPOSE($CK$14:$CK$65>=$CK31)),$CL$10:$EK$10,1))","v":1},{"$f":"PRODUCT(IF(($CL$13:$EK$13<=CO$13*TRANSPOSE($CK$14:$CK$65>=$CK31)),$CL$10:$EK$10,1))","v":1},{"$f":"PRODUCT(IF(($CL$13:$EK$13<=CP$13*TRANSPOSE($CK$14:$CK$65>=$CK31)),$CL$10:$EK$10,1))","v":1},{"$f":"PRODUCT(IF(($CL$13:$EK$13<=CQ$13*TRANSPOSE($CK$14:$CK$65>=$CK31)),$CL$10:$EK$10,1))","v":1},{"$f":"PRODUCT(IF(($CL$13:$EK$13<=CR$13*TRANSPOSE($CK$14:$CK$65>=$CK31)),$CL$10:$EK$10,1))","v":1},{"$f":"PRODUCT(IF(($CL$13:$EK$13<=CS$13*TRANSPOSE($CK$14:$CK$65>=$CK31)),$CL$10:$EK$10,1))","v":1},{"$f":"PRODUCT(IF(($CL$13:$EK$13<=CT$13*TRANSPOSE($CK$14:$CK$65>=$CK31)),$CL$10:$EK$10,1))","v":1},{"$f":"PRODUCT(IF(($CL$13:$EK$13<=CU$13*TRANSPOSE($CK$14:$CK$65>=$CK31)),$CL$10:$EK$10,1))","v":1},{"$f":"PRODUCT(IF(($CL$13:$EK$13<=CV$13*TRANSPOSE($CK$14:$CK$65>=$CK31)),$CL$10:$EK$10,1))","v":1},{"$f":"PRODUCT(IF(($CL$13:$EK$13<=CW$13*TRANSPOSE($CK$14:$CK$65>=$CK31)),$CL$10:$EK$10,1))","v":1},{"$f":"PRODUCT(IF(($CL$13:$EK$13<=CX$13*TRANSPOSE($CK$14:$CK$65>=$CK31)),$CL$10:$EK$10,1))","v":1},{"$f":"PRODUCT(IF(($CL$13:$EK$13<=CY$13*TRANSPOSE($CK$14:$CK$65>=$CK31)),$CL$10:$EK$10,1))","v":1},{"$f":"PRODUCT(IF(($CL$13:$EK$13<=CZ$13*TRANSPOSE($CK$14:$CK$65>=$CK31)),$CL$10:$EK$10,1))","v":1},{"$f":"PRODUCT(IF(($CL$13:$EK$13<=DA$13*TRANSPOSE($CK$14:$CK$65>=$CK31)),$CL$10:$EK$10,1))","v":1},{"$f":"PRODUCT(IF(($CL$13:$EK$13<=DB$13*TRANSPOSE($CK$14:$CK$65>=$CK31)),$CL$10:$EK$10,1))","v":1},{"$f":"PRODUCT(IF(($CL$13:$EK$13<=DC$13*TRANSPOSE($CK$14:$CK$65>=$CK31)),$CL$10:$EK$10,1))","v":1.1567089447777805},{"$f":"PRODUCT(IF(($CL$13:$EK$13<=DD$13*TRANSPOSE($CK$14:$CK$65>=$CK31)),$CL$10:$EK$10,1))","v":1.234102644839179},{"$f":"PRODUCT(IF(($CL$13:$EK$13<=DE$13*TRANSPOSE($CK$14:$CK$65>=$CK31)),$CL$10:$EK$10,1))","v":1.3510046434348593},{"$f":"PRODUCT(IF(($CL$13:$EK$13<=DF$13*TRANSPOSE($CK$14:$CK$65>=$CK31)),$CL$10:$EK$10,1))","v":1.4969417820980619},{"$f":"PRODUCT(IF(($CL$13:$EK$13<=DG$13*TRANSPOSE($CK$14:$CK$65>=$CK31)),$CL$10:$EK$10,1))","v":1.5896827545052989},{"$f":"PRODUCT(IF(($CL$13:$EK$13<=DH$13*TRANSPOSE($CK$14:$CK$65>=$CK31)),$CL$10:$EK$10,1))","v":1.7978944242816466},{"$f":"PRODUCT(IF(($CL$13:$EK$13<=DI$13*TRANSPOSE($CK$14:$CK$65>=$CK31)),$CL$10:$EK$10,1))","v":2.0381489541461653},{"$f":"PRODUCT(IF(($CL$13:$EK$13<=DJ$13*TRANSPOSE($CK$14:$CK$65>=$CK31)),$CL$10:$EK$10,1))","v":2.2192455932692354},{"$f":"PRODUCT(IF(($CL$13:$EK$13<=DK$13*TRANSPOSE($CK$14:$CK$65>=$CK31)),$CL$10:$EK$10,1))","v":2.4108107599575579},{"$f":"PRODUCT(IF(($CL$13:$EK$13<=DL$13*TRANSPOSE($CK$14:$CK$65>=$CK31)),$CL$10:$EK$10,1))","v":2.6933221831520888},{"$f":"PRODUCT(IF(($CL$13:$EK$13<=DM$13*TRANSPOSE($CK$14:$CK$65>=$CK31)),$CL$10:$EK$10,1))","v":2.9144106512679437},{"$f":"PRODUCT(IF(($CL$13:$EK$13<=DN$13*TRANSPOSE($CK$14:$CK$65>=$CK31)),$CL$10:$EK$10,1))","v":3.0909007498995029},{"$f":"PRODUCT(IF(($CL$13:$EK$13<=DO$13*TRANSPOSE($CK$14:$CK$65>=$CK31)),$CL$10:$EK$10,1))","v":3.2628395555228131},{"$f":"PRODUCT(IF(($CL$13:$EK$13<=DP$13*TRANSPOSE($CK$14:$CK$65>=$CK31)),$CL$10:$EK$10,1))","v":3.4861600467895162},{"$f":"PRODUCT(IF(($CL$13:$EK$13<=DQ$13*TRANSPOSE($CK$14:$CK$65>=$CK31)),$CL$10:$EK$10,1))","v":3.7487659181774839},{"$f":"PRODUCT(IF(($CL$13:$EK$13<=DR$13*TRANSPOSE($CK$14:$CK$65>=$CK31)),$CL$10:$EK$10,1))","v":4.1024153626964237},{"$f":"PRODUCT(IF(($CL$13:$EK$13<=DS$13*TRANSPOSE($CK$14:$CK$65>=$CK31)),$CL$10:$EK$10,1))","v":5.283795681931502},{"$f":"PRODUCT(IF(($CL$13:$EK$13<=DT$13*TRANSPOSE($CK$14:$CK$65>=$CK31)),$CL$10:$EK$10,1))","v":6.0714082248822665},{"$f":"PRODUCT(IF(($CL$13:$EK$13<=DU$13*TRANSPOSE($CK$14:$CK$65>=$CK31)),$CL$10:$EK$10,1))","v":6.9760754347041907},{"$f":"PRODUCT(IF(($CL$13:$EK$13<=DV$13*TRANSPOSE($CK$14:$CK$65>=$CK31)),$CL$10:$EK$10,1))","v":8.1001079016986317},{"$f":"PRODUCT(IF(($CL$13:$EK$13<=DW$13*TRANSPOSE($CK$14:$CK$65>=$CK31)),$CL$10:$EK$10,1))","v":8.1735781406398242},{"$f":"PRODUCT(IF(($CL$13:$EK$13<=DX$13*TRANSPOSE($CK$14:$CK$65>=$CK31)),$CL$10:$EK$10,1))","v":8.926491159010407},{"$f":"PRODUCT(IF(($CL$13:$EK$13<=DY$13*TRANSPOSE($CK$14:$CK$65>=$CK31)),$CL$10:$EK$10,1))","v":10.458246947069988},{"$f":"PRODUCT(IF(($CL$13:$EK$13<=DZ$13*TRANSPOSE($CK$14:$CK$65>=$CK31)),$CL$10:$EK$10,1))","v":12.362263491875826},{"$f":"PRODUCT(IF(($CL$13:$EK$13<=EA$13*TRANSPOSE($CK$14:$CK$65>=$CK31)),$CL$10:$EK$10,1))","v":14.48264183685559},{"$f":"PRODUCT(IF(($CL$13:$EK$13<=EB$13*TRANSPOSE($CK$14:$CK$65>=$CK31)),$CL$10:$EK$10,1))","v":15.649532031819474},{"$f":"PRODUCT(IF(($CL$13:$EK$13<=EC$13*TRANSPOSE($CK$14:$CK$65>=$CK31)),$CL$10:$EK$10,1))","v":15.970571442140992},{"$f":"PRODUCT(IF(($CL$13:$EK$13<=ED$13*TRANSPOSE($CK$14:$CK$65>=$CK31)),$CL$10:$EK$10,1))","v":16.135627529170677},{"$f":"PRODUCT(IF(($CL$13:$EK$13<=EE$13*TRANSPOSE($CK$14:$CK$65>=$CK31)),$CL$10:$EK$10,1))","v":16.273968820977089},{"$f":"PRODUCT(IF(($CL$13:$EK$13<=EF$13*TRANSPOSE($CK$14:$CK$65>=$CK31)),$CL$10:$EK$10,1))","v":16.995542629179518},{"$f":"PRODUCT(IF(($CL$13:$EK$13<=EG$13*TRANSPOSE($CK$14:$CK$65>=$CK31)),$CL$10:$EK$10,1))","v":17.404673898054728},{"$f":"PRODUCT(IF(($CL$13:$EK$13<=EH$13*TRANSPOSE($CK$14:$CK$65>=$CK31)),$CL$10:$EK$10,1))","v":18.083054624578438},{"$f":"PRODUCT(IF(($CL$13:$EK$13<=EI$13*TRANSPOSE($CK$14:$CK$65>=$CK31)),$CL$10:$EK$10,1))","v":19.703229607436004},{"$f":"PRODUCT(IF(($CL$13:$EK$13<=EJ$13*TRANSPOSE($CK$14:$CK$65>=$CK31)),$CL$10:$EK$10,1))","v":22.62030856440829},{"$f":"PRODUCT(IF(($CL$13:$EK$13<=EK$13*TRANSPOSE($CK$14:$CK$65>=$CK31)),$CL$10:$EK$10,1))","v":24.115151696749439}]
[null,null,1991,null,null,null,null,null,null,null,null,null,null,null,null,null,null,null,null,null,null,null,{"$f":"IF(DE33=1,\"\",DE33^(1/(DE$13-$CK33+1))-1)","v":9.4726317202662003E-2},{"$f":"IF(DF33=1,\"\",DF33^(1/(DF$13-$CK33+1))-1)","v":0.10135369628243862},{"$f":"IF(DG33=1,\"\",DG33^(1/(DG$13-$CK33+1))-1)","v":8.8060539073345767E-2},{"$f":"IF(DH33=1,\"\",DH33^(1/(DH$13-$CK33+1))-1)","v":9.8634481638424587E-2},{"$f":"IF(DI33=1,\"\",DI33^(1/(DI$13-$CK33+1))-1)","v":0.10554627970591079},{"$f":"IF(DJ33=1,\"\",DJ33^(1/(DJ$13-$CK33+1))-1)","v":0.10274648088325078},{"$f":"IF(DK33=1,\"\",DK33^(1/(DK$13-$CK33+1))-1)","v":0.10038471284056927},{"$f":"IF(DL33=1,\"\",DL33^(1/(DL$13-$CK33+1))-1)","v":0.10247088261806803},{"$f":"IF(DM33=1,\"\",DM33^(1/(DM$13-$CK33+1))-1)","v":0.10018724822650649},{"$f":"IF(DN33=1,\"\",DN33^(1/(DN$13-$CK33+1))-1)","v":9.6158555034182802E-2},{"$f":"IF(DO33=1,\"\",DO33^(1/(DO$13-$CK33+1))-1)","v":9.2410479756884989E-2},{"$f":"IF(DP33=1,\"\",DP33^(1/(DP$13-$CK33+1))-1)","v":9.039287043694455E-2},{"$f":"IF(DQ33=1,\"\",DQ33^(1/(DQ$13-$CK33+1))-1)","v":8.922658778875503E-2},{"$f":"IF(DR33=1,\"\",DR33^(1/(DR$13-$CK33+1))-1)","v":8.959086457614851E-2},{"$f":"IF(DS33=1,\"\",DS33^(1/(DS$13-$CK33+1))-1)","v":0.1018089999173053},{"$f":"IF(DT33=1,\"\",DT33^(1/(DT$13-$CK33+1))-1)","v":0.10470452891538273},{"$f":"IF(DU33=1,\"\",DU33^(1/(DU$13-$CK33+1))-1)","v":0.10726247372626907},{"$f":"IF(DV33=1,\"\",DV33^(1/(DV$13-$CK33+1))-1)","v":0.11018828456836038},{"$f":"IF(DW33=1,\"\",DW33^(1/(DW$13-$CK33+1))-1)","v":0.10462211431830015},{"$f":"IF(DX33=1,\"\",DX33^(1/(DX$13-$CK33+1))-1)","v":0.10399339427136778},{"$f":"IF(DY33=1,\"\",DY33^(1/(DY$13-$CK33+1))-1)","v":0.1071223048393799},0.11042309787849436,{"$f":"IF(EA33=1,\"\",EA33^(1/(EA$13-$CK33+1))-1)","v":0.11301200363702435},{"$f":"IF(EB33=1,\"\",EB33^(1/(EB$13-$CK33+1))-1)","v":0.11164107709046855},0.1078444004406931,{"$f":"IF(ED33=1,\"\",ED33^(1/(ED$13-$CK33+1))-1)","v":0.10392556617267079},{"$f":"IF(EE33=1,\"\",EE33^(1/(EE$13-$CK33+1))-1)","v":0.10023827232015403},{"$f":"IF(EF33=1,\"\",EF33^(1/(EF$13-$CK33+1))-1)","v":9.8191280508297396E-2},{"$f":"IF(EG33=1,\"\",EG33^(1/(EG$13-$CK33+1))-1)","v":9.5548322468642422E-2},{"$f":"IF(EH33=1,\"\",EH33^(1/(EH$13-$CK33+1))-1)","v":9.3613888652652966E-2},9.3484058437885098E-2,{"$f":"IF(EJ33=1,\"\",EJ33^(1/(EJ$13-$CK33+1))-1)","v":9.5149353970884532E-2},{"$f":"IF(EK33=1,\"\",EK33^(1/(EK$13-$CK33+1))-1)","v":9.4257054205419522E-2},null,1990,6.6908534260765817E-2,0.11090172600423065,0.12540531645151676,9.0286768597057421E-2,6.29817199409064E-2,1.7260770549759608E-2,2.3245751447779739E-2,1.5347587446427724E-2,1.0799017063069405E-2,2.0795838932256006E-2,3.1282444911867824E-2,4.3480034197445727E-2,5.2154491447894635E-2,7.5132584201540897E-2,8.9611260521713865E-2,9.8186837397704618E-2,0.11051340698883472,0.11215200316622398,{"$f":"PRODUCT($CH14:$CH32)^(1/BX$13)-1","v":0.11204857548576519},null,null,null,null,null,null,null,null,1990,{"$f":"HLOOKUP($W$7,dat,MATCH(CG32,Data!$B$3:$B$60,0),0)+1","v":1.0669085342607658},null,null,1990,{"$f":"PRODUCT(IF(($CL$13:$EK$13<=CL$13*TRANSPOSE($CK$14:$CK$65>=$CK32)),$CL$10:$EK$10,1))","v":1},{"$f":"PRODUCT(IF(($CL$13:$EK$13<=CM$13*TRANSPOSE($CK$14:$CK$65>=$CK32)),$CL$10:$EK$10,1))","v":1},{"$f":"PRODUCT(IF(($CL$13:$EK$13<=CN$13*TRANSPOSE($CK$14:$CK$65>=$CK32)),$CL$10:$EK$10,1))","v":1},{"$f":"PRODUCT(IF(($CL$13:$EK$13<=CO$13*TRANSPOSE($CK$14:$CK$65>=$CK32)),$CL$10:$EK$10,1))","v":1},{"$f":"PRODUCT(IF(($CL$13:$EK$13<=CP$13*TRANSPOSE($CK$14:$CK$65>=$CK32)),$CL$10:$EK$10,1))","v":1},{"$f":"PRODUCT(IF(($CL$13:$EK$13<=CQ$13*TRANSPOSE($CK$14:$CK$65>=$CK32)),$CL$10:$EK$10,1))","v":1},{"$f":"PRODUCT(IF(($CL$13:$EK$13<=CR$13*TRANSPOSE($CK$14:$CK$65>=$CK32)),$CL$10:$EK$10,1))","v":1},{"$f":"PRODUCT(IF(($CL$13:$EK$13<=CS$13*TRANSPOSE($CK$14:$CK$65>=$CK32)),$CL$10:$EK$10,1))","v":1},{"$f":"PRODUCT(IF(($CL$13:$EK$13<=CT$13*TRANSPOSE($CK$14:$CK$65>=$CK32)),$CL$10:$EK$10,1))","v":1},{"$f":"PRODUCT(IF(($CL$13:$EK$13<=CU$13*TRANSPOSE($CK$14:$CK$65>=$CK32)),$CL$10:$EK$10,1))","v":1},{"$f":"PRODUCT(IF(($CL$13:$EK$13<=CV$13*TRANSPOSE($CK$14:$CK$65>=$CK32)),$CL$10:$EK$10,1))","v":1},{"$f":"PRODUCT(IF(($CL$13:$EK$13<=CW$13*TRANSPOSE($CK$14:$CK$65>=$CK32)),$CL$10:$EK$10,1))","v":1},{"$f":"PRODUCT(IF(($CL$13:$EK$13<=CX$13*TRANSPOSE($CK$14:$CK$65>=$CK32)),$CL$10:$EK$10,1))","v":1},{"$f":"PRODUCT(IF(($CL$13:$EK$13<=CY$13*TRANSPOSE($CK$14:$CK$65>=$CK32)),$CL$10:$EK$10,1))","v":1},{"$f":"PRODUCT(IF(($CL$13:$EK$13<=CZ$13*TRANSPOSE($CK$14:$CK$65>=$CK32)),$CL$10:$EK$10,1))","v":1},{"$f":"PRODUCT(IF(($CL$13:$EK$13<=DA$13*TRANSPOSE($CK$14:$CK$65>=$CK32)),$CL$10:$EK$10,1))","v":1},{"$f":"PRODUCT(IF(($CL$13:$EK$13<=DB$13*TRANSPOSE($CK$14:$CK$65>=$CK32)),$CL$10:$EK$10,1))","v":1},{"$f":"PRODUCT(IF(($CL$13:$EK$13<=DC$13*TRANSPOSE($CK$14:$CK$65>=$CK32)),$CL$10:$EK$10,1))","v":1},{"$f":"PRODUCT(IF(($CL$13:$EK$13<=DD$13*TRANSPOSE($CK$14:$CK$65>=$CK32)),$CL$10:$EK$10,1))","v":1.0669085342607658},{"$f":"PRODUCT(IF(($CL$13:$EK$13<=DE$13*TRANSPOSE($CK$14:$CK$65>=$CK32)),$CL$10:$EK$10,1))","v":1.1679728505033784},{"$f":"PRODUCT(IF(($CL$13:$EK$13<=DF$13*TRANSPOSE($CK$14:$CK$65>=$CK32)),$CL$10:$EK$10,1))","v":1.294138675814982},{"$f":"PRODUCT(IF(($CL$13:$EK$13<=DG$13*TRANSPOSE($CK$14:$CK$65>=$CK32)),$CL$10:$EK$10,1))","v":1.3743152602755213},{"$f":"PRODUCT(IF(($CL$13:$EK$13<=DH$13*TRANSPOSE($CK$14:$CK$65>=$CK32)),$CL$10:$EK$10,1))","v":1.5543187699884577},{"$f":"PRODUCT(IF(($CL$13:$EK$13<=DI$13*TRANSPOSE($CK$14:$CK$65>=$CK32)),$CL$10:$EK$10,1))","v":1.7620240280390687},{"$f":"PRODUCT(IF(($CL$13:$EK$13<=DJ$13*TRANSPOSE($CK$14:$CK$65>=$CK32)),$CL$10:$EK$10,1))","v":1.9185860049656507},{"$f":"PRODUCT(IF(($CL$13:$EK$13<=DK$13*TRANSPOSE($CK$14:$CK$65>=$CK32)),$CL$10:$EK$10,1))","v":2.0841982512901787},{"$f":"PRODUCT(IF(($CL$13:$EK$13<=DL$13*TRANSPOSE($CK$14:$CK$65>=$CK32)),$CL$10:$EK$10,1))","v":2.3284355112076294},{"$f":"PRODUCT(IF(($CL$13:$EK$13<=DM$13*TRANSPOSE($CK$14:$CK$65>=$CK32)),$CL$10:$EK$10,1))","v":2.5195712926970071},{"$f":"PRODUCT(IF(($CL$13:$EK$13<=DN$13*TRANSPOSE($CK$14:$CK$65>=$CK32)),$CL$10:$EK$10,1))","v":2.6721508153404199},{"$f":"PRODUCT(IF(($CL$13:$EK$13<=DO$13*TRANSPOSE($CK$14:$CK$65>=$CK32)),$CL$10:$EK$10,1))","v":2.8207956463496089},{"$f":"PRODUCT(IF(($CL$13:$EK$13<=DP$13*TRANSPOSE($CK$14:$CK$65>=$CK32)),$CL$10:$EK$10,1))","v":3.0138610603199365},{"$f":"PRODUCT(IF(($CL$13:$EK$13<=DQ$13*TRANSPOSE($CK$14:$CK$65>=$CK32)),$CL$10:$EK$10,1))","v":3.2408895384635183},{"$f":"PRODUCT(IF(($CL$13:$EK$13<=DR$13*TRANSPOSE($CK$14:$CK$65>=$CK32)),$CL$10:$EK$10,1))","v":3.546627162535303},{"$f":"PRODUCT(IF(($CL$13:$EK$13<=DS$13*TRANSPOSE($CK$14:$CK$65>=$CK32)),$CL$10:$EK$10,1))","v":4.5679561014777068},{"$f":"PRODUCT(IF(($CL$13:$EK$13<=DT$13*TRANSPOSE($CK$14:$CK$65>=$CK32)),$CL$10:$EK$10,1))","v":5.2488642473916949},{"$f":"PRODUCT(IF(($CL$13:$EK$13<=DU$13*TRANSPOSE($CK$14:$CK$65>=$CK32)),$CL$10:$EK$10,1))","v":6.0309686945875471},{"$f":"PRODUCT(IF(($CL$13:$EK$13<=DV$13*TRANSPOSE($CK$14:$CK$65>=$CK32)),$CL$10:$EK$10,1))","v":7.002719169993771},{"$f":"PRODUCT(IF(($CL$13:$EK$13<=DW$13*TRANSPOSE($CK$14:$CK$65>=$CK32)),$CL$10:$EK$10,1))","v":7.0662357869205188},{"$f":"PRODUCT(IF(($CL$13:$EK$13<=DX$13*TRANSPOSE($CK$14:$CK$65>=$CK32)),$CL$10:$EK$10,1))","v":7.7171454403556163},{"$f":"PRODUCT(IF(($CL$13:$EK$13<=DY$13*TRANSPOSE($CK$14:$CK$65>=$CK32)),$CL$10:$EK$10,1))","v":9.0413815802895492},{"$f":"PRODUCT(IF(($CL$13:$EK$13<=DZ$13*TRANSPOSE($CK$14:$CK$65>=$CK32)),$CL$10:$EK$10,1))","v":10.687445227849244},{"$f":"PRODUCT(IF(($CL$13:$EK$13<=EA$13*TRANSPOSE($CK$14:$CK$65>=$CK32)),$CL$10:$EK$10,1))","v":12.520558349825764},{"$f":"PRODUCT(IF(($CL$13:$EK$13<=EB$13*TRANSPOSE($CK$14:$CK$65>=$CK32)),$CL$10:$EK$10,1))","v":13.529360261691378},{"$f":"PRODUCT(IF(($CL$13:$EK$13<=EC$13*TRANSPOSE($CK$14:$CK$65>=$CK32)),$CL$10:$EK$10,1))","v":13.806905803092196},{"$f":"PRODUCT(IF(($CL$13:$EK$13<=ED$13*TRANSPOSE($CK$14:$CK$65>=$CK32)),$CL$10:$EK$10,1))","v":13.949600374423097},{"$f":"PRODUCT(IF(($CL$13:$EK$13<=EE$13*TRANSPOSE($CK$14:$CK$65>=$CK32)),$CL$10:$EK$10,1))","v":14.069199425187756},{"$f":"PRODUCT(IF(($CL$13:$EK$13<=EF$13*TRANSPOSE($CK$14:$CK$65>=$CK32)),$CL$10:$EK$10,1))","v":14.693015650920369},{"$f":"PRODUCT(IF(($CL$13:$EK$13<=EG$13*TRANSPOSE($CK$14:$CK$65>=$CK32)),$CL$10:$EK$10,1))","v":15.046718516902624},{"$f":"PRODUCT(IF(($CL$13:$EK$13<=EH$13*TRANSPOSE($CK$14:$CK$65>=$CK32)),$CL$10:$EK$10,1))","v":15.633193385612174},{"$f":"PRODUCT(IF(($CL$13:$EK$13<=EI$13*TRANSPOSE($CK$14:$CK$65>=$CK32)),$CL$10:$EK$10,1))","v":17.033869839418646},{"$f":"PRODUCT(IF(($CL$13:$EK$13<=EJ$13*TRANSPOSE($CK$14:$CK$65>=$CK32)),$CL$10:$EK$10,1))","v":19.555747940337714},{"$f":"PRODUCT(IF(($CL$13:$EK$13<=EK$13*TRANSPOSE($CK$14:$CK$65>=$CK32)),$CL$10:$EK$10,1))","v":20.848072287866927}]
[null,null,1992,null,null,null,null,null,null,null,null,null,null,null,null,null,null,null,null,null,null,null,null,0.10802119694582624,8.4742885937610035E-2,9.9940301131325127E-2,0.10826793881818908,0.104357550750656,0.10133061816392086,0.10358171261711302,0.10087177722805096,9.6317808193271404E-2,9.2179165630431603E-2,8.9999772356905483E-2,8.8769526099971685E-2,8.9196829047617054E-2,0.10231665578234872,0.10537296765641391,0.10805073307436053,0.11110458306469351,0.10517449625022435,0.10448330244981885,0.10774577564506949,0.11117615221320798,0.11385039014996612,0.11238240103896979,0.10839438558232017,0.10429513973835824,0.10045082393530236,9.831982288535257E-2,9.5577691212333171E-2,9.3575549216093457E-2,{"$f":"IF(EI34=1,\"\",EI34^(1/(EI$13-$CK34+1))-1)","v":9.3442674098987322E-2},{"$f":"IF(EJ34=1,\"\",EJ34^(1/(EJ$13-$CK34+1))-1)","v":9.5163003039651084E-2},{"$f":"IF(EK34=1,\"\",EK34^(1/(EK$13-$CK34+1))-1)","v":9.4242392978443501E-2},null,1991,9.4726317202662003E-2,8.0727926216112245E-2,0.10548353998719784,0.11765589082476824,9.1173235646336837E-2,6.8207828612732557E-2,2.7982259616630367E-2,3.1919100495152897E-2,2.3875271915582141E-2,1.8893720568300409E-2,2.7305225510141584E-2,3.6425968698952316E-2,4.7335419505029064E-2,5.5139654859570397E-2,7.6427852494484139E-2,8.9930250211590623E-2,9.7982974914113896E-2,0.10963040380360489,0.11122798483457763,{"$f":"PRODUCT($CH14:$CH33)^(1/BY$13)-1","v":0.11117598854298549},null,null,null,null,null,null,null,1991,{"$f":"HLOOKUP($W$7,dat,MATCH(CG33,Data!$B$3:$B$60,0),0)+1","v":1.094726317202662},null,null,1991,{"$f":"PRODUCT(IF(($CL$13:$EK$13<=CL$13*TRANSPOSE($CK$14:$CK$65>=$CK33)),$CL$10:$EK$10,1))","v":1},{"$f":"PRODUCT(IF(($CL$13:$EK$13<=CM$13*TRANSPOSE($CK$14:$CK$65>=$CK33)),$CL$10:$EK$10,1))","v":1},{"$f":"PRODUCT(IF(($CL$13:$EK$13<=CN$13*TRANSPOSE($CK$14:$CK$65>=$CK33)),$CL$10:$EK$10,1))","v":1},{"$f":"PRODUCT(IF(($CL$13:$EK$13<=CO$13*TRANSPOSE($CK$14:$CK$65>=$CK33)),$CL$10:$EK$10,1))","v":1},{"$f":"PRODUCT(IF(($CL$13:$EK$13<=CP$13*TRANSPOSE($CK$14:$CK$65>=$CK33)),$CL$10:$EK$10,1))","v":1},{"$f":"PRODUCT(IF(($CL$13:$EK$13<=CQ$13*TRANSPOSE($CK$14:$CK$65>=$CK33)),$CL$10:$EK$10,1))","v":1},{"$f":"PRODUCT(IF(($CL$13:$EK$13<=CR$13*TRANSPOSE($CK$14:$CK$65>=$CK33)),$CL$10:$EK$10,1))","v":1},{"$f":"PRODUCT(IF(($CL$13:$EK$13<=CS$13*TRANSPOSE($CK$14:$CK$65>=$CK33)),$CL$10:$EK$10,1))","v":1},{"$f":"PRODUCT(IF(($CL$13:$EK$13<=CT$13*TRANSPOSE($CK$14:$CK$65>=$CK33)),$CL$10:$EK$10,1))","v":1},{"$f":"PRODUCT(IF(($CL$13:$EK$13<=CU$13*TRANSPOSE($CK$14:$CK$65>=$CK33)),$CL$10:$EK$10,1))","v":1},{"$f":"PRODUCT(IF(($CL$13:$EK$13<=CV$13*TRANSPOSE($CK$14:$CK$65>=$CK33)),$CL$10:$EK$10,1))","v":1},{"$f":"PRODUCT(IF(($CL$13:$EK$13<=CW$13*TRANSPOSE($CK$14:$CK$65>=$CK33)),$CL$10:$EK$10,1))","v":1},{"$f":"PRODUCT(IF(($CL$13:$EK$13<=CX$13*TRANSPOSE($CK$14:$CK$65>=$CK33)),$CL$10:$EK$10,1))","v":1},{"$f":"PRODUCT(IF(($CL$13:$EK$13<=CY$13*TRANSPOSE($CK$14:$CK$65>=$CK33)),$CL$10:$EK$10,1))","v":1},{"$f":"PRODUCT(IF(($CL$13:$EK$13<=CZ$13*TRANSPOSE($CK$14:$CK$65>=$CK33)),$CL$10:$EK$10,1))","v":1},{"$f":"PRODUCT(IF(($CL$13:$EK$13<=DA$13*TRANSPOSE($CK$14:$CK$65>=$CK33)),$CL$10:$EK$10,1))","v":1},{"$f":"PRODUCT(IF(($CL$13:$EK$13<=DB$13*TRANSPOSE($CK$14:$CK$65>=$CK33)),$CL$10:$EK$10,1))","v":1},{"$f":"PRODUCT(IF(($CL$13:$EK$13<=DC$13*TRANSPOSE($CK$14:$CK$65>=$CK33)),$CL$10:$EK$10,1))","v":1},{"$f":"PRODUCT(IF(($CL$13:$EK$13<=DD$13*TRANSPOSE($CK$14:$CK$65>=$CK33)),$CL$10:$EK$10,1))","v":1},{"$f":"PRODUCT(IF(($CL$13:$EK$13<=DE$13*TRANSPOSE($CK$14:$CK$65>=$CK33)),$CL$10:$EK$10,1))","v":1.094726317202662},{"$f":"PRODUCT(IF(($CL$13:$EK$13<=DF$13*TRANSPOSE($CK$14:$CK$65>=$CK33)),$CL$10:$EK$10,1))","v":1.2129799643149899},{"$f":"PRODUCT(IF(($CL$13:$EK$13<=DG$13*TRANSPOSE($CK$14:$CK$65>=$CK33)),$CL$10:$EK$10,1))","v":1.2881284722572304},{"$f":"PRODUCT(IF(($CL$13:$EK$13<=DH$13*TRANSPOSE($CK$14:$CK$65>=$CK33)),$CL$10:$EK$10,1))","v":1.4568435063324394},{"$f":"PRODUCT(IF(($CL$13:$EK$13<=DI$13*TRANSPOSE($CK$14:$CK$65>=$CK33)),$CL$10:$EK$10,1))","v":1.6515230420009068},{"$f":"PRODUCT(IF(($CL$13:$EK$13<=DJ$13*TRANSPOSE($CK$14:$CK$65>=$CK33)),$CL$10:$EK$10,1))","v":1.7982666211354199},{"$f":"PRODUCT(IF(($CL$13:$EK$13<=DK$13*TRANSPOSE($CK$14:$CK$65>=$CK33)),$CL$10:$EK$10,1))","v":1.9534929043699771},{"$f":"PRODUCT(IF(($CL$13:$EK$13<=DL$13*TRANSPOSE($CK$14:$CK$65>=$CK33)),$CL$10:$EK$10,1))","v":2.1824134276149025},{"$f":"PRODUCT(IF(($CL$13:$EK$13<=DM$13*TRANSPOSE($CK$14:$CK$65>=$CK33)),$CL$10:$EK$10,1))","v":2.3615626005304713},{"$f":"PRODUCT(IF(($CL$13:$EK$13<=DN$13*TRANSPOSE($CK$14:$CK$65>=$CK33)),$CL$10:$EK$10,1))","v":2.5045734751685029},{"$f":"PRODUCT(IF(($CL$13:$EK$13<=DO$13*TRANSPOSE($CK$14:$CK$65>=$CK33)),$CL$10:$EK$10,1))","v":2.6438964126424085},{"$f":"PRODUCT(IF(($CL$13:$EK$13<=DP$13*TRANSPOSE($CK$14:$CK$65>=$CK33)),$CL$10:$EK$10,1))","v":2.824854205902632},{"$f":"PRODUCT(IF(($CL$13:$EK$13<=DQ$13*TRANSPOSE($CK$14:$CK$65>=$CK33)),$CL$10:$EK$10,1))","v":3.0376451536298279},{"$f":"PRODUCT(IF(($CL$13:$EK$13<=DR$13*TRANSPOSE($CK$14:$CK$65>=$CK33)),$CL$10:$EK$10,1))","v":3.3242091975510086},{"$f":"PRODUCT(IF(($CL$13:$EK$13<=DS$13*TRANSPOSE($CK$14:$CK$65>=$CK33)),$CL$10:$EK$10,1))","v":4.281488014005558},{"$f":"PRODUCT(IF(($CL$13:$EK$13<=DT$13*TRANSPOSE($CK$14:$CK$65>=$CK33)),$CL$10:$EK$10,1))","v":4.9196946868819476},{"$f":"PRODUCT(IF(($CL$13:$EK$13<=DU$13*TRANSPOSE($CK$14:$CK$65>=$CK33)),$CL$10:$EK$10,1))","v":5.652751384884418},{"$f":"PRODUCT(IF(($CL$13:$EK$13<=DV$13*TRANSPOSE($CK$14:$CK$65>=$CK33)),$CL$10:$EK$10,1))","v":6.5635609287217687},{"$f":"PRODUCT(IF(($CL$13:$EK$13<=DW$13*TRANSPOSE($CK$14:$CK$65>=$CK33)),$CL$10:$EK$10,1))","v":6.6230942578564509},{"$f":"PRODUCT(IF(($CL$13:$EK$13<=DX$13*TRANSPOSE($CK$14:$CK$65>=$CK33)),$CL$10:$EK$10,1))","v":7.2331837196359432},{"$f":"PRODUCT(IF(($CL$13:$EK$13<=DY$13*TRANSPOSE($CK$14:$CK$65>=$CK33)),$CL$10:$EK$10,1))","v":8.4743736599258703},{"$f":"PRODUCT(IF(($CL$13:$EK$13<=DZ$13*TRANSPOSE($CK$14:$CK$65>=$CK33)),$CL$10:$EK$10,1))","v":10.017208490373834},{"$f":"PRODUCT(IF(($CL$13:$EK$13<=EA$13*TRANSPOSE($CK$14:$CK$65>=$CK33)),$CL$10:$EK$10,1))","v":11.735362449322752},{"$f":"PRODUCT(IF(($CL$13:$EK$13<=EB$13*TRANSPOSE($CK$14:$CK$65>=$CK33)),$CL$10:$EK$10,1))","v":12.680899840271254},{"$f":"PRODUCT(IF(($CL$13:$EK$13<=EC$13*TRANSPOSE($CK$14:$CK$65>=$CK33)),$CL$10:$EK$10,1))","v":12.941039798372838},{"$f":"PRODUCT(IF(($CL$13:$EK$13<=ED$13*TRANSPOSE($CK$14:$CK$65>=$CK33)),$CL$10:$EK$10,1))","v":13.074785632011492},{"$f":"PRODUCT(IF(($CL$13:$EK$13<=EE$13*TRANSPOSE($CK$14:$CK$65>=$CK33)),$CL$10:$EK$10,1))","v":13.18688432362757},{"$f":"PRODUCT(IF(($CL$13:$EK$13<=EF$13*TRANSPOSE($CK$14:$CK$65>=$CK33)),$CL$10:$EK$10,1))","v":13.771579455122454},{"$f":"PRODUCT(IF(($CL$13:$EK$13<=EG$13*TRANSPOSE($CK$14:$CK$65>=$CK33)),$CL$10:$EK$10,1))","v":14.103100719245932},{"$f":"PRODUCT(IF(($CL$13:$EK$13<=EH$13*TRANSPOSE($CK$14:$CK$65>=$CK33)),$CL$10:$EK$10,1))","v":14.652796264718257},{"$f":"PRODUCT(IF(($CL$13:$EK$13<=EI$13*TRANSPOSE($CK$14:$CK$65>=$CK33)),$CL$10:$EK$10,1))","v":15.965632753346558},{"$f":"PRODUCT(IF(($CL$13:$EK$13<=EJ$13*TRANSPOSE($CK$14:$CK$65>=$CK33)),$CL$10:$EK$10,1))","v":18.329357496317531},{"$f":"PRODUCT(IF(($CL$13:$EK$13<=EK$13*TRANSPOSE($CK$14:$CK$65>=$CK33)),$CL$10:$EK$10,1))","v":19.540636913465161}]
[null,null,1993,null,null,null,null,null,null,null,null,null,null,null,null,null,null,null,null,null,null,null,null,null,6.1953626731731992E-2,9.5921980667143636E-2,0.10835019831863857,0.10344353354381797,9.9997358212166265E-2,0.10284352983910772,9.9854204318949424E-2,9.4863603269506491E-2,9.0432981220023745E-2,8.8213830204414423E-2,8.7036048762711316E-2,8.7642643168808654E-2,0.10187906333470265,0.10518405079757409,0.10805270217758989,0.11129757934594431,0.10500727121338538,0.10428708431190259,0.10773128168372681,0.11133413557719618,0.11412873443664151,0.11258104494458299,0.10841061402614871,0.1041401595656366,0.10014908722025195,9.7948394205761957E-2,9.5119514082192547E-2,9.3063131112496089E-2,9.2943402162728006E-2,9.4736976050822985E-2,9.3800779747116092E-2,null,1992,0.10802119694582624,0.10135369628243862,8.9750153383913789E-2,0.1061174088410779,0.11572227304367133,9.3963332786966891E-2,7.3806644086138906E-2,3.7662031490236059E-2,4.0109955135463338E-2,3.1993960570294133E-2,2.6690918475550607E-2,3.3800833948940623E-2,4.1765109022124047E-2,5.1557672780767394E-2,5.8585205569821275E-2,7.8375774498958162E-2,9.0986199546043034E-2,9.8538260445411696E-2,0.10954565047006204,0.11106742524054147,{"$f":"PRODUCT($CH14:$CH34)^(1/BZ$13)-1","v":0.11102555689095595},null,null,null,null,null,null,1992,{"$f":"HLOOKUP($W$7,dat,MATCH(CG34,Data!$B$3:$B$60,0),0)+1","v":1.1080211969458262},null,null,1992,{"$f":"PRODUCT(IF(($CL$13:$EK$13<=CL$13*TRANSPOSE($CK$14:$CK$65>=$CK34)),$CL$10:$EK$10,1))","v":1},{"$f":"PRODUCT(IF(($CL$13:$EK$13<=CM$13*TRANSPOSE($CK$14:$CK$65>=$CK34)),$CL$10:$EK$10,1))","v":1},{"$f":"PRODUCT(IF(($CL$13:$EK$13<=CN$13*TRANSPOSE($CK$14:$CK$65>=$CK34)),$CL$10:$EK$10,1))","v":1},{"$f":"PRODUCT(IF(($CL$13:$EK$13<=CO$13*TRANSPOSE($CK$14:$CK$65>=$CK34)),$CL$10:$EK$10,1))","v":1},{"$f":"PRODUCT(IF(($CL$13:$EK$13<=CP$13*TRANSPOSE($CK$14:$CK$65>=$CK34)),$CL$10:$EK$10,1))","v":1},{"$f":"PRODUCT(IF(($CL$13:$EK$13<=CQ$13*TRANSPOSE($CK$14:$CK$65>=$CK34)),$CL$10:$EK$10,1))","v":1},{"$f":"PRODUCT(IF(($CL$13:$EK$13<=CR$13*TRANSPOSE($CK$14:$CK$65>=$CK34)),$CL$10:$EK$10,1))","v":1},{"$f":"PRODUCT(IF(($CL$13:$EK$13<=CS$13*TRANSPOSE($CK$14:$CK$65>=$CK34)),$CL$10:$EK$10,1))","v":1},{"$f":"PRODUCT(IF(($CL$13:$EK$13<=CT$13*TRANSPOSE($CK$14:$CK$65>=$CK34)),$CL$10:$EK$10,1))","v":1},{"$f":"PRODUCT(IF(($CL$13:$EK$13<=CU$13*TRANSPOSE($CK$14:$CK$65>=$CK34)),$CL$10:$EK$10,1))","v":1},{"$f":"PRODUCT(IF(($CL$13:$EK$13<=CV$13*TRANSPOSE($CK$14:$CK$65>=$CK34)),$CL$10:$EK$10,1))","v":1},{"$f":"PRODUCT(IF(($CL$13:$EK$13<=CW$13*TRANSPOSE($CK$14:$CK$65>=$CK34)),$CL$10:$EK$10,1))","v":1},{"$f":"PRODUCT(IF(($CL$13:$EK$13<=CX$13*TRANSPOSE($CK$14:$CK$65>=$CK34)),$CL$10:$EK$10,1))","v":1},{"$f":"PRODUCT(IF(($CL$13:$EK$13<=CY$13*TRANSPOSE($CK$14:$CK$65>=$CK34)),$CL$10:$EK$10,1))","v":1},{"$f":"PRODUCT(IF(($CL$13:$EK$13<=CZ$13*TRANSPOSE($CK$14:$CK$65>=$CK34)),$CL$10:$EK$10,1))","v":1},{"$f":"PRODUCT(IF(($CL$13:$EK$13<=DA$13*TRANSPOSE($CK$14:$CK$65>=$CK34)),$CL$10:$EK$10,1))","v":1},{"$f":"PRODUCT(IF(($CL$13:$EK$13<=DB$13*TRANSPOSE($CK$14:$CK$65>=$CK34)),$CL$10:$EK$10,1))","v":1},{"$f":"PRODUCT(IF(($CL$13:$EK$13<=DC$13*TRANSPOSE($CK$14:$CK$65>=$CK34)),$CL$10:$EK$10,1))","v":1},{"$f":"PRODUCT(IF(($CL$13:$EK$13<=DD$13*TRANSPOSE($CK$14:$CK$65>=$CK34)),$CL$10:$EK$10,1))","v":1},{"$f":"PRODUCT(IF(($CL$13:$EK$13<=DE$13*TRANSPOSE($CK$14:$CK$65>=$CK34)),$CL$10:$EK$10,1))","v":1},{"$f":"PRODUCT(IF(($CL$13:$EK$13<=DF$13*TRANSPOSE($CK$14:$CK$65>=$CK34)),$CL$10:$EK$10,1))","v":1.1080211969458262},{"$f":"PRODUCT(IF(($CL$13:$EK$13<=DG$13*TRANSPOSE($CK$14:$CK$65>=$CK34)),$CL$10:$EK$10,1))","v":1.1766671285922548},{"$f":"PRODUCT(IF(($CL$13:$EK$13<=DH$13*TRANSPOSE($CK$14:$CK$65>=$CK34)),$CL$10:$EK$10,1))","v":1.3307833048675488},{"$f":"PRODUCT(IF(($CL$13:$EK$13<=DI$13*TRANSPOSE($CK$14:$CK$65>=$CK34)),$CL$10:$EK$10,1))","v":1.5086172827387752},{"$f":"PRODUCT(IF(($CL$13:$EK$13<=DJ$13*TRANSPOSE($CK$14:$CK$65>=$CK34)),$CL$10:$EK$10,1))","v":1.642663187024227},{"$f":"PRODUCT(IF(($CL$13:$EK$13<=DK$13*TRANSPOSE($CK$14:$CK$65>=$CK34)),$CL$10:$EK$10,1))","v":1.784457789743932},{"$f":"PRODUCT(IF(($CL$13:$EK$13<=DL$13*TRANSPOSE($CK$14:$CK$65>=$CK34)),$CL$10:$EK$10,1))","v":1.993569893516026},{"$f":"PRODUCT(IF(($CL$13:$EK$13<=DM$13*TRANSPOSE($CK$14:$CK$65>=$CK34)),$CL$10:$EK$10,1))","v":2.1572173459435384},{"$f":"PRODUCT(IF(($CL$13:$EK$13<=DN$13*TRANSPOSE($CK$14:$CK$65>=$CK34)),$CL$10:$EK$10,1))","v":2.2878535354556946},{"$f":"PRODUCT(IF(($CL$13:$EK$13<=DO$13*TRANSPOSE($CK$14:$CK$65>=$CK34)),$CL$10:$EK$10,1))","v":2.4151209038239965},{"$f":"PRODUCT(IF(($CL$13:$EK$13<=DP$13*TRANSPOSE($CK$14:$CK$65>=$CK34)),$CL$10:$EK$10,1))","v":2.5804204772576766},{"$f":"PRODUCT(IF(($CL$13:$EK$13<=DQ$13*TRANSPOSE($CK$14:$CK$65>=$CK34)),$CL$10:$EK$10,1))","v":2.7747986925096289},{"$f":"PRODUCT(IF(($CL$13:$EK$13<=DR$13*TRANSPOSE($CK$14:$CK$65>=$CK34)),$CL$10:$EK$10,1))","v":3.0365664415973033},{"$f":"PRODUCT(IF(($CL$13:$EK$13<=DS$13*TRANSPOSE($CK$14:$CK$65>=$CK34)),$CL$10:$EK$10,1))","v":3.9110122290162717},{"$f":"PRODUCT(IF(($CL$13:$EK$13<=DT$13*TRANSPOSE($CK$14:$CK$65>=$CK34)),$CL$10:$EK$10,1))","v":4.4939950831301561},{"$f":"PRODUCT(IF(($CL$13:$EK$13<=DU$13*TRANSPOSE($CK$14:$CK$65>=$CK34)),$CL$10:$EK$10,1))","v":5.1636206201096995},{"$f":"PRODUCT(IF(($CL$13:$EK$13<=DV$13*TRANSPOSE($CK$14:$CK$65>=$CK34)),$CL$10:$EK$10,1))","v":5.9956181061706255},{"$f":"PRODUCT(IF(($CL$13:$EK$13<=DW$13*TRANSPOSE($CK$14:$CK$65>=$CK34)),$CL$10:$EK$10,1))","v":6.0500000354246941},{"$f":"PRODUCT(IF(($CL$13:$EK$13<=DX$13*TRANSPOSE($CK$14:$CK$65>=$CK34)),$CL$10:$EK$10,1))","v":6.6072986517020889},{"$f":"PRODUCT(IF(($CL$13:$EK$13<=DY$13*TRANSPOSE($CK$14:$CK$65>=$CK34)),$CL$10:$EK$10,1))","v":7.7410888244472922},{"$f":"PRODUCT(IF(($CL$13:$EK$13<=DZ$13*TRANSPOSE($CK$14:$CK$65>=$CK34)),$CL$10:$EK$10,1))","v":9.1504226517278369},{"$f":"PRODUCT(IF(($CL$13:$EK$13<=EA$13*TRANSPOSE($CK$14:$CK$65>=$CK34)),$CL$10:$EK$10,1))","v":10.71990529953637},{"$f":"PRODUCT(IF(($CL$13:$EK$13<=EB$13*TRANSPOSE($CK$14:$CK$65>=$CK34)),$CL$10:$EK$10,1))","v":11.583625643233432},{"$f":"PRODUCT(IF(($CL$13:$EK$13<=EC$13*TRANSPOSE($CK$14:$CK$65>=$CK34)),$CL$10:$EK$10,1))","v":11.821255774174576},{"$f":"PRODUCT(IF(($CL$13:$EK$13<=ED$13*TRANSPOSE($CK$14:$CK$65>=$CK34)),$CL$10:$EK$10,1))","v":11.943428623714189},{"$f":"PRODUCT(IF(($CL$13:$EK$13<=EE$13*TRANSPOSE($CK$14:$CK$65>=$CK34)),$CL$10:$EK$10,1))","v":12.045827451489265},{"$f":"PRODUCT(IF(($CL$13:$EK$13<=EF$13*TRANSPOSE($CK$14:$CK$65>=$CK34)),$CL$10:$EK$10,1))","v":12.579929100738866},{"$f":"PRODUCT(IF(($CL$13:$EK$13<=EG$13*TRANSPOSE($CK$14:$CK$65>=$CK34)),$CL$10:$EK$10,1))","v":12.882763936180302},{"$f":"PRODUCT(IF(($CL$13:$EK$13<=EH$13*TRANSPOSE($CK$14:$CK$65>=$CK34)),$CL$10:$EK$10,1))","v":13.384894502363231},{"$f":"PRODUCT(IF(($CL$13:$EK$13<=EI$13*TRANSPOSE($CK$14:$CK$65>=$CK34)),$CL$10:$EK$10,1))","v":14.584131670592614},{"$f":"PRODUCT(IF(($CL$13:$EK$13<=EJ$13*TRANSPOSE($CK$14:$CK$65>=$CK34)),$CL$10:$EK$10,1))","v":16.743324069484572},{"$f":"PRODUCT(IF(($CL$13:$EK$13<=EK$13*TRANSPOSE($CK$14:$CK$65>=$CK34)),$CL$10:$EK$10,1))","v":17.849791867064148}]
[null,null,1994,null,null,null,null,null,null,null,null,null,null,null,null,null,null,null,null,null,null,null,null,null,null,0.13097686892951299,0.13230318459351631,0.11763064409637614,0.1097193646821033,0.11120853644712336,0.10630119226029455,9.9647557351318916E-2,9.4046187289178018E-2,9.1171424698289982E-2,8.9576646019697614E-2,9.0008599499413311E-2,0.10527317393270041,0.10858146528148516,0.11142105988487438,0.11466754454993811,0.10775535913370859,0.10682919696654092,0.11033157580480113,0.11399580235161522,0.11680375726981684,0.11505118712997087,0.11056992620719219,0.1060119003839155,0.10177004109640397,9.9413290921583908E-2,9.6415606627785921E-2,9.4232674468092581E-2,9.4066750841319102E-2,9.5885310497284992E-2,9.4878643318220934E-2,null,1993,6.1953626731731992E-2,8.4742885937610035E-2,8.8060539073345767E-2,8.2733545059463953E-2,9.7140109973999245E-2,0.10657539973299901,8.9332113019411574E-2,7.2317811990875835E-2,4.0333422475587577E-2,4.227394920083527E-2,3.4682276567524983E-2,2.9584209276564799E-2,3.5939680381482431E-2,4.3194330710424111E-2,5.224755909850165E-2,5.8795418522796572E-2,7.7402774015397968E-2,8.935265355190003E-2,9.6581705130119877E-2,0.10711617059481804,0.10867797901848864,{"$f":"PRODUCT($CH14:$CH35)^(1/CA$13)-1","v":0.10874659541548914},null,null,null,null,null,1993,{"$f":"HLOOKUP($W$7,dat,MATCH(CG35,Data!$B$3:$B$60,0),0)+1","v":1.061953626731732},null,null,1993,{"$f":"PRODUCT(IF(($CL$13:$EK$13<=CL$13*TRANSPOSE($CK$14:$CK$65>=$CK35)),$CL$10:$EK$10,1))","v":1},{"$f":"PRODUCT(IF(($CL$13:$EK$13<=CM$13*TRANSPOSE($CK$14:$CK$65>=$CK35)),$CL$10:$EK$10,1))","v":1},{"$f":"PRODUCT(IF(($CL$13:$EK$13<=CN$13*TRANSPOSE($CK$14:$CK$65>=$CK35)),$CL$10:$EK$10,1))","v":1},{"$f":"PRODUCT(IF(($CL$13:$EK$13<=CO$13*TRANSPOSE($CK$14:$CK$65>=$CK35)),$CL$10:$EK$10,1))","v":1},{"$f":"PRODUCT(IF(($CL$13:$EK$13<=CP$13*TRANSPOSE($CK$14:$CK$65>=$CK35)),$CL$10:$EK$10,1))","v":1},{"$f":"PRODUCT(IF(($CL$13:$EK$13<=CQ$13*TRANSPOSE($CK$14:$CK$65>=$CK35)),$CL$10:$EK$10,1))","v":1},{"$f":"PRODUCT(IF(($CL$13:$EK$13<=CR$13*TRANSPOSE($CK$14:$CK$65>=$CK35)),$CL$10:$EK$10,1))","v":1},{"$f":"PRODUCT(IF(($CL$13:$EK$13<=CS$13*TRANSPOSE($CK$14:$CK$65>=$CK35)),$CL$10:$EK$10,1))","v":1},{"$f":"PRODUCT(IF(($CL$13:$EK$13<=CT$13*TRANSPOSE($CK$14:$CK$65>=$CK35)),$CL$10:$EK$10,1))","v":1},{"$f":"PRODUCT(IF(($CL$13:$EK$13<=CU$13*TRANSPOSE($CK$14:$CK$65>=$CK35)),$CL$10:$EK$10,1))","v":1},{"$f":"PRODUCT(IF(($CL$13:$EK$13<=CV$13*TRANSPOSE($CK$14:$CK$65>=$CK35)),$CL$10:$EK$10,1))","v":1},{"$f":"PRODUCT(IF(($CL$13:$EK$13<=CW$13*TRANSPOSE($CK$14:$CK$65>=$CK35)),$CL$10:$EK$10,1))","v":1},{"$f":"PRODUCT(IF(($CL$13:$EK$13<=CX$13*TRANSPOSE($CK$14:$CK$65>=$CK35)),$CL$10:$EK$10,1))","v":1},{"$f":"PRODUCT(IF(($CL$13:$EK$13<=CY$13*TRANSPOSE($CK$14:$CK$65>=$CK35)),$CL$10:$EK$10,1))","v":1},{"$f":"PRODUCT(IF(($CL$13:$EK$13<=CZ$13*TRANSPOSE($CK$14:$CK$65>=$CK35)),$CL$10:$EK$10,1))","v":1},{"$f":"PRODUCT(IF(($CL$13:$EK$13<=DA$13*TRANSPOSE($CK$14:$CK$65>=$CK35)),$CL$10:$EK$10,1))","v":1},{"$f":"PRODUCT(IF(($CL$13:$EK$13<=DB$13*TRANSPOSE($CK$14:$CK$65>=$CK35)),$CL$10:$EK$10,1))","v":1},{"$f":"PRODUCT(IF(($CL$13:$EK$13<=DC$13*TRANSPOSE($CK$14:$CK$65>=$CK35)),$CL$10:$EK$10,1))","v":1},{"$f":"PRODUCT(IF(($CL$13:$EK$13<=DD$13*TRANSPOSE($CK$14:$CK$65>=$CK35)),$CL$10:$EK$10,1))","v":1},{"$f":"PRODUCT(IF(($CL$13:$EK$13<=DE$13*TRANSPOSE($CK$14:$CK$65>=$CK35)),$CL$10:$EK$10,1))","v":1},{"$f":"PRODUCT(IF(($CL$13:$EK$13<=DF$13*TRANSPOSE($CK$14:$CK$65>=$CK35)),$CL$10:$EK$10,1))","v":1},{"$f":"PRODUCT(IF(($CL$13:$EK$13<=DG$13*TRANSPOSE($CK$14:$CK$65>=$CK35)),$CL$10:$EK$10,1))","v":1.061953626731732},{"$f":"PRODUCT(IF(($CL$13:$EK$13<=DH$13*TRANSPOSE($CK$14:$CK$65>=$CK35)),$CL$10:$EK$10,1))","v":1.2010449877093949},{"$f":"PRODUCT(IF(($CL$13:$EK$13<=DI$13*TRANSPOSE($CK$14:$CK$65>=$CK35)),$CL$10:$EK$10,1))","v":1.3615418973004856},{"$f":"PRODUCT(IF(($CL$13:$EK$13<=DJ$13*TRANSPOSE($CK$14:$CK$65>=$CK35)),$CL$10:$EK$10,1))","v":1.4825196409167076},{"$f":"PRODUCT(IF(($CL$13:$EK$13<=DK$13*TRANSPOSE($CK$14:$CK$65>=$CK35)),$CL$10:$EK$10,1))","v":1.6104906608850535},{"$f":"PRODUCT(IF(($CL$13:$EK$13<=DL$13*TRANSPOSE($CK$14:$CK$65>=$CK35)),$CL$10:$EK$10,1))","v":1.7992163859420245},{"$f":"PRODUCT(IF(($CL$13:$EK$13<=DM$13*TRANSPOSE($CK$14:$CK$65>=$CK35)),$CL$10:$EK$10,1))","v":1.9469098171494725},{"$f":"PRODUCT(IF(($CL$13:$EK$13<=DN$13*TRANSPOSE($CK$14:$CK$65>=$CK35)),$CL$10:$EK$10,1))","v":2.0648102597332829},{"$f":"PRODUCT(IF(($CL$13:$EK$13<=DO$13*TRANSPOSE($CK$14:$CK$65>=$CK35)),$CL$10:$EK$10,1))","v":2.179670308186421},{"$f":"PRODUCT(IF(($CL$13:$EK$13<=DP$13*TRANSPOSE($CK$14:$CK$65>=$CK35)),$CL$10:$EK$10,1))","v":2.3288547948093443},{"$f":"PRODUCT(IF(($CL$13:$EK$13<=DQ$13*TRANSPOSE($CK$14:$CK$65>=$CK35)),$CL$10:$EK$10,1))","v":2.5042830409365306},{"$f":"PRODUCT(IF(($CL$13:$EK$13<=DR$13*TRANSPOSE($CK$14:$CK$65>=$CK35)),$CL$10:$EK$10,1))","v":2.7405310024459468},{"$f":"PRODUCT(IF(($CL$13:$EK$13<=DS$13*TRANSPOSE($CK$14:$CK$65>=$CK35)),$CL$10:$EK$10,1))","v":3.5297269039587604},{"$f":"PRODUCT(IF(($CL$13:$EK$13<=DT$13*TRANSPOSE($CK$14:$CK$65>=$CK35)),$CL$10:$EK$10,1))","v":4.0558746488943545},{"$f":"PRODUCT(IF(($CL$13:$EK$13<=DU$13*TRANSPOSE($CK$14:$CK$65>=$CK35)),$CL$10:$EK$10,1))","v":4.6602182650862769},{"$f":"PRODUCT(IF(($CL$13:$EK$13<=DV$13*TRANSPOSE($CK$14:$CK$65>=$CK35)),$CL$10:$EK$10,1))","v":5.4111041582029982},{"$f":"PRODUCT(IF(($CL$13:$EK$13<=DW$13*TRANSPOSE($CK$14:$CK$65>=$CK35)),$CL$10:$EK$10,1))","v":5.4601843828448811},{"$f":"PRODUCT(IF(($CL$13:$EK$13<=DX$13*TRANSPOSE($CK$14:$CK$65>=$CK35)),$CL$10:$EK$10,1))","v":5.9631518511690835},{"$f":"PRODUCT(IF(($CL$13:$EK$13<=DY$13*TRANSPOSE($CK$14:$CK$65>=$CK35)),$CL$10:$EK$10,1))","v":6.9864086046232652},{"$f":"PRODUCT(IF(($CL$13:$EK$13<=DZ$13*TRANSPOSE($CK$14:$CK$65>=$CK35)),$CL$10:$EK$10,1))","v":8.2583462093958655},{"$f":"PRODUCT(IF(($CL$13:$EK$13<=EA$13*TRANSPOSE($CK$14:$CK$65>=$CK35)),$CL$10:$EK$10,1))","v":9.6748196957647981},{"$f":"PRODUCT(IF(($CL$13:$EK$13<=EB$13*TRANSPOSE($CK$14:$CK$65>=$CK35)),$CL$10:$EK$10,1))","v":10.454335779101326},{"$f":"PRODUCT(IF(($CL$13:$EK$13<=EC$13*TRANSPOSE($CK$14:$CK$65>=$CK35)),$CL$10:$EK$10,1))","v":10.668799303441972},{"$f":"PRODUCT(IF(($CL$13:$EK$13<=ED$13*TRANSPOSE($CK$14:$CK$65>=$CK35)),$CL$10:$EK$10,1))","v":10.779061498674674},{"$f":"PRODUCT(IF(($CL$13:$EK$13<=EE$13*TRANSPOSE($CK$14:$CK$65>=$CK35)),$CL$10:$EK$10,1))","v":10.871477445280506},{"$f":"PRODUCT(IF(($CL$13:$EK$13<=EF$13*TRANSPOSE($CK$14:$CK$65>=$CK35)),$CL$10:$EK$10,1))","v":11.353509423298446},{"$f":"PRODUCT(IF(($CL$13:$EK$13<=EG$13*TRANSPOSE($CK$14:$CK$65>=$CK35)),$CL$10:$EK$10,1))","v":11.626820833112784},{"$f":"PRODUCT(IF(($CL$13:$EK$13<=EH$13*TRANSPOSE($CK$14:$CK$65>=$CK35)),$CL$10:$EK$10,1))","v":12.079998595024751},{"$f":"PRODUCT(IF(($CL$13:$EK$13<=EI$13*TRANSPOSE($CK$14:$CK$65>=$CK35)),$CL$10:$EK$10,1))","v":13.162321903942473},{"$f":"PRODUCT(IF(($CL$13:$EK$13<=EJ$13*TRANSPOSE($CK$14:$CK$65>=$CK35)),$CL$10:$EK$10,1))","v":15.111014225753285},{"$f":"PRODUCT(IF(($CL$13:$EK$13<=EK$13*TRANSPOSE($CK$14:$CK$65>=$CK35)),$CL$10:$EK$10,1))","v":16.1096122675863}]
[null,null,1995,null,null,null,null,null,null,null,null,null,null,null,null,null,null,null,null,null,null,null,null,null,null,null,0.13363105565028555,0.11101670848727707,0.10272269254775557,0.10632068020297258,0.10143104147380955,9.4511037989955859E-2,8.8869751254027296E-2,8.6295278648584661E-2,8.5071202266125523E-2,8.5994296568959516E-2,0.10296564305885658,0.10673532166003397,0.10993084786383722,0.11351163286423405,0.10622432039316299,0.10533720178327588,0.10912895096183162,0.11305992111103458,0.1160627436645445,0.11426081616763883,0.1096074046242379,0.10489031570675666,0.10051743133298929,9.8117431037796576E-2,9.5055342144979349E-2,9.2843528753975502E-2,9.2723089027797689E-2,9.4652381910784067E-2,9.3654641458072119E-2,null,1994,0.13097686892951299,9.5921980667143636E-2,9.9940301131325127E-2,9.8634481638424587E-2,9.2214702404680216E-2,0.10270843738009083,0.1100288226678523,9.4452666338230129E-2,7.8682275237390575E-2,4.9060822119107117E-2,5.0041819276605004E-2,4.2383598643763953E-2,3.7050028476163011E-2,4.245489355101606E-2,4.8828431971693176E-2,5.7003472869607386E-2,6.2910892130296103E-2,8.0311397272093465E-2,9.1504706887946874E-2,9.8276351651874982E-2,0.10824089435764028,0.1096819607337749,{"$f":"PRODUCT($CH14:$CH36)^(1/CB$13)-1","v":0.10970398029239425},null,null,null,null,1994,{"$f":"HLOOKUP($W$7,dat,MATCH(CG36,Data!$B$3:$B$60,0),0)+1","v":1.130976868929513},null,null,1994,{"$f":"PRODUCT(IF(($CL$13:$EK$13<=CL$13*TRANSPOSE($CK$14:$CK$65>=$CK36)),$CL$10:$EK$10,1))","v":1},{"$f":"PRODUCT(IF(($CL$13:$EK$13<=CM$13*TRANSPOSE($CK$14:$CK$65>=$CK36)),$CL$10:$EK$10,1))","v":1},{"$f":"PRODUCT(IF(($CL$13:$EK$13<=CN$13*TRANSPOSE($CK$14:$CK$65>=$CK36)),$CL$10:$EK$10,1))","v":1},{"$f":"PRODUCT(IF(($CL$13:$EK$13<=CO$13*TRANSPOSE($CK$14:$CK$65>=$CK36)),$CL$10:$EK$10,1))","v":1},{"$f":"PRODUCT(IF(($CL$13:$EK$13<=CP$13*TRANSPOSE($CK$14:$CK$65>=$CK36)),$CL$10:$EK$10,1))","v":1},{"$f":"PRODUCT(IF(($CL$13:$EK$13<=CQ$13*TRANSPOSE($CK$14:$CK$65>=$CK36)),$CL$10:$EK$10,1))","v":1},{"$f":"PRODUCT(IF(($CL$13:$EK$13<=CR$13*TRANSPOSE($CK$14:$CK$65>=$CK36)),$CL$10:$EK$10,1))","v":1},{"$f":"PRODUCT(IF(($CL$13:$EK$13<=CS$13*TRANSPOSE($CK$14:$CK$65>=$CK36)),$CL$10:$EK$10,1))","v":1},{"$f":"PRODUCT(IF(($CL$13:$EK$13<=CT$13*TRANSPOSE($CK$14:$CK$65>=$CK36)),$CL$10:$EK$10,1))","v":1},{"$f":"PRODUCT(IF(($CL$13:$EK$13<=CU$13*TRANSPOSE($CK$14:$CK$65>=$CK36)),$CL$10:$EK$10,1))","v":1},{"$f":"PRODUCT(IF(($CL$13:$EK$13<=CV$13*TRANSPOSE($CK$14:$CK$65>=$CK36)),$CL$10:$EK$10,1))","v":1},{"$f":"PRODUCT(IF(($CL$13:$EK$13<=CW$13*TRANSPOSE($CK$14:$CK$65>=$CK36)),$CL$10:$EK$10,1))","v":1},{"$f":"PRODUCT(IF(($CL$13:$EK$13<=CX$13*TRANSPOSE($CK$14:$CK$65>=$CK36)),$CL$10:$EK$10,1))","v":1},{"$f":"PRODUCT(IF(($CL$13:$EK$13<=CY$13*TRANSPOSE($CK$14:$CK$65>=$CK36)),$CL$10:$EK$10,1))","v":1},{"$f":"PRODUCT(IF(($CL$13:$EK$13<=CZ$13*TRANSPOSE($CK$14:$CK$65>=$CK36)),$CL$10:$EK$10,1))","v":1},{"$f":"PRODUCT(IF(($CL$13:$EK$13<=DA$13*TRANSPOSE($CK$14:$CK$65>=$CK36)),$CL$10:$EK$10,1))","v":1},{"$f":"PRODUCT(IF(($CL$13:$EK$13<=DB$13*TRANSPOSE($CK$14:$CK$65>=$CK36)),$CL$10:$EK$10,1))","v":1},{"$f":"PRODUCT(IF(($CL$13:$EK$13<=DC$13*TRANSPOSE($CK$14:$CK$65>=$CK36)),$CL$10:$EK$10,1))","v":1},{"$f":"PRODUCT(IF(($CL$13:$EK$13<=DD$13*TRANSPOSE($CK$14:$CK$65>=$CK36)),$CL$10:$EK$10,1))","v":1},{"$f":"PRODUCT(IF(($CL$13:$EK$13<=DE$13*TRANSPOSE($CK$14:$CK$65>=$CK36)),$CL$10:$EK$10,1))","v":1},{"$f":"PRODUCT(IF(($CL$13:$EK$13<=DF$13*TRANSPOSE($CK$14:$CK$65>=$CK36)),$CL$10:$EK$10,1))","v":1},{"$f":"PRODUCT(IF(($CL$13:$EK$13<=DG$13*TRANSPOSE($CK$14:$CK$65>=$CK36)),$CL$10:$EK$10,1))","v":1},{"$f":"PRODUCT(IF(($CL$13:$EK$13<=DH$13*TRANSPOSE($CK$14:$CK$65>=$CK36)),$CL$10:$EK$10,1))","v":1.130976868929513},{"$f":"PRODUCT(IF(($CL$13:$EK$13<=DI$13*TRANSPOSE($CK$14:$CK$65>=$CK36)),$CL$10:$EK$10,1))","v":1.2821105018406185},{"$f":"PRODUCT(IF(($CL$13:$EK$13<=DJ$13*TRANSPOSE($CK$14:$CK$65>=$CK36)),$CL$10:$EK$10,1))","v":1.3960304890895374},{"$f":"PRODUCT(IF(($CL$13:$EK$13<=DK$13*TRANSPOSE($CK$14:$CK$65>=$CK36)),$CL$10:$EK$10,1))","v":1.5165357698730209},{"$f":"PRODUCT(IF(($CL$13:$EK$13<=DL$13*TRANSPOSE($CK$14:$CK$65>=$CK36)),$CL$10:$EK$10,1))","v":1.6942513690350984},{"$f":"PRODUCT(IF(($CL$13:$EK$13<=DM$13*TRANSPOSE($CK$14:$CK$65>=$CK36)),$CL$10:$EK$10,1))","v":1.8333284694749634},{"$f":"PRODUCT(IF(($CL$13:$EK$13<=DN$13*TRANSPOSE($CK$14:$CK$65>=$CK36)),$CL$10:$EK$10,1))","v":1.9443506832665964},{"$f":"PRODUCT(IF(($CL$13:$EK$13<=DO$13*TRANSPOSE($CK$14:$CK$65>=$CK36)),$CL$10:$EK$10,1))","v":2.0525098773800261},{"$f":"PRODUCT(IF(($CL$13:$EK$13<=DP$13*TRANSPOSE($CK$14:$CK$65>=$CK36)),$CL$10:$EK$10,1))","v":2.1929910461124624},{"$f":"PRODUCT(IF(($CL$13:$EK$13<=DQ$13*TRANSPOSE($CK$14:$CK$65>=$CK36)),$CL$10:$EK$10,1))","v":2.3581849319011332},{"$f":"PRODUCT(IF(($CL$13:$EK$13<=DR$13*TRANSPOSE($CK$14:$CK$65>=$CK36)),$CL$10:$EK$10,1))","v":2.5806503537072554},{"$f":"PRODUCT(IF(($CL$13:$EK$13<=DS$13*TRANSPOSE($CK$14:$CK$65>=$CK36)),$CL$10:$EK$10,1))","v":3.3238051220954405},{"$f":"PRODUCT(IF(($CL$13:$EK$13<=DT$13*TRANSPOSE($CK$14:$CK$65>=$CK36)),$CL$10:$EK$10,1))","v":3.819257778116651},{"$f":"PRODUCT(IF(($CL$13:$EK$13<=DU$13*TRANSPOSE($CK$14:$CK$65>=$CK36)),$CL$10:$EK$10,1))","v":4.3883444133323994},{"$f":"PRODUCT(IF(($CL$13:$EK$13<=DV$13*TRANSPOSE($CK$14:$CK$65>=$CK36)),$CL$10:$EK$10,1))","v":5.0954241522355446},{"$f":"PRODUCT(IF(($CL$13:$EK$13<=DW$13*TRANSPOSE($CK$14:$CK$65>=$CK36)),$CL$10:$EK$10,1))","v":5.1416410711352256},{"$f":"PRODUCT(IF(($CL$13:$EK$13<=DX$13*TRANSPOSE($CK$14:$CK$65>=$CK36)),$CL$10:$EK$10,1))","v":5.6152657715584775},{"$f":"PRODUCT(IF(($CL$13:$EK$13<=DY$13*TRANSPOSE($CK$14:$CK$65>=$CK36)),$CL$10:$EK$10,1))","v":6.5788264466167252},{"$f":"PRODUCT(IF(($CL$13:$EK$13<=DZ$13*TRANSPOSE($CK$14:$CK$65>=$CK36)),$CL$10:$EK$10,1))","v":7.7765601072541628},{"$f":"PRODUCT(IF(($CL$13:$EK$13<=EA$13*TRANSPOSE($CK$14:$CK$65>=$CK36)),$CL$10:$EK$10,1))","v":9.1103975279410445},{"$f":"PRODUCT(IF(($CL$13:$EK$13<=EB$13*TRANSPOSE($CK$14:$CK$65>=$CK36)),$CL$10:$EK$10,1))","v":9.8444371919286002},{"$f":"PRODUCT(IF(($CL$13:$EK$13<=EC$13*TRANSPOSE($CK$14:$CK$65>=$CK36)),$CL$10:$EK$10,1))","v":10.046389065289285},{"$f":"PRODUCT(IF(($CL$13:$EK$13<=ED$13*TRANSPOSE($CK$14:$CK$65>=$CK36)),$CL$10:$EK$10,1))","v":10.150218641701246},{"$f":"PRODUCT(IF(($CL$13:$EK$13<=EE$13*TRANSPOSE($CK$14:$CK$65>=$CK36)),$CL$10:$EK$10,1))","v":10.237243107063495},{"$f":"PRODUCT(IF(($CL$13:$EK$13<=EF$13*TRANSPOSE($CK$14:$CK$65>=$CK36)),$CL$10:$EK$10,1))","v":10.691153678941705},{"$f":"PRODUCT(IF(($CL$13:$EK$13<=EG$13*TRANSPOSE($CK$14:$CK$65>=$CK36)),$CL$10:$EK$10,1))","v":10.948520293579561},{"$f":"PRODUCT(IF(($CL$13:$EK$13<=EH$13*TRANSPOSE($CK$14:$CK$65>=$CK36)),$CL$10:$EK$10,1))","v":11.375259983999628},{"$f":"PRODUCT(IF(($CL$13:$EK$13<=EI$13*TRANSPOSE($CK$14:$CK$65>=$CK36)),$CL$10:$EK$10,1))","v":12.394441313271679},{"$f":"PRODUCT(IF(($CL$13:$EK$13<=EJ$13*TRANSPOSE($CK$14:$CK$65>=$CK36)),$CL$10:$EK$10,1))","v":14.229448297341319},{"$f":"PRODUCT(IF(($CL$13:$EK$13<=EK$13*TRANSPOSE($CK$14:$CK$65>=$CK36)),$CL$10:$EK$10,1))","v":15.169788832649155}]
[null,null,1996,null,null,null,null,null,null,null,null,null,null,null,null,null,null,null,null,null,null,null,null,null,null,null,null,8.8853485784083031E-2,8.7585979714909001E-2,9.736422039987791E-2,9.352497482656319E-2,8.6850546043408139E-2,8.1583283494905956E-2,7.9696338808793676E-2,7.9149342127262212E-2,8.0826458740925089E-2,9.9945100373931561E-2,0.10432212681673003,0.10797834062003653,0.11197885650424677,0.1042922425081938,0.10347625066284794,0.10761527329670395,0.11186154604759602,0.11509474859042212,0.11325054811297885,0.10841967666631236,0.10354003232389175,9.903546563179888E-2,9.6598853774667592E-2,9.3476822475447419E-2,9.1242909794333249E-2,9.1179533076658048E-2,9.3234754771409634E-2,9.225328595129989E-2,null,1995,0.13363105565028555,0.13230318459351631,0.10835019831863857,0.10826793881818908,0.10554627970591079,9.9010827344675256E-2,0.10707376731380625,0.11295201623087636,9.8738084260129089E-2,8.4055112010482436E-2,5.6480959507381856E-2,5.6765656121471775E-2,4.9134012014530049E-2,4.3667105254371341E-2,4.8298352350488516E-2,5.3937620523989205E-2,6.136405225178132E-2,6.6721423522429824E-2,8.3054114824996361E-2,9.3573352188282666E-2,9.9934629719814705E-2,0.10938255837323152,0.11071262690497186,{"$f":"PRODUCT($CH14:$CH37)^(1/CC$13)-1","v":0.11069078422579337},null,null,null,1995,{"$f":"HLOOKUP($W$7,dat,MATCH(CG37,Data!$B$3:$B$60,0),0)+1","v":1.1336310556502855},null,null,1995,{"$f":"PRODUCT(IF(($CL$13:$EK$13<=CL$13*TRANSPOSE($CK$14:$CK$65>=$CK37)),$CL$10:$EK$10,1))","v":1},{"$f":"PRODUCT(IF(($CL$13:$EK$13<=CM$13*TRANSPOSE($CK$14:$CK$65>=$CK37)),$CL$10:$EK$10,1))","v":1},{"$f":"PRODUCT(IF(($CL$13:$EK$13<=CN$13*TRANSPOSE($CK$14:$CK$65>=$CK37)),$CL$10:$EK$10,1))","v":1},{"$f":"PRODUCT(IF(($CL$13:$EK$13<=CO$13*TRANSPOSE($CK$14:$CK$65>=$CK37)),$CL$10:$EK$10,1))","v":1},{"$f":"PRODUCT(IF(($CL$13:$EK$13<=CP$13*TRANSPOSE($CK$14:$CK$65>=$CK37)),$CL$10:$EK$10,1))","v":1},{"$f":"PRODUCT(IF(($CL$13:$EK$13<=CQ$13*TRANSPOSE($CK$14:$CK$65>=$CK37)),$CL$10:$EK$10,1))","v":1},{"$f":"PRODUCT(IF(($CL$13:$EK$13<=CR$13*TRANSPOSE($CK$14:$CK$65>=$CK37)),$CL$10:$EK$10,1))","v":1},{"$f":"PRODUCT(IF(($CL$13:$EK$13<=CS$13*TRANSPOSE($CK$14:$CK$65>=$CK37)),$CL$10:$EK$10,1))","v":1},{"$f":"PRODUCT(IF(($CL$13:$EK$13<=CT$13*TRANSPOSE($CK$14:$CK$65>=$CK37)),$CL$10:$EK$10,1))","v":1},{"$f":"PRODUCT(IF(($CL$13:$EK$13<=CU$13*TRANSPOSE($CK$14:$CK$65>=$CK37)),$CL$10:$EK$10,1))","v":1},{"$f":"PRODUCT(IF(($CL$13:$EK$13<=CV$13*TRANSPOSE($CK$14:$CK$65>=$CK37)),$CL$10:$EK$10,1))","v":1},{"$f":"PRODUCT(IF(($CL$13:$EK$13<=CW$13*TRANSPOSE($CK$14:$CK$65>=$CK37)),$CL$10:$EK$10,1))","v":1},{"$f":"PRODUCT(IF(($CL$13:$EK$13<=CX$13*TRANSPOSE($CK$14:$CK$65>=$CK37)),$CL$10:$EK$10,1))","v":1},{"$f":"PRODUCT(IF(($CL$13:$EK$13<=CY$13*TRANSPOSE($CK$14:$CK$65>=$CK37)),$CL$10:$EK$10,1))","v":1},{"$f":"PRODUCT(IF(($CL$13:$EK$13<=CZ$13*TRANSPOSE($CK$14:$CK$65>=$CK37)),$CL$10:$EK$10,1))","v":1},{"$f":"PRODUCT(IF(($CL$13:$EK$13<=DA$13*TRANSPOSE($CK$14:$CK$65>=$CK37)),$CL$10:$EK$10,1))","v":1},{"$f":"PRODUCT(IF(($CL$13:$EK$13<=DB$13*TRANSPOSE($CK$14:$CK$65>=$CK37)),$CL$10:$EK$10,1))","v":1},{"$f":"PRODUCT(IF(($CL$13:$EK$13<=DC$13*TRANSPOSE($CK$14:$CK$65>=$CK37)),$CL$10:$EK$10,1))","v":1},{"$f":"PRODUCT(IF(($CL$13:$EK$13<=DD$13*TRANSPOSE($CK$14:$CK$65>=$CK37)),$CL$10:$EK$10,1))","v":1},{"$f":"PRODUCT(IF(($CL$13:$EK$13<=DE$13*TRANSPOSE($CK$14:$CK$65>=$CK37)),$CL$10:$EK$10,1))","v":1},{"$f":"PRODUCT(IF(($CL$13:$EK$13<=DF$13*TRANSPOSE($CK$14:$CK$65>=$CK37)),$CL$10:$EK$10,1))","v":1},{"$f":"PRODUCT(IF(($CL$13:$EK$13<=DG$13*TRANSPOSE($CK$14:$CK$65>=$CK37)),$CL$10:$EK$10,1))","v":1},{"$f":"PRODUCT(IF(($CL$13:$EK$13<=DH$13*TRANSPOSE($CK$14:$CK$65>=$CK37)),$CL$10:$EK$10,1))","v":1},{"$f":"PRODUCT(IF(($CL$13:$EK$13<=DI$13*TRANSPOSE($CK$14:$CK$65>=$CK37)),$CL$10:$EK$10,1))","v":1.1336310556502855},{"$f":"PRODUCT(IF(($CL$13:$EK$13<=DJ$13*TRANSPOSE($CK$14:$CK$65>=$CK37)),$CL$10:$EK$10,1))","v":1.2343581265379033},{"$f":"PRODUCT(IF(($CL$13:$EK$13<=DK$13*TRANSPOSE($CK$14:$CK$65>=$CK37)),$CL$10:$EK$10,1))","v":1.3409078572123632},{"$f":"PRODUCT(IF(($CL$13:$EK$13<=DL$13*TRANSPOSE($CK$14:$CK$65>=$CK37)),$CL$10:$EK$10,1))","v":1.4980424583207732},{"$f":"PRODUCT(IF(($CL$13:$EK$13<=DM$13*TRANSPOSE($CK$14:$CK$65>=$CK37)),$CL$10:$EK$10,1))","v":1.6210132318711674},{"$f":"PRODUCT(IF(($CL$13:$EK$13<=DN$13*TRANSPOSE($CK$14:$CK$65>=$CK37)),$CL$10:$EK$10,1))","v":1.7191781164427831},{"$f":"PRODUCT(IF(($CL$13:$EK$13<=DO$13*TRANSPOSE($CK$14:$CK$65>=$CK37)),$CL$10:$EK$10,1))","v":1.8148115436903307},{"$f":"PRODUCT(IF(($CL$13:$EK$13<=DP$13*TRANSPOSE($CK$14:$CK$65>=$CK37)),$CL$10:$EK$10,1))","v":1.9390237823238263},{"$f":"PRODUCT(IF(($CL$13:$EK$13<=DQ$13*TRANSPOSE($CK$14:$CK$65>=$CK37)),$CL$10:$EK$10,1))","v":2.0850867923878864},{"$f":"PRODUCT(IF(($CL$13:$EK$13<=DR$13*TRANSPOSE($CK$14:$CK$65>=$CK37)),$CL$10:$EK$10,1))","v":2.2817888009945602},{"$f":"PRODUCT(IF(($CL$13:$EK$13<=DS$13*TRANSPOSE($CK$14:$CK$65>=$CK37)),$CL$10:$EK$10,1))","v":2.9388798422035576},{"$f":"PRODUCT(IF(($CL$13:$EK$13<=DT$13*TRANSPOSE($CK$14:$CK$65>=$CK37)),$CL$10:$EK$10,1))","v":3.3769548105184835},{"$f":"PRODUCT(IF(($CL$13:$EK$13<=DU$13*TRANSPOSE($CK$14:$CK$65>=$CK37)),$CL$10:$EK$10,1))","v":3.8801363086108345},{"$f":"PRODUCT(IF(($CL$13:$EK$13<=DV$13*TRANSPOSE($CK$14:$CK$65>=$CK37)),$CL$10:$EK$10,1))","v":4.505330119667649},{"$f":"PRODUCT(IF(($CL$13:$EK$13<=DW$13*TRANSPOSE($CK$14:$CK$65>=$CK37)),$CL$10:$EK$10,1))","v":4.5461947210307398},{"$f":"PRODUCT(IF(($CL$13:$EK$13<=DX$13*TRANSPOSE($CK$14:$CK$65>=$CK37)),$CL$10:$EK$10,1))","v":4.9649695991337248},{"$f":"PRODUCT(IF(($CL$13:$EK$13<=DY$13*TRANSPOSE($CK$14:$CK$65>=$CK37)),$CL$10:$EK$10,1))","v":5.8169416434163566},{"$f":"PRODUCT(IF(($CL$13:$EK$13<=DZ$13*TRANSPOSE($CK$14:$CK$65>=$CK37)),$CL$10:$EK$10,1))","v":6.8759674232902732},{"$f":"PRODUCT(IF(($CL$13:$EK$13<=EA$13*TRANSPOSE($CK$14:$CK$65>=$CK37)),$CL$10:$EK$10,1))","v":8.0553349747675895},{"$f":"PRODUCT(IF(($CL$13:$EK$13<=EB$13*TRANSPOSE($CK$14:$CK$65>=$CK37)),$CL$10:$EK$10,1))","v":8.7043665192255553},{"$f":"PRODUCT(IF(($CL$13:$EK$13<=EC$13*TRANSPOSE($CK$14:$CK$65>=$CK37)),$CL$10:$EK$10,1))","v":8.8829306250961153},{"$f":"PRODUCT(IF(($CL$13:$EK$13<=ED$13*TRANSPOSE($CK$14:$CK$65>=$CK37)),$CL$10:$EK$10,1))","v":8.9747358416875365},{"$f":"PRODUCT(IF(($CL$13:$EK$13<=EE$13*TRANSPOSE($CK$14:$CK$65>=$CK37)),$CL$10:$EK$10,1))","v":9.0516821239263763},{"$f":"PRODUCT(IF(($CL$13:$EK$13<=EF$13*TRANSPOSE($CK$14:$CK$65>=$CK37)),$CL$10:$EK$10,1))","v":9.4530259394792466},{"$f":"PRODUCT(IF(($CL$13:$EK$13<=EG$13*TRANSPOSE($CK$14:$CK$65>=$CK37)),$CL$10:$EK$10,1))","v":9.6805872819861509},{"$f":"PRODUCT(IF(($CL$13:$EK$13<=EH$13*TRANSPOSE($CK$14:$CK$65>=$CK37)),$CL$10:$EK$10,1))","v":10.057906838330378},{"$f":"PRODUCT(IF(($CL$13:$EK$13<=EI$13*TRANSPOSE($CK$14:$CK$65>=$CK37)),$CL$10:$EK$10,1))","v":10.95905818569323},{"$f":"PRODUCT(IF(($CL$13:$EK$13<=EJ$13*TRANSPOSE($CK$14:$CK$65>=$CK37)),$CL$10:$EK$10,1))","v":12.581555545702461},{"$f":"PRODUCT(IF(($CL$13:$EK$13<=EK$13*TRANSPOSE($CK$14:$CK$65>=$CK37)),$CL$10:$EK$10,1))","v":13.412996542544319}]
[null,"Buy (beginning of year)",1997,null,null,null,null,null,null,null,null,null,null,null,null,null,null,null,null,null,null,null,null,null,null,null,null,null,8.631994911663754E-2,0.10164450101857669,9.5086587381554732E-2,8.6350387060096345E-2,8.0135078558910333E-2,7.8177652353438543E-2,7.7770114011068037E-2,7.9827250096757618E-2,0.1011844554170267,0.10588102617035577,0.10973353271116948,0.1139279979572474,0.10548886695046811,0.1045282172410722,0.10887749242481837,0.11331558675122011,0.11665789958439765,0.11462185680075709,0.10945916088075225,0.10427953753639474,9.9522689717545187E-2,9.6952222086313267E-2,9.3678281827420662E-2,9.1342582838525699E-2,9.1272678252657835E-2,9.3403616724560434E-2,9.2379408134737995E-2,null,1996,8.8853485784083031E-2,0.11101670848727707,0.11763064409637614,0.10344353354381797,0.104357550750656,0.10274648088325078,9.7553997890197808E-2,0.1047796622521302,0.11024827691122052,9.7745599837711472E-2,8.4490452622141055E-2,5.9141508422897893E-2,5.9200018137797628E-2,5.1922429034693351E-2,4.6620311577562745E-2,5.0788199884019836E-2,5.5960144938844936E-2,6.287287223993232E-2,6.787497280594601E-2,8.3343348407382223E-2,9.3348133417078483E-2,9.9428503499342069E-2,0.1084819939386541,0.10979312844060773,{"$f":"PRODUCT($CH14:$CH38)^(1/CD$13)-1","v":0.10980894144462527},null,null,1996,{"$f":"HLOOKUP($W$7,dat,MATCH(CG38,Data!$B$3:$B$60,0),0)+1","v":1.088853485784083},null,null,1996,{"$f":"PRODUCT(IF(($CL$13:$EK$13<=CL$13*TRANSPOSE($CK$14:$CK$65>=$CK38)),$CL$10:$EK$10,1))","v":1},{"$f":"PRODUCT(IF(($CL$13:$EK$13<=CM$13*TRANSPOSE($CK$14:$CK$65>=$CK38)),$CL$10:$EK$10,1))","v":1},{"$f":"PRODUCT(IF(($CL$13:$EK$13<=CN$13*TRANSPOSE($CK$14:$CK$65>=$CK38)),$CL$10:$EK$10,1))","v":1},{"$f":"PRODUCT(IF(($CL$13:$EK$13<=CO$13*TRANSPOSE($CK$14:$CK$65>=$CK38)),$CL$10:$EK$10,1))","v":1},{"$f":"PRODUCT(IF(($CL$13:$EK$13<=CP$13*TRANSPOSE($CK$14:$CK$65>=$CK38)),$CL$10:$EK$10,1))","v":1},{"$f":"PRODUCT(IF(($CL$13:$EK$13<=CQ$13*TRANSPOSE($CK$14:$CK$65>=$CK38)),$CL$10:$EK$10,1))","v":1},{"$f":"PRODUCT(IF(($CL$13:$EK$13<=CR$13*TRANSPOSE($CK$14:$CK$65>=$CK38)),$CL$10:$EK$10,1))","v":1},{"$f":"PRODUCT(IF(($CL$13:$EK$13<=CS$13*TRANSPOSE($CK$14:$CK$65>=$CK38)),$CL$10:$EK$10,1))","v":1},{"$f":"PRODUCT(IF(($CL$13:$EK$13<=CT$13*TRANSPOSE($CK$14:$CK$65>=$CK38)),$CL$10:$EK$10,1))","v":1},{"$f":"PRODUCT(IF(($CL$13:$EK$13<=CU$13*TRANSPOSE($CK$14:$CK$65>=$CK38)),$CL$10:$EK$10,1))","v":1},{"$f":"PRODUCT(IF(($CL$13:$EK$13<=CV$13*TRANSPOSE($CK$14:$CK$65>=$CK38)),$CL$10:$EK$10,1))","v":1},{"$f":"PRODUCT(IF(($CL$13:$EK$13<=CW$13*TRANSPOSE($CK$14:$CK$65>=$CK38)),$CL$10:$EK$10,1))","v":1},{"$f":"PRODUCT(IF(($CL$13:$EK$13<=CX$13*TRANSPOSE($CK$14:$CK$65>=$CK38)),$CL$10:$EK$10,1))","v":1},{"$f":"PRODUCT(IF(($CL$13:$EK$13<=CY$13*TRANSPOSE($CK$14:$CK$65>=$CK38)),$CL$10:$EK$10,1))","v":1},{"$f":"PRODUCT(IF(($CL$13:$EK$13<=CZ$13*TRANSPOSE($CK$14:$CK$65>=$CK38)),$CL$10:$EK$10,1))","v":1},{"$f":"PRODUCT(IF(($CL$13:$EK$13<=DA$13*TRANSPOSE($CK$14:$CK$65>=$CK38)),$CL$10:$EK$10,1))","v":1},{"$f":"PRODUCT(IF(($CL$13:$EK$13<=DB$13*TRANSPOSE($CK$14:$CK$65>=$CK38)),$CL$10:$EK$10,1))","v":1},{"$f":"PRODUCT(IF(($CL$13:$EK$13<=DC$13*TRANSPOSE($CK$14:$CK$65>=$CK38)),$CL$10:$EK$10,1))","v":1},{"$f":"PRODUCT(IF(($CL$13:$EK$13<=DD$13*TRANSPOSE($CK$14:$CK$65>=$CK38)),$CL$10:$EK$10,1))","v":1},{"$f":"PRODUCT(IF(($CL$13:$EK$13<=DE$13*TRANSPOSE($CK$14:$CK$65>=$CK38)),$CL$10:$EK$10,1))","v":1},{"$f":"PRODUCT(IF(($CL$13:$EK$13<=DF$13*TRANSPOSE($CK$14:$CK$65>=$CK38)),$CL$10:$EK$10,1))","v":1},{"$f":"PRODUCT(IF(($CL$13:$EK$13<=DG$13*TRANSPOSE($CK$14:$CK$65>=$CK38)),$CL$10:$EK$10,1))","v":1},{"$f":"PRODUCT(IF(($CL$13:$EK$13<=DH$13*TRANSPOSE($CK$14:$CK$65>=$CK38)),$CL$10:$EK$10,1))","v":1},{"$f":"PRODUCT(IF(($CL$13:$EK$13<=DI$13*TRANSPOSE($CK$14:$CK$65>=$CK38)),$CL$10:$EK$10,1))","v":1},{"$f":"PRODUCT(IF(($CL$13:$EK$13<=DJ$13*TRANSPOSE($CK$14:$CK$65>=$CK38)),$CL$10:$EK$10,1))","v":1.088853485784083},{"$f":"PRODUCT(IF(($CL$13:$EK$13<=DK$13*TRANSPOSE($CK$14:$CK$65>=$CK38)),$CL$10:$EK$10,1))","v":1.1828432632724386},{"$f":"PRODUCT(IF(($CL$13:$EK$13<=DL$13*TRANSPOSE($CK$14:$CK$65>=$CK38)),$CL$10:$EK$10,1))","v":1.3214550279424466},{"$f":"PRODUCT(IF(($CL$13:$EK$13<=DM$13*TRANSPOSE($CK$14:$CK$65>=$CK38)),$CL$10:$EK$10,1))","v":1.4299301556636561},{"$f":"PRODUCT(IF(($CL$13:$EK$13<=DN$13*TRANSPOSE($CK$14:$CK$65>=$CK38)),$CL$10:$EK$10,1))","v":1.5165234825510403},{"$f":"PRODUCT(IF(($CL$13:$EK$13<=DO$13*TRANSPOSE($CK$14:$CK$65>=$CK38)),$CL$10:$EK$10,1))","v":1.6008837572373134},{"$f":"PRODUCT(IF(($CL$13:$EK$13<=DP$13*TRANSPOSE($CK$14:$CK$65>=$CK38)),$CL$10:$EK$10,1))","v":1.7104540076414394},{"$f":"PRODUCT(IF(($CL$13:$EK$13<=DQ$13*TRANSPOSE($CK$14:$CK$65>=$CK38)),$CL$10:$EK$10,1))","v":1.8392992870081677},{"$f":"PRODUCT(IF(($CL$13:$EK$13<=DR$13*TRANSPOSE($CK$14:$CK$65>=$CK38)),$CL$10:$EK$10,1))","v":2.0128143011093291},{"$f":"PRODUCT(IF(($CL$13:$EK$13<=DS$13*TRANSPOSE($CK$14:$CK$65>=$CK38)),$CL$10:$EK$10,1))","v":2.5924482463280141},{"$f":"PRODUCT(IF(($CL$13:$EK$13<=DT$13*TRANSPOSE($CK$14:$CK$65>=$CK38)),$CL$10:$EK$10,1))","v":2.9788834680268699},{"$f":"PRODUCT(IF(($CL$13:$EK$13<=DU$13*TRANSPOSE($CK$14:$CK$65>=$CK38)),$CL$10:$EK$10,1))","v":3.4227505406378183},{"$f":"PRODUCT(IF(($CL$13:$EK$13<=DV$13*TRANSPOSE($CK$14:$CK$65>=$CK38)),$CL$10:$EK$10,1))","v":3.9742472625569123},{"$f":"PRODUCT(IF(($CL$13:$EK$13<=DW$13*TRANSPOSE($CK$14:$CK$65>=$CK38)),$CL$10:$EK$10,1))","v":4.0102947942114238},{"$f":"PRODUCT(IF(($CL$13:$EK$13<=DX$13*TRANSPOSE($CK$14:$CK$65>=$CK38)),$CL$10:$EK$10,1))","v":4.3797049969539401},{"$f":"PRODUCT(IF(($CL$13:$EK$13<=DY$13*TRANSPOSE($CK$14:$CK$65>=$CK38)),$CL$10:$EK$10,1))","v":5.1312476086671621},{"$f":"PRODUCT(IF(($CL$13:$EK$13<=DZ$13*TRANSPOSE($CK$14:$CK$65>=$CK38)),$CL$10:$EK$10,1))","v":6.0654367124284629},{"$f":"PRODUCT(IF(($CL$13:$EK$13<=EA$13*TRANSPOSE($CK$14:$CK$65>=$CK38)),$CL$10:$EK$10,1))","v":7.1057818455289272},{"$f":"PRODUCT(IF(($CL$13:$EK$13<=EB$13*TRANSPOSE($CK$14:$CK$65>=$CK38)),$CL$10:$EK$10,1))","v":7.6783063377109642},{"$f":"PRODUCT(IF(($CL$13:$EK$13<=EC$13*TRANSPOSE($CK$14:$CK$65>=$CK38)),$CL$10:$EK$10,1))","v":7.8358215230797441},{"$f":"PRODUCT(IF(($CL$13:$EK$13<=ED$13*TRANSPOSE($CK$14:$CK$65>=$CK38)),$CL$10:$EK$10,1))","v":7.9168048519448471},{"$f":"PRODUCT(IF(($CL$13:$EK$13<=EE$13*TRANSPOSE($CK$14:$CK$65>=$CK38)),$CL$10:$EK$10,1))","v":7.9846807996399303},{"$f":"PRODUCT(IF(($CL$13:$EK$13<=EF$13*TRANSPOSE($CK$14:$CK$65>=$CK38)),$CL$10:$EK$10,1))","v":8.3387146923711484},{"$f":"PRODUCT(IF(($CL$13:$EK$13<=EG$13*TRANSPOSE($CK$14:$CK$65>=$CK38)),$CL$10:$EK$10,1))","v":8.5394513794729043},{"$f":"PRODUCT(IF(($CL$13:$EK$13<=EH$13*TRANSPOSE($CK$14:$CK$65>=$CK38)),$CL$10:$EK$10,1))","v":8.872292963569933},{"$f":"PRODUCT(IF(($CL$13:$EK$13<=EI$13*TRANSPOSE($CK$14:$CK$65>=$CK38)),$CL$10:$EK$10,1))","v":9.6672176816881432},{"$f":"PRODUCT(IF(($CL$13:$EK$13<=EJ$13*TRANSPOSE($CK$14:$CK$65>=$CK38)),$CL$10:$EK$10,1))","v":11.098457018262701},{"$f":"PRODUCT(IF(($CL$13:$EK$13<=EK$13*TRANSPOSE($CK$14:$CK$65>=$CK38)),$CL$10:$EK$10,1))","v":11.831888757537802}]
[null,null,1998,null,null,null,null,null,null,null,null,null,null,null,null,null,null,null,null,null,null,null,null,null,null,null,null,null,null,0.11718523406603043,9.9496401087197039E-2,8.636053323077042E-2,7.8594370807315794E-2,7.6556531165553388E-2,7.6351698039798244E-2,7.8902894882191266E-2,0.10305676329970193,0.1080761068124918,0.11210246839040172,0.11647234785095373,0.10710146335267789,0.10594142984975963,0.11050655529512676,0.11513896636263965,0.11858191079579883,0.11630945200923826,0.11075902839500817,0.10523296128077186,0.10018702274229518,9.7461108437040034E-2,9.4013933229833757E-2,9.1561484224813139E-2,9.1479531280351578E-2,9.3687922205971663E-2,9.2613138036864218E-2,null,1997,8.631994911663754E-2,8.7585979714909001E-2,0.10272269254775557,0.1097193646821033,9.9997358212166265E-2,0.10133061816392086,0.10038471284056927,9.6143412945308704E-2,0.1027131890821702,0.1078319154305456,9.6701957411478023E-2,8.4642792910919695E-2,6.1207796999248387E-2,6.111450012343056E-2,5.4181323825612582E-2,4.9058473511570888E-2,5.2845753788347771E-2,5.7624319210879626E-2,6.4094215325880333E-2,6.8789738929081246E-2,8.348490617513793E-2,9.3027686266969889E-2,9.8855290883931746E-2,0.10754961181878375,0.10884453502896818,{"$f":"PRODUCT($CH14:$CH39)^(1/CE$13)-1","v":0.10889619670452211},null,1997,{"$f":"HLOOKUP($W$7,dat,MATCH(CG39,Data!$B$3:$B$60,0),0)+1","v":1.0863199491166375},null,null,1997,{"$f":"PRODUCT(IF(($CL$13:$EK$13<=CL$13*TRANSPOSE($CK$14:$CK$65>=$CK39)),$CL$10:$EK$10,1))","v":1},{"$f":"PRODUCT(IF(($CL$13:$EK$13<=CM$13*TRANSPOSE($CK$14:$CK$65>=$CK39)),$CL$10:$EK$10,1))","v":1},{"$f":"PRODUCT(IF(($CL$13:$EK$13<=CN$13*TRANSPOSE($CK$14:$CK$65>=$CK39)),$CL$10:$EK$10,1))","v":1},{"$f":"PRODUCT(IF(($CL$13:$EK$13<=CO$13*TRANSPOSE($CK$14:$CK$65>=$CK39)),$CL$10:$EK$10,1))","v":1},{"$f":"PRODUCT(IF(($CL$13:$EK$13<=CP$13*TRANSPOSE($CK$14:$CK$65>=$CK39)),$CL$10:$EK$10,1))","v":1},{"$f":"PRODUCT(IF(($CL$13:$EK$13<=CQ$13*TRANSPOSE($CK$14:$CK$65>=$CK39)),$CL$10:$EK$10,1))","v":1},{"$f":"PRODUCT(IF(($CL$13:$EK$13<=CR$13*TRANSPOSE($CK$14:$CK$65>=$CK39)),$CL$10:$EK$10,1))","v":1},{"$f":"PRODUCT(IF(($CL$13:$EK$13<=CS$13*TRANSPOSE($CK$14:$CK$65>=$CK39)),$CL$10:$EK$10,1))","v":1},{"$f":"PRODUCT(IF(($CL$13:$EK$13<=CT$13*TRANSPOSE($CK$14:$CK$65>=$CK39)),$CL$10:$EK$10,1))","v":1},{"$f":"PRODUCT(IF(($CL$13:$EK$13<=CU$13*TRANSPOSE($CK$14:$CK$65>=$CK39)),$CL$10:$EK$10,1))","v":1},{"$f":"PRODUCT(IF(($CL$13:$EK$13<=CV$13*TRANSPOSE($CK$14:$CK$65>=$CK39)),$CL$10:$EK$10,1))","v":1},{"$f":"PRODUCT(IF(($CL$13:$EK$13<=CW$13*TRANSPOSE($CK$14:$CK$65>=$CK39)),$CL$10:$EK$10,1))","v":1},{"$f":"PRODUCT(IF(($CL$13:$EK$13<=CX$13*TRANSPOSE($CK$14:$CK$65>=$CK39)),$CL$10:$EK$10,1))","v":1},{"$f":"PRODUCT(IF(($CL$13:$EK$13<=CY$13*TRANSPOSE($CK$14:$CK$65>=$CK39)),$CL$10:$EK$10,1))","v":1},{"$f":"PRODUCT(IF(($CL$13:$EK$13<=CZ$13*TRANSPOSE($CK$14:$CK$65>=$CK39)),$CL$10:$EK$10,1))","v":1},{"$f":"PRODUCT(IF(($CL$13:$EK$13<=DA$13*TRANSPOSE($CK$14:$CK$65>=$CK39)),$CL$10:$EK$10,1))","v":1},{"$f":"PRODUCT(IF(($CL$13:$EK$13<=DB$13*TRANSPOSE($CK$14:$CK$65>=$CK39)),$CL$10:$EK$10,1))","v":1},{"$f":"PRODUCT(IF(($CL$13:$EK$13<=DC$13*TRANSPOSE($CK$14:$CK$65>=$CK39)),$CL$10:$EK$10,1))","v":1},{"$f":"PRODUCT(IF(($CL$13:$EK$13<=DD$13*TRANSPOSE($CK$14:$CK$65>=$CK39)),$CL$10:$EK$10,1))","v":1},{"$f":"PRODUCT(IF(($CL$13:$EK$13<=DE$13*TRANSPOSE($CK$14:$CK$65>=$CK39)),$CL$10:$EK$10,1))","v":1},{"$f":"PRODUCT(IF(($CL$13:$EK$13<=DF$13*TRANSPOSE($CK$14:$CK$65>=$CK39)),$CL$10:$EK$10,1))","v":1},{"$f":"PRODUCT(IF(($CL$13:$EK$13<=DG$13*TRANSPOSE($CK$14:$CK$65>=$CK39)),$CL$10:$EK$10,1))","v":1},{"$f":"PRODUCT(IF(($CL$13:$EK$13<=DH$13*TRANSPOSE($CK$14:$CK$65>=$CK39)),$CL$10:$EK$10,1))","v":1},{"$f":"PRODUCT(IF(($CL$13:$EK$13<=DI$13*TRANSPOSE($CK$14:$CK$65>=$CK39)),$CL$10:$EK$10,1))","v":1},{"$f":"PRODUCT(IF(($CL$13:$EK$13<=DJ$13*TRANSPOSE($CK$14:$CK$65>=$CK39)),$CL$10:$EK$10,1))","v":1},{"$f":"PRODUCT(IF(($CL$13:$EK$13<=DK$13*TRANSPOSE($CK$14:$CK$65>=$CK39)),$CL$10:$EK$10,1))","v":1.0863199491166375},{"$f":"PRODUCT(IF(($CL$13:$EK$13<=DL$13*TRANSPOSE($CK$14:$CK$65>=$CK39)),$CL$10:$EK$10,1))","v":1.213620606624469},{"$f":"PRODUCT(IF(($CL$13:$EK$13<=DM$13*TRANSPOSE($CK$14:$CK$65>=$CK39)),$CL$10:$EK$10,1))","v":1.313243860935031},{"$f":"PRODUCT(IF(($CL$13:$EK$13<=DN$13*TRANSPOSE($CK$14:$CK$65>=$CK39)),$CL$10:$EK$10,1))","v":1.3927709304792208},{"$f":"PRODUCT(IF(($CL$13:$EK$13<=DO$13*TRANSPOSE($CK$14:$CK$65>=$CK39)),$CL$10:$EK$10,1))","v":1.4702471711191865},{"$f":"PRODUCT(IF(($CL$13:$EK$13<=DP$13*TRANSPOSE($CK$14:$CK$65>=$CK39)),$CL$10:$EK$10,1))","v":1.5708761830428841},{"$f":"PRODUCT(IF(($CL$13:$EK$13<=DQ$13*TRANSPOSE($CK$14:$CK$65>=$CK39)),$CL$10:$EK$10,1))","v":1.6892073277275585},{"$f":"PRODUCT(IF(($CL$13:$EK$13<=DR$13*TRANSPOSE($CK$14:$CK$65>=$CK39)),$CL$10:$EK$10,1))","v":1.8485630320225339},{"$f":"PRODUCT(IF(($CL$13:$EK$13<=DS$13*TRANSPOSE($CK$14:$CK$65>=$CK39)),$CL$10:$EK$10,1))","v":2.3808972282999061},{"$f":"PRODUCT(IF(($CL$13:$EK$13<=DT$13*TRANSPOSE($CK$14:$CK$65>=$CK39)),$CL$10:$EK$10,1))","v":2.7357982565319863},{"$f":"PRODUCT(IF(($CL$13:$EK$13<=DU$13*TRANSPOSE($CK$14:$CK$65>=$CK39)),$CL$10:$EK$10,1))","v":3.1434445362252728},{"$f":"PRODUCT(IF(($CL$13:$EK$13<=DV$13*TRANSPOSE($CK$14:$CK$65>=$CK39)),$CL$10:$EK$10,1))","v":3.6499375852161218},{"$f":"PRODUCT(IF(($CL$13:$EK$13<=DW$13*TRANSPOSE($CK$14:$CK$65>=$CK39)),$CL$10:$EK$10,1))","v":3.6830435376010318},{"$f":"PRODUCT(IF(($CL$13:$EK$13<=DX$13*TRANSPOSE($CK$14:$CK$65>=$CK39)),$CL$10:$EK$10,1))","v":4.0223088359772445},{"$f":"PRODUCT(IF(($CL$13:$EK$13<=DY$13*TRANSPOSE($CK$14:$CK$65>=$CK39)),$CL$10:$EK$10,1))","v":4.7125234713944568},{"$f":"PRODUCT(IF(($CL$13:$EK$13<=DZ$13*TRANSPOSE($CK$14:$CK$65>=$CK39)),$CL$10:$EK$10,1))","v":5.5704801349473971},{"$f":"PRODUCT(IF(($CL$13:$EK$13<=EA$13*TRANSPOSE($CK$14:$CK$65>=$CK39)),$CL$10:$EK$10,1))","v":6.5259301993344456},{"$f":"PRODUCT(IF(($CL$13:$EK$13<=EB$13*TRANSPOSE($CK$14:$CK$65>=$CK39)),$CL$10:$EK$10,1))","v":7.0517350938008141},{"$f":"PRODUCT(IF(($CL$13:$EK$13<=EC$13*TRANSPOSE($CK$14:$CK$65>=$CK39)),$CL$10:$EK$10,1))","v":7.1963966000780832},{"$f":"PRODUCT(IF(($CL$13:$EK$13<=ED$13*TRANSPOSE($CK$14:$CK$65>=$CK39)),$CL$10:$EK$10,1))","v":7.2707714631082432},{"$f":"PRODUCT(IF(($CL$13:$EK$13<=EE$13*TRANSPOSE($CK$14:$CK$65>=$CK39)),$CL$10:$EK$10,1))","v":7.3331085438828945},{"$f":"PRODUCT(IF(($CL$13:$EK$13<=EF$13*TRANSPOSE($CK$14:$CK$65>=$CK39)),$CL$10:$EK$10,1))","v":7.6582522820932546},{"$f":"PRODUCT(IF(($CL$13:$EK$13<=EG$13*TRANSPOSE($CK$14:$CK$65>=$CK39)),$CL$10:$EK$10,1))","v":7.8426082948374356},{"$f":"PRODUCT(IF(($CL$13:$EK$13<=EH$13*TRANSPOSE($CK$14:$CK$65>=$CK39)),$CL$10:$EK$10,1))","v":8.1482890759917055},{"$f":"PRODUCT(IF(($CL$13:$EK$13<=EI$13*TRANSPOSE($CK$14:$CK$65>=$CK39)),$CL$10:$EK$10,1))","v":8.8783457167580124},{"$f":"PRODUCT(IF(($CL$13:$EK$13<=EJ$13*TRANSPOSE($CK$14:$CK$65>=$CK39)),$CL$10:$EK$10,1))","v":10.192791925784862},{"$f":"PRODUCT(IF(($CL$13:$EK$13<=EK$13*TRANSPOSE($CK$14:$CK$65>=$CK39)),$CL$10:$EK$10,1))","v":10.866373586541503}]
[null,null,1999,null,null,null,null,null,null,null,null,null,null,null,null,null,null,null,null,null,null,null,null,null,null,null,null,null,null,null,8.2087642354434998E-2,7.1268601054561342E-2,6.602928853406631E-2,6.6632354913323422E-2,6.8365863483469624E-2,7.2651275754243905E-2,0.10105304910644164,0.10694270066172296,0.11153914602400317,0.11640108425369733,0.10618928254324023,0.10500956996536392,0.10999446756509923,0.11499294788361691,0.11867508463684873,0.11625473843160372,0.11038216952140179,0.1045727081564729,9.9299579026307372E-2,9.6484094831263079E-2,9.2922605222228061E-2,9.0410835478895057E-2,9.0375408705570148E-2,9.2719665389970451E-2,9.1641575636036254E-2,null,1998,0.11718523406603043,0.10164450101857669,9.736422039987791E-2,0.10632068020297258,0.11120853644712336,0.10284352983910772,0.10358171261711302,0.10247088261806803,9.8461684018038786E-2,0.10415191703028071,0.10867897136111315,9.8394457126096846E-2,8.7112046061636361E-2,6.5111460180450109E-2,6.4763393543306735E-2,5.8012831158577693E-2,5.2948372961854284E-2,5.6320930749328424E-2,6.0678416494446719E-2,6.6687823402254987E-2,7.1046012236564593E-2,8.4994449801026439E-2,9.4067069627213007E-2,9.9612999581500938E-2,0.10793343627423724,{"$f":"PRODUCT($CH15:$CH40)^(1/CE$13)-1","v":0.1091641767141458},null,1998,{"$f":"HLOOKUP($W$7,dat,MATCH(CG40,Data!$B$3:$B$60,0),0)+1","v":1.1171852340660304},null,null,1998,{"$f":"PRODUCT(IF(($CL$13:$EK$13<=CL$13*TRANSPOSE($CK$14:$CK$65>=$CK40)),$CL$10:$EK$10,1))","v":1},{"$f":"PRODUCT(IF(($CL$13:$EK$13<=CM$13*TRANSPOSE($CK$14:$CK$65>=$CK40)),$CL$10:$EK$10,1))","v":1},{"$f":"PRODUCT(IF(($CL$13:$EK$13<=CN$13*TRANSPOSE($CK$14:$CK$65>=$CK40)),$CL$10:$EK$10,1))","v":1},{"$f":"PRODUCT(IF(($CL$13:$EK$13<=CO$13*TRANSPOSE($CK$14:$CK$65>=$CK40)),$CL$10:$EK$10,1))","v":1},{"$f":"PRODUCT(IF(($CL$13:$EK$13<=CP$13*TRANSPOSE($CK$14:$CK$65>=$CK40)),$CL$10:$EK$10,1))","v":1},{"$f":"PRODUCT(IF(($CL$13:$EK$13<=CQ$13*TRANSPOSE($CK$14:$CK$65>=$CK40)),$CL$10:$EK$10,1))","v":1},{"$f":"PRODUCT(IF(($CL$13:$EK$13<=CR$13*TRANSPOSE($CK$14:$CK$65>=$CK40)),$CL$10:$EK$10,1))","v":1},{"$f":"PRODUCT(IF(($CL$13:$EK$13<=CS$13*TRANSPOSE($CK$14:$CK$65>=$CK40)),$CL$10:$EK$10,1))","v":1},{"$f":"PRODUCT(IF(($CL$13:$EK$13<=CT$13*TRANSPOSE($CK$14:$CK$65>=$CK40)),$CL$10:$EK$10,1))","v":1},{"$f":"PRODUCT(IF(($CL$13:$EK$13<=CU$13*TRANSPOSE($CK$14:$CK$65>=$CK40)),$CL$10:$EK$10,1))","v":1},{"$f":"PRODUCT(IF(($CL$13:$EK$13<=CV$13*TRANSPOSE($CK$14:$CK$65>=$CK40)),$CL$10:$EK$10,1))","v":1},{"$f":"PRODUCT(IF(($CL$13:$EK$13<=CW$13*TRANSPOSE($CK$14:$CK$65>=$CK40)),$CL$10:$EK$10,1))","v":1},{"$f":"PRODUCT(IF(($CL$13:$EK$13<=CX$13*TRANSPOSE($CK$14:$CK$65>=$CK40)),$CL$10:$EK$10,1))","v":1},{"$f":"PRODUCT(IF(($CL$13:$EK$13<=CY$13*TRANSPOSE($CK$14:$CK$65>=$CK40)),$CL$10:$EK$10,1))","v":1},{"$f":"PRODUCT(IF(($CL$13:$EK$13<=CZ$13*TRANSPOSE($CK$14:$CK$65>=$CK40)),$CL$10:$EK$10,1))","v":1},{"$f":"PRODUCT(IF(($CL$13:$EK$13<=DA$13*TRANSPOSE($CK$14:$CK$65>=$CK40)),$CL$10:$EK$10,1))","v":1},{"$f":"PRODUCT(IF(($CL$13:$EK$13<=DB$13*TRANSPOSE($CK$14:$CK$65>=$CK40)),$CL$10:$EK$10,1))","v":1},{"$f":"PRODUCT(IF(($CL$13:$EK$13<=DC$13*TRANSPOSE($CK$14:$CK$65>=$CK40)),$CL$10:$EK$10,1))","v":1},{"$f":"PRODUCT(IF(($CL$13:$EK$13<=DD$13*TRANSPOSE($CK$14:$CK$65>=$CK40)),$CL$10:$EK$10,1))","v":1},{"$f":"PRODUCT(IF(($CL$13:$EK$13<=DE$13*TRANSPOSE($CK$14:$CK$65>=$CK40)),$CL$10:$EK$10,1))","v":1},{"$f":"PRODUCT(IF(($CL$13:$EK$13<=DF$13*TRANSPOSE($CK$14:$CK$65>=$CK40)),$CL$10:$EK$10,1))","v":1},{"$f":"PRODUCT(IF(($CL$13:$EK$13<=DG$13*TRANSPOSE($CK$14:$CK$65>=$CK40)),$CL$10:$EK$10,1))","v":1},{"$f":"PRODUCT(IF(($CL$13:$EK$13<=DH$13*TRANSPOSE($CK$14:$CK$65>=$CK40)),$CL$10:$EK$10,1))","v":1},{"$f":"PRODUCT(IF(($CL$13:$EK$13<=DI$13*TRANSPOSE($CK$14:$CK$65>=$CK40)),$CL$10:$EK$10,1))","v":1},{"$f":"PRODUCT(IF(($CL$13:$EK$13<=DJ$13*TRANSPOSE($CK$14:$CK$65>=$CK40)),$CL$10:$EK$10,1))","v":1},{"$f":"PRODUCT(IF(($CL$13:$EK$13<=DK$13*TRANSPOSE($CK$14:$CK$65>=$CK40)),$CL$10:$EK$10,1))","v":1},{"$f":"PRODUCT(IF(($CL$13:$EK$13<=DL$13*TRANSPOSE($CK$14:$CK$65>=$CK40)),$CL$10:$EK$10,1))","v":1.1171852340660304},{"$f":"PRODUCT(IF(($CL$13:$EK$13<=DM$13*TRANSPOSE($CK$14:$CK$65>=$CK40)),$CL$10:$EK$10,1))","v":1.2088923360036985},{"$f":"PRODUCT(IF(($CL$13:$EK$13<=DN$13*TRANSPOSE($CK$14:$CK$65>=$CK40)),$CL$10:$EK$10,1))","v":1.2821001138861343},{"$f":"PRODUCT(IF(($CL$13:$EK$13<=DO$13*TRANSPOSE($CK$14:$CK$65>=$CK40)),$CL$10:$EK$10,1))","v":1.3534200235526805},{"$f":"PRODUCT(IF(($CL$13:$EK$13<=DP$13*TRANSPOSE($CK$14:$CK$65>=$CK40)),$CL$10:$EK$10,1))","v":1.4460529647092211},{"$f":"PRODUCT(IF(($CL$13:$EK$13<=DQ$13*TRANSPOSE($CK$14:$CK$65>=$CK40)),$CL$10:$EK$10,1))","v":1.5549814114167475},{"$f":"PRODUCT(IF(($CL$13:$EK$13<=DR$13*TRANSPOSE($CK$14:$CK$65>=$CK40)),$CL$10:$EK$10,1))","v":1.7016745697487459},{"$f":"PRODUCT(IF(($CL$13:$EK$13<=DS$13*TRANSPOSE($CK$14:$CK$65>=$CK40)),$CL$10:$EK$10,1))","v":2.1917090174363265},{"$f":"PRODUCT(IF(($CL$13:$EK$13<=DT$13*TRANSPOSE($CK$14:$CK$65>=$CK40)),$CL$10:$EK$10,1))","v":2.5184092943857417},{"$f":"PRODUCT(IF(($CL$13:$EK$13<=DU$13*TRANSPOSE($CK$14:$CK$65>=$CK40)),$CL$10:$EK$10,1))","v":2.8936636382139778},{"$f":"PRODUCT(IF(($CL$13:$EK$13<=DV$13*TRANSPOSE($CK$14:$CK$65>=$CK40)),$CL$10:$EK$10,1))","v":3.3599102991564687},{"$f":"PRODUCT(IF(($CL$13:$EK$13<=DW$13*TRANSPOSE($CK$14:$CK$65>=$CK40)),$CL$10:$EK$10,1))","v":3.3903856231269351},{"$f":"PRODUCT(IF(($CL$13:$EK$13<=DX$13*TRANSPOSE($CK$14:$CK$65>=$CK40)),$CL$10:$EK$10,1))","v":3.7026925992181807},{"$f":"PRODUCT(IF(($CL$13:$EK$13<=DY$13*TRANSPOSE($CK$14:$CK$65>=$CK40)),$CL$10:$EK$10,1))","v":4.3380621659636631},{"$f":"PRODUCT(IF(($CL$13:$EK$13<=DZ$13*TRANSPOSE($CK$14:$CK$65>=$CK40)),$CL$10:$EK$10,1))","v":5.1278448301323589},{"$f":"PRODUCT(IF(($CL$13:$EK$13<=EA$13*TRANSPOSE($CK$14:$CK$65>=$CK40)),$CL$10:$EK$10,1))","v":6.0073739828133821},{"$f":"PRODUCT(IF(($CL$13:$EK$13<=EB$13*TRANSPOSE($CK$14:$CK$65>=$CK40)),$CL$10:$EK$10,1))","v":6.4913979528177412},{"$f":"PRODUCT(IF(($CL$13:$EK$13<=EC$13*TRANSPOSE($CK$14:$CK$65>=$CK40)),$CL$10:$EK$10,1))","v":6.624564527172657},{"$f":"PRODUCT(IF(($CL$13:$EK$13<=ED$13*TRANSPOSE($CK$14:$CK$65>=$CK40)),$CL$10:$EK$10,1))","v":6.693029497452029},{"$f":"PRODUCT(IF(($CL$13:$EK$13<=EE$13*TRANSPOSE($CK$14:$CK$65>=$CK40)),$CL$10:$EK$10,1))","v":6.7504132183579575},{"$f":"PRODUCT(IF(($CL$13:$EK$13<=EF$13*TRANSPOSE($CK$14:$CK$65>=$CK40)),$CL$10:$EK$10,1))","v":7.049720746011074},{"$f":"PRODUCT(IF(($CL$13:$EK$13<=EG$13*TRANSPOSE($CK$14:$CK$65>=$CK40)),$CL$10:$EK$10,1))","v":7.2194276660525345},{"$f":"PRODUCT(IF(($CL$13:$EK$13<=EH$13*TRANSPOSE($CK$14:$CK$65>=$CK40)),$CL$10:$EK$10,1))","v":7.5008187805237734},{"$f":"PRODUCT(IF(($CL$13:$EK$13<=EI$13*TRANSPOSE($CK$14:$CK$65>=$CK40)),$CL$10:$EK$10,1))","v":8.1728644714456475},{"$f":"PRODUCT(IF(($CL$13:$EK$13<=EJ$13*TRANSPOSE($CK$14:$CK$65>=$CK40)),$CL$10:$EK$10,1))","v":9.3828636158926564},{"$f":"PRODUCT(IF(($CL$13:$EK$13<=EK$13*TRANSPOSE($CK$14:$CK$65>=$CK40)),$CL$10:$EK$10,1))","v":10.002921878934201}]
[null,null,2000,null,null,null,null,null,null,null,null,null,null,null,null,null,null,null,null,null,null,null,null,null,null,null,null,null,null,null,null,6.0557731819562033E-2,5.8089699599632283E-2,6.15298036056946E-2,6.4962693511784186E-2,7.0773900290836522E-2,0.10424611087993485,0.11053972548449598,0.11527650400677669,0.12028023336904559,0.10862877657649617,0.10711730574118827,0.11235227042133711,0.11756518883042322,0.12133532354216814,0.11857053213364765,0.11217494450590904,0.10590981543109712,0.10026378525436264,9.7247086391957449E-2,9.3467192259668375E-2,9.0808771001387401E-2,9.0753629917289969E-2,9.318428958147873E-2,9.2041481631927269E-2,null,1999,8.2087642354434998E-2,9.9496401087197039E-2,9.5086587381554732E-2,9.352497482656319E-2,0.10143104147380955,0.10630119226029455,9.9854204318949424E-2,0.10087177722805096,0.10018724822650649,9.6813191561167189E-2,0.10212761932675996,0.10643828750207707,9.713140909297735E-2,8.6752387677966558E-2,6.6234873286635132E-2,6.5837986805532545E-2,5.9414051668043699E-2,5.4546437617934318E-2,5.7661647619726031E-2,6.1738747289532325E-2,6.7416153534196388E-2,7.1545451514605674E-2,8.4867904649580161E-2,9.3565289146039898E-2,9.8906565940442226E-2,0.10692804540031542,null,1999,{"$f":"HLOOKUP($W$7,dat,MATCH(CG41,Data!$B$3:$B$60,0),0)+1","v":1.082087642354435},null,null,1999,{"$f":"PRODUCT(IF(($CL$13:$EK$13<=CL$13*TRANSPOSE($CK$14:$CK$65>=$CK41)),$CL$10:$EK$10,1))","v":1},{"$f":"PRODUCT(IF(($CL$13:$EK$13<=CM$13*TRANSPOSE($CK$14:$CK$65>=$CK41)),$CL$10:$EK$10,1))","v":1},{"$f":"PRODUCT(IF(($CL$13:$EK$13<=CN$13*TRANSPOSE($CK$14:$CK$65>=$CK41)),$CL$10:$EK$10,1))","v":1},{"$f":"PRODUCT(IF(($CL$13:$EK$13<=CO$13*TRANSPOSE($CK$14:$CK$65>=$CK41)),$CL$10:$EK$10,1))","v":1},{"$f":"PRODUCT(IF(($CL$13:$EK$13<=CP$13*TRANSPOSE($CK$14:$CK$65>=$CK41)),$CL$10:$EK$10,1))","v":1},{"$f":"PRODUCT(IF(($CL$13:$EK$13<=CQ$13*TRANSPOSE($CK$14:$CK$65>=$CK41)),$CL$10:$EK$10,1))","v":1},{"$f":"PRODUCT(IF(($CL$13:$EK$13<=CR$13*TRANSPOSE($CK$14:$CK$65>=$CK41)),$CL$10:$EK$10,1))","v":1},{"$f":"PRODUCT(IF(($CL$13:$EK$13<=CS$13*TRANSPOSE($CK$14:$CK$65>=$CK41)),$CL$10:$EK$10,1))","v":1},{"$f":"PRODUCT(IF(($CL$13:$EK$13<=CT$13*TRANSPOSE($CK$14:$CK$65>=$CK41)),$CL$10:$EK$10,1))","v":1},{"$f":"PRODUCT(IF(($CL$13:$EK$13<=CU$13*TRANSPOSE($CK$14:$CK$65>=$CK41)),$CL$10:$EK$10,1))","v":1},{"$f":"PRODUCT(IF(($CL$13:$EK$13<=CV$13*TRANSPOSE($CK$14:$CK$65>=$CK41)),$CL$10:$EK$10,1))","v":1},{"$f":"PRODUCT(IF(($CL$13:$EK$13<=CW$13*TRANSPOSE($CK$14:$CK$65>=$CK41)),$CL$10:$EK$10,1))","v":1},{"$f":"PRODUCT(IF(($CL$13:$EK$13<=CX$13*TRANSPOSE($CK$14:$CK$65>=$CK41)),$CL$10:$EK$10,1))","v":1},{"$f":"PRODUCT(IF(($CL$13:$EK$13<=CY$13*TRANSPOSE($CK$14:$CK$65>=$CK41)),$CL$10:$EK$10,1))","v":1},{"$f":"PRODUCT(IF(($CL$13:$EK$13<=CZ$13*TRANSPOSE($CK$14:$CK$65>=$CK41)),$CL$10:$EK$10,1))","v":1},{"$f":"PRODUCT(IF(($CL$13:$EK$13<=DA$13*TRANSPOSE($CK$14:$CK$65>=$CK41)),$CL$10:$EK$10,1))","v":1},{"$f":"PRODUCT(IF(($CL$13:$EK$13<=DB$13*TRANSPOSE($CK$14:$CK$65>=$CK41)),$CL$10:$EK$10,1))","v":1},{"$f":"PRODUCT(IF(($CL$13:$EK$13<=DC$13*TRANSPOSE($CK$14:$CK$65>=$CK41)),$CL$10:$EK$10,1))","v":1},{"$f":"PRODUCT(IF(($CL$13:$EK$13<=DD$13*TRANSPOSE($CK$14:$CK$65>=$CK41)),$CL$10:$EK$10,1))","v":1},{"$f":"PRODUCT(IF(($CL$13:$EK$13<=DE$13*TRANSPOSE($CK$14:$CK$65>=$CK41)),$CL$10:$EK$10,1))","v":1},{"$f":"PRODUCT(IF(($CL$13:$EK$13<=DF$13*TRANSPOSE($CK$14:$CK$65>=$CK41)),$CL$10:$EK$10,1))","v":1},{"$f":"PRODUCT(IF(($CL$13:$EK$13<=DG$13*TRANSPOSE($CK$14:$CK$65>=$CK41)),$CL$10:$EK$10,1))","v":1},{"$f":"PRODUCT(IF(($CL$13:$EK$13<=DH$13*TRANSPOSE($CK$14:$CK$65>=$CK41)),$CL$10:$EK$10,1))","v":1},{"$f":"PRODUCT(IF(($CL$13:$EK$13<=DI$13*TRANSPOSE($CK$14:$CK$65>=$CK41)),$CL$10:$EK$10,1))","v":1},{"$f":"PRODUCT(IF(($CL$13:$EK$13<=DJ$13*TRANSPOSE($CK$14:$CK$65>=$CK41)),$CL$10:$EK$10,1))","v":1},{"$f":"PRODUCT(IF(($CL$13:$EK$13<=DK$13*TRANSPOSE($CK$14:$CK$65>=$CK41)),$CL$10:$EK$10,1))","v":1},{"$f":"PRODUCT(IF(($CL$13:$EK$13<=DL$13*TRANSPOSE($CK$14:$CK$65>=$CK41)),$CL$10:$EK$10,1))","v":1},{"$f":"PRODUCT(IF(($CL$13:$EK$13<=DM$13*TRANSPOSE($CK$14:$CK$65>=$CK41)),$CL$10:$EK$10,1))","v":1.082087642354435},{"$f":"PRODUCT(IF(($CL$13:$EK$13<=DN$13*TRANSPOSE($CK$14:$CK$65>=$CK41)),$CL$10:$EK$10,1))","v":1.147616415605397},{"$f":"PRODUCT(IF(($CL$13:$EK$13<=DO$13*TRANSPOSE($CK$14:$CK$65>=$CK41)),$CL$10:$EK$10,1))","v":1.2114553453475805},{"$f":"PRODUCT(IF(($CL$13:$EK$13<=DP$13*TRANSPOSE($CK$14:$CK$65>=$CK41)),$CL$10:$EK$10,1))","v":1.2943717125997685},{"$f":"PRODUCT(IF(($CL$13:$EK$13<=DQ$13*TRANSPOSE($CK$14:$CK$65>=$CK41)),$CL$10:$EK$10,1))","v":1.3918742962233255},{"$f":"PRODUCT(IF(($CL$13:$EK$13<=DR$13*TRANSPOSE($CK$14:$CK$65>=$CK41)),$CL$10:$EK$10,1))","v":1.5231803266459656},{"$f":"PRODUCT(IF(($CL$13:$EK$13<=DS$13*TRANSPOSE($CK$14:$CK$65>=$CK41)),$CL$10:$EK$10,1))","v":1.961813449198154},{"$f":"PRODUCT(IF(($CL$13:$EK$13<=DT$13*TRANSPOSE($CK$14:$CK$65>=$CK41)),$CL$10:$EK$10,1))","v":2.2542450594517014},{"$f":"PRODUCT(IF(($CL$13:$EK$13<=DU$13*TRANSPOSE($CK$14:$CK$65>=$CK41)),$CL$10:$EK$10,1))","v":2.5901377407955875},{"$f":"PRODUCT(IF(($CL$13:$EK$13<=DV$13*TRANSPOSE($CK$14:$CK$65>=$CK41)),$CL$10:$EK$10,1))","v":3.0074782558018338},{"$f":"PRODUCT(IF(($CL$13:$EK$13<=DW$13*TRANSPOSE($CK$14:$CK$65>=$CK41)),$CL$10:$EK$10,1))","v":3.0347569227956237},{"$f":"PRODUCT(IF(($CL$13:$EK$13<=DX$13*TRANSPOSE($CK$14:$CK$65>=$CK41)),$CL$10:$EK$10,1))","v":3.3143049928632835},{"$f":"PRODUCT(IF(($CL$13:$EK$13<=DY$13*TRANSPOSE($CK$14:$CK$65>=$CK41)),$CL$10:$EK$10,1))","v":3.8830285557706046},{"$f":"PRODUCT(IF(($CL$13:$EK$13<=DZ$13*TRANSPOSE($CK$14:$CK$65>=$CK41)),$CL$10:$EK$10,1))","v":4.5899683183865649},{"$f":"PRODUCT(IF(($CL$13:$EK$13<=EA$13*TRANSPOSE($CK$14:$CK$65>=$CK41)),$CL$10:$EK$10,1))","v":5.3772407651230383},{"$f":"PRODUCT(IF(($CL$13:$EK$13<=EB$13*TRANSPOSE($CK$14:$CK$65>=$CK41)),$CL$10:$EK$10,1))","v":5.8104938687670407},{"$f":"PRODUCT(IF(($CL$13:$EK$13<=EC$13*TRANSPOSE($CK$14:$CK$65>=$CK41)),$CL$10:$EK$10,1))","v":5.9296921631002473},{"$f":"PRODUCT(IF(($CL$13:$EK$13<=ED$13*TRANSPOSE($CK$14:$CK$65>=$CK41)),$CL$10:$EK$10,1))","v":5.990975617438604},{"$f":"PRODUCT(IF(($CL$13:$EK$13<=EE$13*TRANSPOSE($CK$14:$CK$65>=$CK41)),$CL$10:$EK$10,1))","v":6.0423401711009168},{"$f":"PRODUCT(IF(($CL$13:$EK$13<=EF$13*TRANSPOSE($CK$14:$CK$65>=$CK41)),$CL$10:$EK$10,1))","v":6.3102523476374586},{"$f":"PRODUCT(IF(($CL$13:$EK$13<=EG$13*TRANSPOSE($CK$14:$CK$65>=$CK41)),$CL$10:$EK$10,1))","v":6.462158150602475},{"$f":"PRODUCT(IF(($CL$13:$EK$13<=EH$13*TRANSPOSE($CK$14:$CK$65>=$CK41)),$CL$10:$EK$10,1))","v":6.7140332254699677},{"$f":"PRODUCT(IF(($CL$13:$EK$13<=EI$13*TRANSPOSE($CK$14:$CK$65>=$CK41)),$CL$10:$EK$10,1))","v":7.3155858332465167},{"$f":"PRODUCT(IF(($CL$13:$EK$13<=EJ$13*TRANSPOSE($CK$14:$CK$65>=$CK41)),$CL$10:$EK$10,1))","v":8.3986641872659114},{"$f":"PRODUCT(IF(($CL$13:$EK$13<=EK$13*TRANSPOSE($CK$14:$CK$65>=$CK41)),$CL$10:$EK$10,1))","v":8.9536824994797453}]
[null,null,2001,null,null,null,null,null,null,null,null,null,null,null,null,null,null,null,null,null,null,null,null,null,null,null,null,null,null,null,null,null,5.5627410756848406E-2,6.2016173560935695E-2,6.6435076049523145E-2,7.3343282186377312E-2,0.11319742005106948,0.11909613489085635,0.12332061677191897,0.12797823050489887,0.11410273374544389,0.11188423335053765,0.11718448011557747,0.12245191357998086,0.12615231289030771,0.1228337281424674,0.11570409323597874,0.10880787061311747,0.10264519528040239,9.9322200788735326E-2,9.5227283897603154E-2,9.2343771553652809E-2,9.2212783134958176E-2,9.4690933420604084E-2,9.3431343891351215E-2,null,2000,6.0557731819562033E-2,7.1268601054561342E-2,8.636053323077042E-2,8.6350387060096345E-2,8.6850546043408139E-2,9.4511037989955859E-2,9.9647557351318916E-2,9.4863603269506491E-2,9.6317808193271404E-2,9.6158555034182802E-2,9.3466651190771577E-2,9.8602091931908387E-2,0.10283961707533806,9.4477682379200845E-2,8.4986123551701764E-2,6.5879163307621891E-2,6.5526657121015353E-2,5.9477557086407007E-2,5.4861970380661873E-2,5.7806263825700865E-2,6.1682478647115957E-2,6.7103447070143485E-2,7.106536594982038E-2,8.3843942869371801E-2,9.2225472403630659E-2,9.7406285028228901E-2,null,2000,{"$f":"HLOOKUP($W$7,dat,MATCH(CG42,Data!$B$3:$B$60,0),0)+1","v":1.060557731819562},null,null,2000,{"$f":"PRODUCT(IF(($CL$13:$EK$13<=CL$13*TRANSPOSE($CK$14:$CK$65>=$CK42)),$CL$10:$EK$10,1))","v":1},{"$f":"PRODUCT(IF(($CL$13:$EK$13<=CM$13*TRANSPOSE($CK$14:$CK$65>=$CK42)),$CL$10:$EK$10,1))","v":1},{"$f":"PRODUCT(IF(($CL$13:$EK$13<=CN$13*TRANSPOSE($CK$14:$CK$65>=$CK42)),$CL$10:$EK$10,1))","v":1},{"$f":"PRODUCT(IF(($CL$13:$EK$13<=CO$13*TRANSPOSE($CK$14:$CK$65>=$CK42)),$CL$10:$EK$10,1))","v":1},{"$f":"PRODUCT(IF(($CL$13:$EK$13<=CP$13*TRANSPOSE($CK$14:$CK$65>=$CK42)),$CL$10:$EK$10,1))","v":1},{"$f":"PRODUCT(IF(($CL$13:$EK$13<=CQ$13*TRANSPOSE($CK$14:$CK$65>=$CK42)),$CL$10:$EK$10,1))","v":1},{"$f":"PRODUCT(IF(($CL$13:$EK$13<=CR$13*TRANSPOSE($CK$14:$CK$65>=$CK42)),$CL$10:$EK$10,1))","v":1},{"$f":"PRODUCT(IF(($CL$13:$EK$13<=CS$13*TRANSPOSE($CK$14:$CK$65>=$CK42)),$CL$10:$EK$10,1))","v":1},{"$f":"PRODUCT(IF(($CL$13:$EK$13<=CT$13*TRANSPOSE($CK$14:$CK$65>=$CK42)),$CL$10:$EK$10,1))","v":1},{"$f":"PRODUCT(IF(($CL$13:$EK$13<=CU$13*TRANSPOSE($CK$14:$CK$65>=$CK42)),$CL$10:$EK$10,1))","v":1},{"$f":"PRODUCT(IF(($CL$13:$EK$13<=CV$13*TRANSPOSE($CK$14:$CK$65>=$CK42)),$CL$10:$EK$10,1))","v":1},{"$f":"PRODUCT(IF(($CL$13:$EK$13<=CW$13*TRANSPOSE($CK$14:$CK$65>=$CK42)),$CL$10:$EK$10,1))","v":1},{"$f":"PRODUCT(IF(($CL$13:$EK$13<=CX$13*TRANSPOSE($CK$14:$CK$65>=$CK42)),$CL$10:$EK$10,1))","v":1},{"$f":"PRODUCT(IF(($CL$13:$EK$13<=CY$13*TRANSPOSE($CK$14:$CK$65>=$CK42)),$CL$10:$EK$10,1))","v":1},{"$f":"PRODUCT(IF(($CL$13:$EK$13<=CZ$13*TRANSPOSE($CK$14:$CK$65>=$CK42)),$CL$10:$EK$10,1))","v":1},{"$f":"PRODUCT(IF(($CL$13:$EK$13<=DA$13*TRANSPOSE($CK$14:$CK$65>=$CK42)),$CL$10:$EK$10,1))","v":1},{"$f":"PRODUCT(IF(($CL$13:$EK$13<=DB$13*TRANSPOSE($CK$14:$CK$65>=$CK42)),$CL$10:$EK$10,1))","v":1},{"$f":"PRODUCT(IF(($CL$13:$EK$13<=DC$13*TRANSPOSE($CK$14:$CK$65>=$CK42)),$CL$10:$EK$10,1))","v":1},{"$f":"PRODUCT(IF(($CL$13:$EK$13<=DD$13*TRANSPOSE($CK$14:$CK$65>=$CK42)),$CL$10:$EK$10,1))","v":1},{"$f":"PRODUCT(IF(($CL$13:$EK$13<=DE$13*TRANSPOSE($CK$14:$CK$65>=$CK42)),$CL$10:$EK$10,1))","v":1},{"$f":"PRODUCT(IF(($CL$13:$EK$13<=DF$13*TRANSPOSE($CK$14:$CK$65>=$CK42)),$CL$10:$EK$10,1))","v":1},{"$f":"PRODUCT(IF(($CL$13:$EK$13<=DG$13*TRANSPOSE($CK$14:$CK$65>=$CK42)),$CL$10:$EK$10,1))","v":1},{"$f":"PRODUCT(IF(($CL$13:$EK$13<=DH$13*TRANSPOSE($CK$14:$CK$65>=$CK42)),$CL$10:$EK$10,1))","v":1},{"$f":"PRODUCT(IF(($CL$13:$EK$13<=DI$13*TRANSPOSE($CK$14:$CK$65>=$CK42)),$CL$10:$EK$10,1))","v":1},{"$f":"PRODUCT(IF(($CL$13:$EK$13<=DJ$13*TRANSPOSE($CK$14:$CK$65>=$CK42)),$CL$10:$EK$10,1))","v":1},{"$f":"PRODUCT(IF(($CL$13:$EK$13<=DK$13*TRANSPOSE($CK$14:$CK$65>=$CK42)),$CL$10:$EK$10,1))","v":1},{"$f":"PRODUCT(IF(($CL$13:$EK$13<=DL$13*TRANSPOSE($CK$14:$CK$65>=$CK42)),$CL$10:$EK$10,1))","v":1},{"$f":"PRODUCT(IF(($CL$13:$EK$13<=DM$13*TRANSPOSE($CK$14:$CK$65>=$CK42)),$CL$10:$EK$10,1))","v":1},{"$f":"PRODUCT(IF(($CL$13:$EK$13<=DN$13*TRANSPOSE($CK$14:$CK$65>=$CK42)),$CL$10:$EK$10,1))","v":1.060557731819562},{"$f":"PRODUCT(IF(($CL$13:$EK$13<=DO$13*TRANSPOSE($CK$14:$CK$65>=$CK42)),$CL$10:$EK$10,1))","v":1.1195538123988402},{"$f":"PRODUCT(IF(($CL$13:$EK$13<=DP$13*TRANSPOSE($CK$14:$CK$65>=$CK42)),$CL$10:$EK$10,1))","v":1.1961801077253225},{"$f":"PRODUCT(IF(($CL$13:$EK$13<=DQ$13*TRANSPOSE($CK$14:$CK$65>=$CK42)),$CL$10:$EK$10,1))","v":1.286286102662487},{"$f":"PRODUCT(IF(($CL$13:$EK$13<=DR$13*TRANSPOSE($CK$14:$CK$65>=$CK42)),$CL$10:$EK$10,1))","v":1.4076312001232998},{"$f":"PRODUCT(IF(($CL$13:$EK$13<=DS$13*TRANSPOSE($CK$14:$CK$65>=$CK42)),$CL$10:$EK$10,1))","v":1.8129894219377536},{"$f":"PRODUCT(IF(($CL$13:$EK$13<=DT$13*TRANSPOSE($CK$14:$CK$65>=$CK42)),$CL$10:$EK$10,1))","v":2.0832370421926774},{"$f":"PRODUCT(IF(($CL$13:$EK$13<=DU$13*TRANSPOSE($CK$14:$CK$65>=$CK42)),$CL$10:$EK$10,1))","v":2.3936487576550607},{"$f":"PRODUCT(IF(($CL$13:$EK$13<=DV$13*TRANSPOSE($CK$14:$CK$65>=$CK42)),$CL$10:$EK$10,1))","v":2.7793296384552382},{"$f":"PRODUCT(IF(($CL$13:$EK$13<=DW$13*TRANSPOSE($CK$14:$CK$65>=$CK42)),$CL$10:$EK$10,1))","v":2.8045389338265783},{"$f":"PRODUCT(IF(($CL$13:$EK$13<=DX$13*TRANSPOSE($CK$14:$CK$65>=$CK42)),$CL$10:$EK$10,1))","v":3.0628803648953329},{"$f":"PRODUCT(IF(($CL$13:$EK$13<=DY$13*TRANSPOSE($CK$14:$CK$65>=$CK42)),$CL$10:$EK$10,1))","v":3.5884603092978744},{"$f":"PRODUCT(IF(($CL$13:$EK$13<=DZ$13*TRANSPOSE($CK$14:$CK$65>=$CK42)),$CL$10:$EK$10,1))","v":4.2417713119794893},{"$f":"PRODUCT(IF(($CL$13:$EK$13<=EA$13*TRANSPOSE($CK$14:$CK$65>=$CK42)),$CL$10:$EK$10,1))","v":4.9693209261895772},{"$f":"PRODUCT(IF(($CL$13:$EK$13<=EB$13*TRANSPOSE($CK$14:$CK$65>=$CK42)),$CL$10:$EK$10,1))","v":5.3697072596859279},{"$f":"PRODUCT(IF(($CL$13:$EK$13<=EC$13*TRANSPOSE($CK$14:$CK$65>=$CK42)),$CL$10:$EK$10,1))","v":5.4798631192185736},{"$f":"PRODUCT(IF(($CL$13:$EK$13<=ED$13*TRANSPOSE($CK$14:$CK$65>=$CK42)),$CL$10:$EK$10,1))","v":5.5364975838771056},{"$f":"PRODUCT(IF(($CL$13:$EK$13<=EE$13*TRANSPOSE($CK$14:$CK$65>=$CK42)),$CL$10:$EK$10,1))","v":5.5839656000079918},{"$f":"PRODUCT(IF(($CL$13:$EK$13<=EF$13*TRANSPOSE($CK$14:$CK$65>=$CK42)),$CL$10:$EK$10,1))","v":5.8315538415238191},{"$f":"PRODUCT(IF(($CL$13:$EK$13<=EG$13*TRANSPOSE($CK$14:$CK$65>=$CK42)),$CL$10:$EK$10,1))","v":5.971936003762079},{"$f":"PRODUCT(IF(($CL$13:$EK$13<=EH$13*TRANSPOSE($CK$14:$CK$65>=$CK42)),$CL$10:$EK$10,1))","v":6.2047037251635135},{"$f":"PRODUCT(IF(($CL$13:$EK$13<=EI$13*TRANSPOSE($CK$14:$CK$65>=$CK42)),$CL$10:$EK$10,1))","v":6.7606222887169007},{"$f":"PRODUCT(IF(($CL$13:$EK$13<=EJ$13*TRANSPOSE($CK$14:$CK$65>=$CK42)),$CL$10:$EK$10,1))","v":7.7615378445611611},{"$f":"PRODUCT(IF(($CL$13:$EK$13<=EK$13*TRANSPOSE($CK$14:$CK$65>=$CK42)),$CL$10:$EK$10,1))","v":8.2744522245888366}]
[null,null,2002,null,null,null,null,null,null,null,null,null,null,null,null,null,null,null,null,null,null,null,null,null,null,null,null,null,null,null,null,null,null,6.8443601797306242E-2,7.1880332074889974E-2,7.9314397599160147E-2,0.12807395995447579,0.13224065056313083,0.13501754512731545,0.13871117743513195,0.12163631658916363,0.11831720571557702,0.12353425342185975,0.12873272378024403,0.1322378595718583,0.12817729899207042,0.12012387116632306,0.11244703481975082,0.10565239260836101,0.1019480894653062,9.7470328392144756E-2,9.4311204895180856E-2,9.4074976370397856E-2,9.6586741795404718E-2,9.5181511620706871E-2,null,2001,5.5627410756848406E-2,5.8089699599632283E-2,6.602928853406631E-2,7.8594370807315794E-2,8.0135078558910333E-2,8.1583283494905956E-2,8.8869751254027296E-2,9.4046187289178018E-2,9.0432981220023745E-2,9.2179165630431603E-2,9.2410479756884989E-2,9.0262234160161547E-2,9.5235123682545719E-2,9.9398384582743082E-2,9.1843752639483744E-2,8.3127515009609354E-2,6.527337244891962E-2,6.4974271602365352E-2,5.9274568163562691E-2,5.4900229214295049E-2,5.7702407013050516E-2,6.1406496310921765E-2,6.6601904484910879E-2,7.0417632948263975E-2,8.2700932993200915E-2,9.0794669139881323E-2,null,2001,{"$f":"HLOOKUP($W$7,dat,MATCH(CG43,Data!$B$3:$B$60,0),0)+1","v":1.0556274107568484},null,null,2001,{"$f":"PRODUCT(IF(($CL$13:$EK$13<=CL$13*TRANSPOSE($CK$14:$CK$65>=$CK43)),$CL$10:$EK$10,1))","v":1},{"$f":"PRODUCT(IF(($CL$13:$EK$13<=CM$13*TRANSPOSE($CK$14:$CK$65>=$CK43)),$CL$10:$EK$10,1))","v":1},{"$f":"PRODUCT(IF(($CL$13:$EK$13<=CN$13*TRANSPOSE($CK$14:$CK$65>=$CK43)),$CL$10:$EK$10,1))","v":1},{"$f":"PRODUCT(IF(($CL$13:$EK$13<=CO$13*TRANSPOSE($CK$14:$CK$65>=$CK43)),$CL$10:$EK$10,1))","v":1},{"$f":"PRODUCT(IF(($CL$13:$EK$13<=CP$13*TRANSPOSE($CK$14:$CK$65>=$CK43)),$CL$10:$EK$10,1))","v":1},{"$f":"PRODUCT(IF(($CL$13:$EK$13<=CQ$13*TRANSPOSE($CK$14:$CK$65>=$CK43)),$CL$10:$EK$10,1))","v":1},{"$f":"PRODUCT(IF(($CL$13:$EK$13<=CR$13*TRANSPOSE($CK$14:$CK$65>=$CK43)),$CL$10:$EK$10,1))","v":1},{"$f":"PRODUCT(IF(($CL$13:$EK$13<=CS$13*TRANSPOSE($CK$14:$CK$65>=$CK43)),$CL$10:$EK$10,1))","v":1},{"$f":"PRODUCT(IF(($CL$13:$EK$13<=CT$13*TRANSPOSE($CK$14:$CK$65>=$CK43)),$CL$10:$EK$10,1))","v":1},{"$f":"PRODUCT(IF(($CL$13:$EK$13<=CU$13*TRANSPOSE($CK$14:$CK$65>=$CK43)),$CL$10:$EK$10,1))","v":1},{"$f":"PRODUCT(IF(($CL$13:$EK$13<=CV$13*TRANSPOSE($CK$14:$CK$65>=$CK43)),$CL$10:$EK$10,1))","v":1},{"$f":"PRODUCT(IF(($CL$13:$EK$13<=CW$13*TRANSPOSE($CK$14:$CK$65>=$CK43)),$CL$10:$EK$10,1))","v":1},{"$f":"PRODUCT(IF(($CL$13:$EK$13<=CX$13*TRANSPOSE($CK$14:$CK$65>=$CK43)),$CL$10:$EK$10,1))","v":1},{"$f":"PRODUCT(IF(($CL$13:$EK$13<=CY$13*TRANSPOSE($CK$14:$CK$65>=$CK43)),$CL$10:$EK$10,1))","v":1},{"$f":"PRODUCT(IF(($CL$13:$EK$13<=CZ$13*TRANSPOSE($CK$14:$CK$65>=$CK43)),$CL$10:$EK$10,1))","v":1},{"$f":"PRODUCT(IF(($CL$13:$EK$13<=DA$13*TRANSPOSE($CK$14:$CK$65>=$CK43)),$CL$10:$EK$10,1))","v":1},{"$f":"PRODUCT(IF(($CL$13:$EK$13<=DB$13*TRANSPOSE($CK$14:$CK$65>=$CK43)),$CL$10:$EK$10,1))","v":1},{"$f":"PRODUCT(IF(($CL$13:$EK$13<=DC$13*TRANSPOSE($CK$14:$CK$65>=$CK43)),$CL$10:$EK$10,1))","v":1},{"$f":"PRODUCT(IF(($CL$13:$EK$13<=DD$13*TRANSPOSE($CK$14:$CK$65>=$CK43)),$CL$10:$EK$10,1))","v":1},{"$f":"PRODUCT(IF(($CL$13:$EK$13<=DE$13*TRANSPOSE($CK$14:$CK$65>=$CK43)),$CL$10:$EK$10,1))","v":1},{"$f":"PRODUCT(IF(($CL$13:$EK$13<=DF$13*TRANSPOSE($CK$14:$CK$65>=$CK43)),$CL$10:$EK$10,1))","v":1},{"$f":"PRODUCT(IF(($CL$13:$EK$13<=DG$13*TRANSPOSE($CK$14:$CK$65>=$CK43)),$CL$10:$EK$10,1))","v":1},{"$f":"PRODUCT(IF(($CL$13:$EK$13<=DH$13*TRANSPOSE($CK$14:$CK$65>=$CK43)),$CL$10:$EK$10,1))","v":1},{"$f":"PRODUCT(IF(($CL$13:$EK$13<=DI$13*TRANSPOSE($CK$14:$CK$65>=$CK43)),$CL$10:$EK$10,1))","v":1},{"$f":"PRODUCT(IF(($CL$13:$EK$13<=DJ$13*TRANSPOSE($CK$14:$CK$65>=$CK43)),$CL$10:$EK$10,1))","v":1},{"$f":"PRODUCT(IF(($CL$13:$EK$13<=DK$13*TRANSPOSE($CK$14:$CK$65>=$CK43)),$CL$10:$EK$10,1))","v":1},{"$f":"PRODUCT(IF(($CL$13:$EK$13<=DL$13*TRANSPOSE($CK$14:$CK$65>=$CK43)),$CL$10:$EK$10,1))","v":1},{"$f":"PRODUCT(IF(($CL$13:$EK$13<=DM$13*TRANSPOSE($CK$14:$CK$65>=$CK43)),$CL$10:$EK$10,1))","v":1},{"$f":"PRODUCT(IF(($CL$13:$EK$13<=DN$13*TRANSPOSE($CK$14:$CK$65>=$CK43)),$CL$10:$EK$10,1))","v":1},{"$f":"PRODUCT(IF(($CL$13:$EK$13<=DO$13*TRANSPOSE($CK$14:$CK$65>=$CK43)),$CL$10:$EK$10,1))","v":1.0556274107568484},{"$f":"PRODUCT(IF(($CL$13:$EK$13<=DP$13*TRANSPOSE($CK$14:$CK$65>=$CK43)),$CL$10:$EK$10,1))","v":1.1278783529050116},{"$f":"PRODUCT(IF(($CL$13:$EK$13<=DQ$13*TRANSPOSE($CK$14:$CK$65>=$CK43)),$CL$10:$EK$10,1))","v":1.21283930527351},{"$f":"PRODUCT(IF(($CL$13:$EK$13<=DR$13*TRANSPOSE($CK$14:$CK$65>=$CK43)),$CL$10:$EK$10,1))","v":1.3272556107891231},{"$f":"PRODUCT(IF(($CL$13:$EK$13<=DS$13*TRANSPOSE($CK$14:$CK$65>=$CK43)),$CL$10:$EK$10,1))","v":1.7094679219652387},{"$f":"PRODUCT(IF(($CL$13:$EK$13<=DT$13*TRANSPOSE($CK$14:$CK$65>=$CK43)),$CL$10:$EK$10,1))","v":1.9642844323227364},{"$f":"PRODUCT(IF(($CL$13:$EK$13<=DU$13*TRANSPOSE($CK$14:$CK$65>=$CK43)),$CL$10:$EK$10,1))","v":2.2569716723938833},{"$f":"PRODUCT(IF(($CL$13:$EK$13<=DV$13*TRANSPOSE($CK$14:$CK$65>=$CK43)),$CL$10:$EK$10,1))","v":2.620630216600127},{"$f":"PRODUCT(IF(($CL$13:$EK$13<=DW$13*TRANSPOSE($CK$14:$CK$65>=$CK43)),$CL$10:$EK$10,1))","v":2.6444000639313887},{"$f":"PRODUCT(IF(($CL$13:$EK$13<=DX$13*TRANSPOSE($CK$14:$CK$65>=$CK43)),$CL$10:$EK$10,1))","v":2.8879902272179523},{"$f":"PRODUCT(IF(($CL$13:$EK$13<=DY$13*TRANSPOSE($CK$14:$CK$65>=$CK43)),$CL$10:$EK$10,1))","v":3.3835596136207293},{"$f":"PRODUCT(IF(($CL$13:$EK$13<=DZ$13*TRANSPOSE($CK$14:$CK$65>=$CK43)),$CL$10:$EK$10,1))","v":3.9995666286851064},{"$f":"PRODUCT(IF(($CL$13:$EK$13<=EA$13*TRANSPOSE($CK$14:$CK$65>=$CK43)),$CL$10:$EK$10,1))","v":4.6855732385863487},{"$f":"PRODUCT(IF(($CL$13:$EK$13<=EB$13*TRANSPOSE($CK$14:$CK$65>=$CK43)),$CL$10:$EK$10,1))","v":5.0630975557297653},{"$f":"PRODUCT(IF(($CL$13:$EK$13<=EC$13*TRANSPOSE($CK$14:$CK$65>=$CK43)),$CL$10:$EK$10,1))","v":5.1669635275931309},{"$f":"PRODUCT(IF(($CL$13:$EK$13<=ED$13*TRANSPOSE($CK$14:$CK$65>=$CK43)),$CL$10:$EK$10,1))","v":5.2203641704429709},{"$f":"PRODUCT(IF(($CL$13:$EK$13<=EE$13*TRANSPOSE($CK$14:$CK$65>=$CK43)),$CL$10:$EK$10,1))","v":5.2651217679850175},{"$f":"PRODUCT(IF(($CL$13:$EK$13<=EF$13*TRANSPOSE($CK$14:$CK$65>=$CK43)),$CL$10:$EK$10,1))","v":5.4985727476794928},{"$f":"PRODUCT(IF(($CL$13:$EK$13<=EG$13*TRANSPOSE($CK$14:$CK$65>=$CK43)),$CL$10:$EK$10,1))","v":5.6309391036320458},{"$f":"PRODUCT(IF(($CL$13:$EK$13<=EH$13*TRANSPOSE($CK$14:$CK$65>=$CK43)),$CL$10:$EK$10,1))","v":5.8504158133082678},{"$f":"PRODUCT(IF(($CL$13:$EK$13<=EI$13*TRANSPOSE($CK$14:$CK$65>=$CK43)),$CL$10:$EK$10,1))","v":6.3745914869885842},{"$f":"PRODUCT(IF(($CL$13:$EK$13<=EJ$13*TRANSPOSE($CK$14:$CK$65>=$CK43)),$CL$10:$EK$10,1))","v":7.3183548728129697},{"$f":"PRODUCT(IF(($CL$13:$EK$13<=EK$13*TRANSPOSE($CK$14:$CK$65>=$CK43)),$CL$10:$EK$10,1))","v":7.8019818971972859}]
[null,null,2003,null,null,null,null,null,null,null,null,null,null,null,null,null,null,null,null,null,null,null,null,null,null,null,null,null,null,null,null,null,null,null,7.5328116857344973E-2,8.4791201956702533E-2,0.14868133636160508,0.14877646164018787,0.14882206776546236,0.15086375786453599,0.12944845048671905,0.12471291522691397,0.12982816478176495,0.13494565738712794,0.13822289059248893,0.13330334210610406,0.12420131063230389,0.11565861715812509,0.10817856076946475,0.10407666775958435,9.9202134090874194E-2,9.5766518441471549E-2,9.5440901295702707E-2,9.8013197639939653E-2,9.6471304465138186E-2,null,2002,6.8443601797306242E-2,6.2016173560935695E-2,6.15298036056946E-2,6.6632354913323422E-2,7.6556531165553388E-2,7.8177652353438543E-2,7.9696338808793676E-2,8.6295278648584661E-2,9.1171424698289982E-2,8.8213830204414423E-2,8.9999772356905483E-2,9.039287043694455E-2,8.8568173971917963E-2,9.3299361273011527E-2,9.7307114601709044E-2,9.0366344009009669E-2,8.2258196016751217E-2,6.5449249267150567E-2,6.5156586757544765E-2,5.9731145423226328E-2,5.5541241561887222E-2,5.8188292293537724E-2,6.1711491433386279E-2,6.6678578453787996E-2,7.0338601721307015E-2,8.2149072303006054E-2,null,2002,{"$f":"HLOOKUP($W$7,dat,MATCH(CG44,Data!$B$3:$B$60,0),0)+1","v":1.0684436017973062},null,null,2002,{"$f":"PRODUCT(IF(($CL$13:$EK$13<=CL$13*TRANSPOSE($CK$14:$CK$65>=$CK44)),$CL$10:$EK$10,1))","v":1},{"$f":"PRODUCT(IF(($CL$13:$EK$13<=CM$13*TRANSPOSE($CK$14:$CK$65>=$CK44)),$CL$10:$EK$10,1))","v":1},{"$f":"PRODUCT(IF(($CL$13:$EK$13<=CN$13*TRANSPOSE($CK$14:$CK$65>=$CK44)),$CL$10:$EK$10,1))","v":1},{"$f":"PRODUCT(IF(($CL$13:$EK$13<=CO$13*TRANSPOSE($CK$14:$CK$65>=$CK44)),$CL$10:$EK$10,1))","v":1},{"$f":"PRODUCT(IF(($CL$13:$EK$13<=CP$13*TRANSPOSE($CK$14:$CK$65>=$CK44)),$CL$10:$EK$10,1))","v":1},{"$f":"PRODUCT(IF(($CL$13:$EK$13<=CQ$13*TRANSPOSE($CK$14:$CK$65>=$CK44)),$CL$10:$EK$10,1))","v":1},{"$f":"PRODUCT(IF(($CL$13:$EK$13<=CR$13*TRANSPOSE($CK$14:$CK$65>=$CK44)),$CL$10:$EK$10,1))","v":1},{"$f":"PRODUCT(IF(($CL$13:$EK$13<=CS$13*TRANSPOSE($CK$14:$CK$65>=$CK44)),$CL$10:$EK$10,1))","v":1},{"$f":"PRODUCT(IF(($CL$13:$EK$13<=CT$13*TRANSPOSE($CK$14:$CK$65>=$CK44)),$CL$10:$EK$10,1))","v":1},{"$f":"PRODUCT(IF(($CL$13:$EK$13<=CU$13*TRANSPOSE($CK$14:$CK$65>=$CK44)),$CL$10:$EK$10,1))","v":1},{"$f":"PRODUCT(IF(($CL$13:$EK$13<=CV$13*TRANSPOSE($CK$14:$CK$65>=$CK44)),$CL$10:$EK$10,1))","v":1},{"$f":"PRODUCT(IF(($CL$13:$EK$13<=CW$13*TRANSPOSE($CK$14:$CK$65>=$CK44)),$CL$10:$EK$10,1))","v":1},{"$f":"PRODUCT(IF(($CL$13:$EK$13<=CX$13*TRANSPOSE($CK$14:$CK$65>=$CK44)),$CL$10:$EK$10,1))","v":1},{"$f":"PRODUCT(IF(($CL$13:$EK$13<=CY$13*TRANSPOSE($CK$14:$CK$65>=$CK44)),$CL$10:$EK$10,1))","v":1},{"$f":"PRODUCT(IF(($CL$13:$EK$13<=CZ$13*TRANSPOSE($CK$14:$CK$65>=$CK44)),$CL$10:$EK$10,1))","v":1},{"$f":"PRODUCT(IF(($CL$13:$EK$13<=DA$13*TRANSPOSE($CK$14:$CK$65>=$CK44)),$CL$10:$EK$10,1))","v":1},{"$f":"PRODUCT(IF(($CL$13:$EK$13<=DB$13*TRANSPOSE($CK$14:$CK$65>=$CK44)),$CL$10:$EK$10,1))","v":1},{"$f":"PRODUCT(IF(($CL$13:$EK$13<=DC$13*TRANSPOSE($CK$14:$CK$65>=$CK44)),$CL$10:$EK$10,1))","v":1},{"$f":"PRODUCT(IF(($CL$13:$EK$13<=DD$13*TRANSPOSE($CK$14:$CK$65>=$CK44)),$CL$10:$EK$10,1))","v":1},{"$f":"PRODUCT(IF(($CL$13:$EK$13<=DE$13*TRANSPOSE($CK$14:$CK$65>=$CK44)),$CL$10:$EK$10,1))","v":1},{"$f":"PRODUCT(IF(($CL$13:$EK$13<=DF$13*TRANSPOSE($CK$14:$CK$65>=$CK44)),$CL$10:$EK$10,1))","v":1},{"$f":"PRODUCT(IF(($CL$13:$EK$13<=DG$13*TRANSPOSE($CK$14:$CK$65>=$CK44)),$CL$10:$EK$10,1))","v":1},{"$f":"PRODUCT(IF(($CL$13:$EK$13<=DH$13*TRANSPOSE($CK$14:$CK$65>=$CK44)),$CL$10:$EK$10,1))","v":1},{"$f":"PRODUCT(IF(($CL$13:$EK$13<=DI$13*TRANSPOSE($CK$14:$CK$65>=$CK44)),$CL$10:$EK$10,1))","v":1},{"$f":"PRODUCT(IF(($CL$13:$EK$13<=DJ$13*TRANSPOSE($CK$14:$CK$65>=$CK44)),$CL$10:$EK$10,1))","v":1},{"$f":"PRODUCT(IF(($CL$13:$EK$13<=DK$13*TRANSPOSE($CK$14:$CK$65>=$CK44)),$CL$10:$EK$10,1))","v":1},{"$f":"PRODUCT(IF(($CL$13:$EK$13<=DL$13*TRANSPOSE($CK$14:$CK$65>=$CK44)),$CL$10:$EK$10,1))","v":1},{"$f":"PRODUCT(IF(($CL$13:$EK$13<=DM$13*TRANSPOSE($CK$14:$CK$65>=$CK44)),$CL$10:$EK$10,1))","v":1},{"$f":"PRODUCT(IF(($CL$13:$EK$13<=DN$13*TRANSPOSE($CK$14:$CK$65>=$CK44)),$CL$10:$EK$10,1))","v":1},{"$f":"PRODUCT(IF(($CL$13:$EK$13<=DO$13*TRANSPOSE($CK$14:$CK$65>=$CK44)),$CL$10:$EK$10,1))","v":1},{"$f":"PRODUCT(IF(($CL$13:$EK$13<=DP$13*TRANSPOSE($CK$14:$CK$65>=$CK44)),$CL$10:$EK$10,1))","v":1.0684436017973062},{"$f":"PRODUCT(IF(($CL$13:$EK$13<=DQ$13*TRANSPOSE($CK$14:$CK$65>=$CK44)),$CL$10:$EK$10,1))","v":1.1489274462889763},{"$f":"PRODUCT(IF(($CL$13:$EK$13<=DR$13*TRANSPOSE($CK$14:$CK$65>=$CK44)),$CL$10:$EK$10,1))","v":1.2573144627208257},{"$f":"PRODUCT(IF(($CL$13:$EK$13<=DS$13*TRANSPOSE($CK$14:$CK$65>=$CK44)),$CL$10:$EK$10,1))","v":1.6193856890658129},{"$f":"PRODUCT(IF(($CL$13:$EK$13<=DT$13*TRANSPOSE($CK$14:$CK$65>=$CK44)),$CL$10:$EK$10,1))","v":1.8607743720053769},{"$f":"PRODUCT(IF(($CL$13:$EK$13<=DU$13*TRANSPOSE($CK$14:$CK$65>=$CK44)),$CL$10:$EK$10,1))","v":2.1380381462202775},{"$f":"PRODUCT(IF(($CL$13:$EK$13<=DV$13*TRANSPOSE($CK$14:$CK$65>=$CK44)),$CL$10:$EK$10,1))","v":2.4825333161074568},{"$f":"PRODUCT(IF(($CL$13:$EK$13<=DW$13*TRANSPOSE($CK$14:$CK$65>=$CK44)),$CL$10:$EK$10,1))","v":2.5050505860163721},{"$f":"PRODUCT(IF(($CL$13:$EK$13<=DX$13*TRANSPOSE($CK$14:$CK$65>=$CK44)),$CL$10:$EK$10,1))","v":2.7358045062010685},{"$f":"PRODUCT(IF(($CL$13:$EK$13<=DY$13*TRANSPOSE($CK$14:$CK$65>=$CK44)),$CL$10:$EK$10,1))","v":3.2052593359572139},{"$f":"PRODUCT(IF(($CL$13:$EK$13<=DZ$13*TRANSPOSE($CK$14:$CK$65>=$CK44)),$CL$10:$EK$10,1))","v":3.7888052052547168},{"$f":"PRODUCT(IF(($CL$13:$EK$13<=EA$13*TRANSPOSE($CK$14:$CK$65>=$CK44)),$CL$10:$EK$10,1))","v":4.4386619661827025},{"$f":"PRODUCT(IF(($CL$13:$EK$13<=EB$13*TRANSPOSE($CK$14:$CK$65>=$CK44)),$CL$10:$EK$10,1))","v":4.7962922373337182},{"$f":"PRODUCT(IF(($CL$13:$EK$13<=EC$13*TRANSPOSE($CK$14:$CK$65>=$CK44)),$CL$10:$EK$10,1))","v":4.8946848811822683},{"$f":"PRODUCT(IF(($CL$13:$EK$13<=ED$13*TRANSPOSE($CK$14:$CK$65>=$CK44)),$CL$10:$EK$10,1))","v":4.9452715202801985},{"$f":"PRODUCT(IF(($CL$13:$EK$13<=EE$13*TRANSPOSE($CK$14:$CK$65>=$CK44)),$CL$10:$EK$10,1))","v":4.9876705685485243},{"$f":"PRODUCT(IF(($CL$13:$EK$13<=EF$13*TRANSPOSE($CK$14:$CK$65>=$CK44)),$CL$10:$EK$10,1))","v":5.2088196002197451},{"$f":"PRODUCT(IF(($CL$13:$EK$13<=EG$13*TRANSPOSE($CK$14:$CK$65>=$CK44)),$CL$10:$EK$10,1))","v":5.3342107700621906},{"$f":"PRODUCT(IF(($CL$13:$EK$13<=EH$13*TRANSPOSE($CK$14:$CK$65>=$CK44)),$CL$10:$EK$10,1))","v":5.5421219207577419},{"$f":"PRODUCT(IF(($CL$13:$EK$13<=EI$13*TRANSPOSE($CK$14:$CK$65>=$CK44)),$CL$10:$EK$10,1))","v":6.0386755990148275},{"$f":"PRODUCT(IF(($CL$13:$EK$13<=EJ$13*TRANSPOSE($CK$14:$CK$65>=$CK44)),$CL$10:$EK$10,1))","v":6.9327063680223695},{"$f":"PRODUCT(IF(($CL$13:$EK$13<=EK$13*TRANSPOSE($CK$14:$CK$65>=$CK44)),$CL$10:$EK$10,1))","v":7.3908481512464075}]
[null,null,2004,null,null,null,null,null,null,null,null,null,null,null,null,null,null,null,null,null,null,null,null,null,null,null,null,null,null,null,null,null,null,null,null,9.4337563944475678E-2,0.18721355458032773,0.17435762125053733,0.16796737385037264,0.166596035611835,0.13872970367379067,0.13195065146259277,0.13683208222301468,0.14177059108776202,0.14471123881764258,0.13872634028918651,0.1283729793495374,0.11882290545591934,0.11056306455729747,0.10602034082148659,0.10071173840141845,9.6980803432674456E-2,9.6569244009210742E-2,9.9220318451293865E-2,9.7539309168830135E-2,null,2003,7.5328116857344973E-2,7.1880332074889974E-2,6.6435076049523145E-2,6.4962693511784186E-2,6.8365863483469624E-2,7.6351698039798244E-2,7.7770114011068037E-2,7.9149342127262212E-2,8.5071202266125523E-2,8.9576646019697614E-2,8.7036048762711316E-2,8.8769526099971685E-2,8.922658778875503E-2,8.7617072980845423E-2,9.2091989403919383E-2,9.5920360306696928E-2,8.9475949313552849E-2,8.1872022586310766E-2,6.5966919734219198E-2,6.5662870613380608E-2,6.0468702365183979E-2,5.6432695120811616E-2,5.892778951332156E-2,6.2275393096377085E-2,6.7023220435409314E-2,7.0530077366536714E-2,null,2003,{"$f":"HLOOKUP($W$7,dat,MATCH(CG45,Data!$B$3:$B$60,0),0)+1","v":1.075328116857345},null,null,2003,{"$f":"PRODUCT(IF(($CL$13:$EK$13<=CL$13*TRANSPOSE($CK$14:$CK$65>=$CK45)),$CL$10:$EK$10,1))","v":1},{"$f":"PRODUCT(IF(($CL$13:$EK$13<=CM$13*TRANSPOSE($CK$14:$CK$65>=$CK45)),$CL$10:$EK$10,1))","v":1},{"$f":"PRODUCT(IF(($CL$13:$EK$13<=CN$13*TRANSPOSE($CK$14:$CK$65>=$CK45)),$CL$10:$EK$10,1))","v":1},{"$f":"PRODUCT(IF(($CL$13:$EK$13<=CO$13*TRANSPOSE($CK$14:$CK$65>=$CK45)),$CL$10:$EK$10,1))","v":1},{"$f":"PRODUCT(IF(($CL$13:$EK$13<=CP$13*TRANSPOSE($CK$14:$CK$65>=$CK45)),$CL$10:$EK$10,1))","v":1},{"$f":"PRODUCT(IF(($CL$13:$EK$13<=CQ$13*TRANSPOSE($CK$14:$CK$65>=$CK45)),$CL$10:$EK$10,1))","v":1},{"$f":"PRODUCT(IF(($CL$13:$EK$13<=CR$13*TRANSPOSE($CK$14:$CK$65>=$CK45)),$CL$10:$EK$10,1))","v":1},{"$f":"PRODUCT(IF(($CL$13:$EK$13<=CS$13*TRANSPOSE($CK$14:$CK$65>=$CK45)),$CL$10:$EK$10,1))","v":1},{"$f":"PRODUCT(IF(($CL$13:$EK$13<=CT$13*TRANSPOSE($CK$14:$CK$65>=$CK45)),$CL$10:$EK$10,1))","v":1},{"$f":"PRODUCT(IF(($CL$13:$EK$13<=CU$13*TRANSPOSE($CK$14:$CK$65>=$CK45)),$CL$10:$EK$10,1))","v":1},{"$f":"PRODUCT(IF(($CL$13:$EK$13<=CV$13*TRANSPOSE($CK$14:$CK$65>=$CK45)),$CL$10:$EK$10,1))","v":1},{"$f":"PRODUCT(IF(($CL$13:$EK$13<=CW$13*TRANSPOSE($CK$14:$CK$65>=$CK45)),$CL$10:$EK$10,1))","v":1},{"$f":"PRODUCT(IF(($CL$13:$EK$13<=CX$13*TRANSPOSE($CK$14:$CK$65>=$CK45)),$CL$10:$EK$10,1))","v":1},{"$f":"PRODUCT(IF(($CL$13:$EK$13<=CY$13*TRANSPOSE($CK$14:$CK$65>=$CK45)),$CL$10:$EK$10,1))","v":1},{"$f":"PRODUCT(IF(($CL$13:$EK$13<=CZ$13*TRANSPOSE($CK$14:$CK$65>=$CK45)),$CL$10:$EK$10,1))","v":1},{"$f":"PRODUCT(IF(($CL$13:$EK$13<=DA$13*TRANSPOSE($CK$14:$CK$65>=$CK45)),$CL$10:$EK$10,1))","v":1},{"$f":"PRODUCT(IF(($CL$13:$EK$13<=DB$13*TRANSPOSE($CK$14:$CK$65>=$CK45)),$CL$10:$EK$10,1))","v":1},{"$f":"PRODUCT(IF(($CL$13:$EK$13<=DC$13*TRANSPOSE($CK$14:$CK$65>=$CK45)),$CL$10:$EK$10,1))","v":1},{"$f":"PRODUCT(IF(($CL$13:$EK$13<=DD$13*TRANSPOSE($CK$14:$CK$65>=$CK45)),$CL$10:$EK$10,1))","v":1},{"$f":"PRODUCT(IF(($CL$13:$EK$13<=DE$13*TRANSPOSE($CK$14:$CK$65>=$CK45)),$CL$10:$EK$10,1))","v":1},{"$f":"PRODUCT(IF(($CL$13:$EK$13<=DF$13*TRANSPOSE($CK$14:$CK$65>=$CK45)),$CL$10:$EK$10,1))","v":1},{"$f":"PRODUCT(IF(($CL$13:$EK$13<=DG$13*TRANSPOSE($CK$14:$CK$65>=$CK45)),$CL$10:$EK$10,1))","v":1},{"$f":"PRODUCT(IF(($CL$13:$EK$13<=DH$13*TRANSPOSE($CK$14:$CK$65>=$CK45)),$CL$10:$EK$10,1))","v":1},{"$f":"PRODUCT(IF(($CL$13:$EK$13<=DI$13*TRANSPOSE($CK$14:$CK$65>=$CK45)),$CL$10:$EK$10,1))","v":1},{"$f":"PRODUCT(IF(($CL$13:$EK$13<=DJ$13*TRANSPOSE($CK$14:$CK$65>=$CK45)),$CL$10:$EK$10,1))","v":1},{"$f":"PRODUCT(IF(($CL$13:$EK$13<=DK$13*TRANSPOSE($CK$14:$CK$65>=$CK45)),$CL$10:$EK$10,1))","v":1},{"$f":"PRODUCT(IF(($CL$13:$EK$13<=DL$13*TRANSPOSE($CK$14:$CK$65>=$CK45)),$CL$10:$EK$10,1))","v":1},{"$f":"PRODUCT(IF(($CL$13:$EK$13<=DM$13*TRANSPOSE($CK$14:$CK$65>=$CK45)),$CL$10:$EK$10,1))","v":1},{"$f":"PRODUCT(IF(($CL$13:$EK$13<=DN$13*TRANSPOSE($CK$14:$CK$65>=$CK45)),$CL$10:$EK$10,1))","v":1},{"$f":"PRODUCT(IF(($CL$13:$EK$13<=DO$13*TRANSPOSE($CK$14:$CK$65>=$CK45)),$CL$10:$EK$10,1))","v":1},{"$f":"PRODUCT(IF(($CL$13:$EK$13<=DP$13*TRANSPOSE($CK$14:$CK$65>=$CK45)),$CL$10:$EK$10,1))","v":1},{"$f":"PRODUCT(IF(($CL$13:$EK$13<=DQ$13*TRANSPOSE($CK$14:$CK$65>=$CK45)),$CL$10:$EK$10,1))","v":1.075328116857345},{"$f":"PRODUCT(IF(($CL$13:$EK$13<=DR$13*TRANSPOSE($CK$14:$CK$65>=$CK45)),$CL$10:$EK$10,1))","v":1.1767719518426674},{"$f":"PRODUCT(IF(($CL$13:$EK$13<=DS$13*TRANSPOSE($CK$14:$CK$65>=$CK45)),$CL$10:$EK$10,1))","v":1.5156491988362579},{"$f":"PRODUCT(IF(($CL$13:$EK$13<=DT$13*TRANSPOSE($CK$14:$CK$65>=$CK45)),$CL$10:$EK$10,1))","v":1.7415747250254801},{"$f":"PRODUCT(IF(($CL$13:$EK$13<=DU$13*TRANSPOSE($CK$14:$CK$65>=$CK45)),$CL$10:$EK$10,1))","v":2.0010772142055315},{"$f":"PRODUCT(IF(($CL$13:$EK$13<=DV$13*TRANSPOSE($CK$14:$CK$65>=$CK45)),$CL$10:$EK$10,1))","v":2.3235043121896264},{"$f":"PRODUCT(IF(($CL$13:$EK$13<=DW$13*TRANSPOSE($CK$14:$CK$65>=$CK45)),$CL$10:$EK$10,1))","v":2.3445791446571871},{"$f":"PRODUCT(IF(($CL$13:$EK$13<=DX$13*TRANSPOSE($CK$14:$CK$65>=$CK45)),$CL$10:$EK$10,1))","v":2.5605511620819055},{"$f":"PRODUCT(IF(($CL$13:$EK$13<=DY$13*TRANSPOSE($CK$14:$CK$65>=$CK45)),$CL$10:$EK$10,1))","v":2.9999331088373933},{"$f":"PRODUCT(IF(($CL$13:$EK$13<=DZ$13*TRANSPOSE($CK$14:$CK$65>=$CK45)),$CL$10:$EK$10,1))","v":3.5460975187471706},{"$f":"PRODUCT(IF(($CL$13:$EK$13<=EA$13*TRANSPOSE($CK$14:$CK$65>=$CK45)),$CL$10:$EK$10,1))","v":4.1543250001367493},{"$f":"PRODUCT(IF(($CL$13:$EK$13<=EB$13*TRANSPOSE($CK$14:$CK$65>=$CK45)),$CL$10:$EK$10,1))","v":4.4890457758046649},{"$f":"PRODUCT(IF(($CL$13:$EK$13<=EC$13*TRANSPOSE($CK$14:$CK$65>=$CK45)),$CL$10:$EK$10,1))","v":4.5811354693392952},{"$f":"PRODUCT(IF(($CL$13:$EK$13<=ED$13*TRANSPOSE($CK$14:$CK$65>=$CK45)),$CL$10:$EK$10,1))","v":4.6284815707271783},{"$f":"PRODUCT(IF(($CL$13:$EK$13<=EE$13*TRANSPOSE($CK$14:$CK$65>=$CK45)),$CL$10:$EK$10,1))","v":4.6681645714929676},{"$f":"PRODUCT(IF(($CL$13:$EK$13<=EF$13*TRANSPOSE($CK$14:$CK$65>=$CK45)),$CL$10:$EK$10,1))","v":4.8751469815136836},{"$f":"PRODUCT(IF(($CL$13:$EK$13<=EG$13*TRANSPOSE($CK$14:$CK$65>=$CK45)),$CL$10:$EK$10,1))","v":4.992505698091251},{"$f":"PRODUCT(IF(($CL$13:$EK$13<=EH$13*TRANSPOSE($CK$14:$CK$65>=$CK45)),$CL$10:$EK$10,1))","v":5.187098234698527},{"$f":"PRODUCT(IF(($CL$13:$EK$13<=EI$13*TRANSPOSE($CK$14:$CK$65>=$CK45)),$CL$10:$EK$10,1))","v":5.6518431004282634},{"$f":"PRODUCT(IF(($CL$13:$EK$13<=EJ$13*TRANSPOSE($CK$14:$CK$65>=$CK45)),$CL$10:$EK$10,1))","v":6.4886030075526335},{"$f":"PRODUCT(IF(($CL$13:$EK$13<=EK$13*TRANSPOSE($CK$14:$CK$65>=$CK45)),$CL$10:$EK$10,1))","v":6.9173966120567592}]
[null,null,2005,null,null,null,null,null,null,null,null,null,null,null,null,null,null,null,null,null,null,null,null,null,null,null,null,null,null,null,null,null,null,null,null,null,0.28797189333324447,0.21653582407208982,0.19359551824053267,0.18539418805626062,0.14782192946584738,0.13834400547041659,0.14303596292427057,0.1478424864645258,0.15044953635058,0.14326306350701357,0.13151911054855159,0.12088791260863974,0.11182109936802243,0.10685958169592213,0.10113800107131166,9.7146217723695694E-2,9.6700660945062911E-2,9.9492220483694993E-2,9.7708081322629203E-2,null,2004,9.4337563944475678E-2,8.4791201956702533E-2,7.9314397599160147E-2,7.3343282186377312E-2,7.0773900290836522E-2,7.2651275754243905E-2,7.8902894882191266E-2,7.9827250096757618E-2,8.0826458740925089E-2,8.5994296568959516E-2,9.0008599499413311E-2,8.7642643168808654E-2,8.9196829047617054E-2,8.959086457614851E-2,8.806381889564685E-2,9.2232202717234646E-2,9.5827191299603154E-2,8.9745471518309916E-2,8.2524549453616869E-2,6.7367822999782057E-2,6.7011136608095656E-2,6.1985206680503779E-2,5.8053097215890137E-2,6.0380059953196508E-2,6.3539658143670019E-2,6.8061055311976704E-2,null,2004,{"$f":"HLOOKUP($W$7,dat,MATCH(CG46,Data!$B$3:$B$60,0),0)+1","v":1.0943375639444757},null,null,2004,{"$f":"PRODUCT(IF(($CL$13:$EK$13<=CL$13*TRANSPOSE($CK$14:$CK$65>=$CK46)),$CL$10:$EK$10,1))","v":1},{"$f":"PRODUCT(IF(($CL$13:$EK$13<=CM$13*TRANSPOSE($CK$14:$CK$65>=$CK46)),$CL$10:$EK$10,1))","v":1},{"$f":"PRODUCT(IF(($CL$13:$EK$13<=CN$13*TRANSPOSE($CK$14:$CK$65>=$CK46)),$CL$10:$EK$10,1))","v":1},{"$f":"PRODUCT(IF(($CL$13:$EK$13<=CO$13*TRANSPOSE($CK$14:$CK$65>=$CK46)),$CL$10:$EK$10,1))","v":1},{"$f":"PRODUCT(IF(($CL$13:$EK$13<=CP$13*TRANSPOSE($CK$14:$CK$65>=$CK46)),$CL$10:$EK$10,1))","v":1},{"$f":"PRODUCT(IF(($CL$13:$EK$13<=CQ$13*TRANSPOSE($CK$14:$CK$65>=$CK46)),$CL$10:$EK$10,1))","v":1},{"$f":"PRODUCT(IF(($CL$13:$EK$13<=CR$13*TRANSPOSE($CK$14:$CK$65>=$CK46)),$CL$10:$EK$10,1))","v":1},{"$f":"PRODUCT(IF(($CL$13:$EK$13<=CS$13*TRANSPOSE($CK$14:$CK$65>=$CK46)),$CL$10:$EK$10,1))","v":1},{"$f":"PRODUCT(IF(($CL$13:$EK$13<=CT$13*TRANSPOSE($CK$14:$CK$65>=$CK46)),$CL$10:$EK$10,1))","v":1},{"$f":"PRODUCT(IF(($CL$13:$EK$13<=CU$13*TRANSPOSE($CK$14:$CK$65>=$CK46)),$CL$10:$EK$10,1))","v":1},{"$f":"PRODUCT(IF(($CL$13:$EK$13<=CV$13*TRANSPOSE($CK$14:$CK$65>=$CK46)),$CL$10:$EK$10,1))","v":1},{"$f":"PRODUCT(IF(($CL$13:$EK$13<=CW$13*TRANSPOSE($CK$14:$CK$65>=$CK46)),$CL$10:$EK$10,1))","v":1},{"$f":"PRODUCT(IF(($CL$13:$EK$13<=CX$13*TRANSPOSE($CK$14:$CK$65>=$CK46)),$CL$10:$EK$10,1))","v":1},{"$f":"PRODUCT(IF(($CL$13:$EK$13<=CY$13*TRANSPOSE($CK$14:$CK$65>=$CK46)),$CL$10:$EK$10,1))","v":1},{"$f":"PRODUCT(IF(($CL$13:$EK$13<=CZ$13*TRANSPOSE($CK$14:$CK$65>=$CK46)),$CL$10:$EK$10,1))","v":1},{"$f":"PRODUCT(IF(($CL$13:$EK$13<=DA$13*TRANSPOSE($CK$14:$CK$65>=$CK46)),$CL$10:$EK$10,1))","v":1},{"$f":"PRODUCT(IF(($CL$13:$EK$13<=DB$13*TRANSPOSE($CK$14:$CK$65>=$CK46)),$CL$10:$EK$10,1))","v":1},{"$f":"PRODUCT(IF(($CL$13:$EK$13<=DC$13*TRANSPOSE($CK$14:$CK$65>=$CK46)),$CL$10:$EK$10,1))","v":1},{"$f":"PRODUCT(IF(($CL$13:$EK$13<=DD$13*TRANSPOSE($CK$14:$CK$65>=$CK46)),$CL$10:$EK$10,1))","v":1},{"$f":"PRODUCT(IF(($CL$13:$EK$13<=DE$13*TRANSPOSE($CK$14:$CK$65>=$CK46)),$CL$10:$EK$10,1))","v":1},{"$f":"PRODUCT(IF(($CL$13:$EK$13<=DF$13*TRANSPOSE($CK$14:$CK$65>=$CK46)),$CL$10:$EK$10,1))","v":1},{"$f":"PRODUCT(IF(($CL$13:$EK$13<=DG$13*TRANSPOSE($CK$14:$CK$65>=$CK46)),$CL$10:$EK$10,1))","v":1},{"$f":"PRODUCT(IF(($CL$13:$EK$13<=DH$13*TRANSPOSE($CK$14:$CK$65>=$CK46)),$CL$10:$EK$10,1))","v":1},{"$f":"PRODUCT(IF(($CL$13:$EK$13<=DI$13*TRANSPOSE($CK$14:$CK$65>=$CK46)),$CL$10:$EK$10,1))","v":1},{"$f":"PRODUCT(IF(($CL$13:$EK$13<=DJ$13*TRANSPOSE($CK$14:$CK$65>=$CK46)),$CL$10:$EK$10,1))","v":1},{"$f":"PRODUCT(IF(($CL$13:$EK$13<=DK$13*TRANSPOSE($CK$14:$CK$65>=$CK46)),$CL$10:$EK$10,1))","v":1},{"$f":"PRODUCT(IF(($CL$13:$EK$13<=DL$13*TRANSPOSE($CK$14:$CK$65>=$CK46)),$CL$10:$EK$10,1))","v":1},{"$f":"PRODUCT(IF(($CL$13:$EK$13<=DM$13*TRANSPOSE($CK$14:$CK$65>=$CK46)),$CL$10:$EK$10,1))","v":1},{"$f":"PRODUCT(IF(($CL$13:$EK$13<=DN$13*TRANSPOSE($CK$14:$CK$65>=$CK46)),$CL$10:$EK$10,1))","v":1},{"$f":"PRODUCT(IF(($CL$13:$EK$13<=DO$13*TRANSPOSE($CK$14:$CK$65>=$CK46)),$CL$10:$EK$10,1))","v":1},{"$f":"PRODUCT(IF(($CL$13:$EK$13<=DP$13*TRANSPOSE($CK$14:$CK$65>=$CK46)),$CL$10:$EK$10,1))","v":1},{"$f":"PRODUCT(IF(($CL$13:$EK$13<=DQ$13*TRANSPOSE($CK$14:$CK$65>=$CK46)),$CL$10:$EK$10,1))","v":1},{"$f":"PRODUCT(IF(($CL$13:$EK$13<=DR$13*TRANSPOSE($CK$14:$CK$65>=$CK46)),$CL$10:$EK$10,1))","v":1.0943375639444757},{"$f":"PRODUCT(IF(($CL$13:$EK$13<=DS$13*TRANSPOSE($CK$14:$CK$65>=$CK46)),$CL$10:$EK$10,1))","v":1.4094760241792568},{"$f":"PRODUCT(IF(($CL$13:$EK$13<=DT$13*TRANSPOSE($CK$14:$CK$65>=$CK46)),$CL$10:$EK$10,1))","v":1.6195751768448554},{"$f":"PRODUCT(IF(($CL$13:$EK$13<=DU$13*TRANSPOSE($CK$14:$CK$65>=$CK46)),$CL$10:$EK$10,1))","v":1.860899183082551},{"$f":"PRODUCT(IF(($CL$13:$EK$13<=DV$13*TRANSPOSE($CK$14:$CK$65>=$CK46)),$CL$10:$EK$10,1))","v":2.1607398483916573},{"$f":"PRODUCT(IF(($CL$13:$EK$13<=DW$13*TRANSPOSE($CK$14:$CK$65>=$CK46)),$CL$10:$EK$10,1))","v":2.1803383617543992},{"$f":"PRODUCT(IF(($CL$13:$EK$13<=DX$13*TRANSPOSE($CK$14:$CK$65>=$CK46)),$CL$10:$EK$10,1))","v":2.3811812617391017},{"$f":"PRODUCT(IF(($CL$13:$EK$13<=DY$13*TRANSPOSE($CK$14:$CK$65>=$CK46)),$CL$10:$EK$10,1))","v":2.789783938324538},{"$f":"PRODUCT(IF(($CL$13:$EK$13<=DZ$13*TRANSPOSE($CK$14:$CK$65>=$CK46)),$CL$10:$EK$10,1))","v":3.297688829257686},{"$f":"PRODUCT(IF(($CL$13:$EK$13<=EA$13*TRANSPOSE($CK$14:$CK$65>=$CK46)),$CL$10:$EK$10,1))","v":3.8633091937350224},{"$f":"PRODUCT(IF(($CL$13:$EK$13<=EB$13*TRANSPOSE($CK$14:$CK$65>=$CK46)),$CL$10:$EK$10,1))","v":4.1745823488033933},{"$f":"PRODUCT(IF(($CL$13:$EK$13<=EC$13*TRANSPOSE($CK$14:$CK$65>=$CK46)),$CL$10:$EK$10,1))","v":4.2602210409300003},{"$f":"PRODUCT(IF(($CL$13:$EK$13<=ED$13*TRANSPOSE($CK$14:$CK$65>=$CK46)),$CL$10:$EK$10,1))","v":4.3042504870550147},{"$f":"PRODUCT(IF(($CL$13:$EK$13<=EE$13*TRANSPOSE($CK$14:$CK$65>=$CK46)),$CL$10:$EK$10,1))","v":4.3411536426069812},{"$f":"PRODUCT(IF(($CL$13:$EK$13<=EF$13*TRANSPOSE($CK$14:$CK$65>=$CK46)),$CL$10:$EK$10,1))","v":4.5336366687419476},{"$f":"PRODUCT(IF(($CL$13:$EK$13<=EG$13*TRANSPOSE($CK$14:$CK$65>=$CK46)),$CL$10:$EK$10,1))","v":4.642774256365481},{"$f":"PRODUCT(IF(($CL$13:$EK$13<=EH$13*TRANSPOSE($CK$14:$CK$65>=$CK46)),$CL$10:$EK$10,1))","v":4.8237353356460764},{"$f":"PRODUCT(IF(($CL$13:$EK$13<=EI$13*TRANSPOSE($CK$14:$CK$65>=$CK46)),$CL$10:$EK$10,1))","v":5.2559242261290642},{"$f":"PRODUCT(IF(($CL$13:$EK$13<=EJ$13*TRANSPOSE($CK$14:$CK$65>=$CK46)),$CL$10:$EK$10,1))","v":6.0340680261533848},{"$f":"PRODUCT(IF(($CL$13:$EK$13<=EK$13*TRANSPOSE($CK$14:$CK$65>=$CK46)),$CL$10:$EK$10,1))","v":6.4328240874728628}]
[null,null,2006,null,null,null,null,null,null,null,null,null,null,null,null,null,null,null,null,null,null,null,null,null,null,null,null,null,null,null,null,null,null,null,null,null,null,0.14906188474397086,0.14903319720027408,0.15305032582955835,0.11523541128675374,0.11057259575466527,0.12051793646392883,0.12910933296004501,0.13432556944453533,0.1282232304918145,0.11695954571131417,0.10681834690424075,9.8278011342999738E-2,9.4031746724310139E-2,8.8879925006905003E-2,8.5479731553963267E-2,8.5736561500561415E-2,8.9306631640587941E-2,8.8003321647749821E-2,null,2005,0.28797189333324447,0.18721355458032773,0.14868133636160508,0.12807395995447579,0.11319742005106948,0.10424611087993485,0.10105304910644164,0.10305676329970193,0.1011844554170267,9.9945100373931561E-2,0.10296564305885658,0.10527317393270041,0.10187906333470265,0.10231665578234872,0.1018089999173053,9.959465495051445E-2,0.10287485773430949,0.10570707883606056,9.937319070164996E-2,9.1971203370878163E-2,7.6959701919126822E-2,7.6178447301892493E-2,7.0930827216680647E-2,6.6757613902098445E-2,6.8659487439576283E-2,7.1400561202052293E-2,null,2005,{"$f":"HLOOKUP($W$7,dat,MATCH(CG47,Data!$B$3:$B$60,0),0)+1","v":1.2879718933332445},null,null,2005,{"$f":"PRODUCT(IF(($CL$13:$EK$13<=CL$13*TRANSPOSE($CK$14:$CK$65>=$CK47)),$CL$10:$EK$10,1))","v":1},{"$f":"PRODUCT(IF(($CL$13:$EK$13<=CM$13*TRANSPOSE($CK$14:$CK$65>=$CK47)),$CL$10:$EK$10,1))","v":1},{"$f":"PRODUCT(IF(($CL$13:$EK$13<=CN$13*TRANSPOSE($CK$14:$CK$65>=$CK47)),$CL$10:$EK$10,1))","v":1},{"$f":"PRODUCT(IF(($CL$13:$EK$13<=CO$13*TRANSPOSE($CK$14:$CK$65>=$CK47)),$CL$10:$EK$10,1))","v":1},{"$f":"PRODUCT(IF(($CL$13:$EK$13<=CP$13*TRANSPOSE($CK$14:$CK$65>=$CK47)),$CL$10:$EK$10,1))","v":1},{"$f":"PRODUCT(IF(($CL$13:$EK$13<=CQ$13*TRANSPOSE($CK$14:$CK$65>=$CK47)),$CL$10:$EK$10,1))","v":1},{"$f":"PRODUCT(IF(($CL$13:$EK$13<=CR$13*TRANSPOSE($CK$14:$CK$65>=$CK47)),$CL$10:$EK$10,1))","v":1},{"$f":"PRODUCT(IF(($CL$13:$EK$13<=CS$13*TRANSPOSE($CK$14:$CK$65>=$CK47)),$CL$10:$EK$10,1))","v":1},{"$f":"PRODUCT(IF(($CL$13:$EK$13<=CT$13*TRANSPOSE($CK$14:$CK$65>=$CK47)),$CL$10:$EK$10,1))","v":1},{"$f":"PRODUCT(IF(($CL$13:$EK$13<=CU$13*TRANSPOSE($CK$14:$CK$65>=$CK47)),$CL$10:$EK$10,1))","v":1},{"$f":"PRODUCT(IF(($CL$13:$EK$13<=CV$13*TRANSPOSE($CK$14:$CK$65>=$CK47)),$CL$10:$EK$10,1))","v":1},{"$f":"PRODUCT(IF(($CL$13:$EK$13<=CW$13*TRANSPOSE($CK$14:$CK$65>=$CK47)),$CL$10:$EK$10,1))","v":1},{"$f":"PRODUCT(IF(($CL$13:$EK$13<=CX$13*TRANSPOSE($CK$14:$CK$65>=$CK47)),$CL$10:$EK$10,1))","v":1},{"$f":"PRODUCT(IF(($CL$13:$EK$13<=CY$13*TRANSPOSE($CK$14:$CK$65>=$CK47)),$CL$10:$EK$10,1))","v":1},{"$f":"PRODUCT(IF(($CL$13:$EK$13<=CZ$13*TRANSPOSE($CK$14:$CK$65>=$CK47)),$CL$10:$EK$10,1))","v":1},{"$f":"PRODUCT(IF(($CL$13:$EK$13<=DA$13*TRANSPOSE($CK$14:$CK$65>=$CK47)),$CL$10:$EK$10,1))","v":1},{"$f":"PRODUCT(IF(($CL$13:$EK$13<=DB$13*TRANSPOSE($CK$14:$CK$65>=$CK47)),$CL$10:$EK$10,1))","v":1},{"$f":"PRODUCT(IF(($CL$13:$EK$13<=DC$13*TRANSPOSE($CK$14:$CK$65>=$CK47)),$CL$10:$EK$10,1))","v":1},{"$f":"PRODUCT(IF(($CL$13:$EK$13<=DD$13*TRANSPOSE($CK$14:$CK$65>=$CK47)),$CL$10:$EK$10,1))","v":1},{"$f":"PRODUCT(IF(($CL$13:$EK$13<=DE$13*TRANSPOSE($CK$14:$CK$65>=$CK47)),$CL$10:$EK$10,1))","v":1},{"$f":"PRODUCT(IF(($CL$13:$EK$13<=DF$13*TRANSPOSE($CK$14:$CK$65>=$CK47)),$CL$10:$EK$10,1))","v":1},{"$f":"PRODUCT(IF(($CL$13:$EK$13<=DG$13*TRANSPOSE($CK$14:$CK$65>=$CK47)),$CL$10:$EK$10,1))","v":1},{"$f":"PRODUCT(IF(($CL$13:$EK$13<=DH$13*TRANSPOSE($CK$14:$CK$65>=$CK47)),$CL$10:$EK$10,1))","v":1},{"$f":"PRODUCT(IF(($CL$13:$EK$13<=DI$13*TRANSPOSE($CK$14:$CK$65>=$CK47)),$CL$10:$EK$10,1))","v":1},{"$f":"PRODUCT(IF(($CL$13:$EK$13<=DJ$13*TRANSPOSE($CK$14:$CK$65>=$CK47)),$CL$10:$EK$10,1))","v":1},{"$f":"PRODUCT(IF(($CL$13:$EK$13<=DK$13*TRANSPOSE($CK$14:$CK$65>=$CK47)),$CL$10:$EK$10,1))","v":1},{"$f":"PRODUCT(IF(($CL$13:$EK$13<=DL$13*TRANSPOSE($CK$14:$CK$65>=$CK47)),$CL$10:$EK$10,1))","v":1},{"$f":"PRODUCT(IF(($CL$13:$EK$13<=DM$13*TRANSPOSE($CK$14:$CK$65>=$CK47)),$CL$10:$EK$10,1))","v":1},{"$f":"PRODUCT(IF(($CL$13:$EK$13<=DN$13*TRANSPOSE($CK$14:$CK$65>=$CK47)),$CL$10:$EK$10,1))","v":1},{"$f":"PRODUCT(IF(($CL$13:$EK$13<=DO$13*TRANSPOSE($CK$14:$CK$65>=$CK47)),$CL$10:$EK$10,1))","v":1},{"$f":"PRODUCT(IF(($CL$13:$EK$13<=DP$13*TRANSPOSE($CK$14:$CK$65>=$CK47)),$CL$10:$EK$10,1))","v":1},{"$f":"PRODUCT(IF(($CL$13:$EK$13<=DQ$13*TRANSPOSE($CK$14:$CK$65>=$CK47)),$CL$10:$EK$10,1))","v":1},{"$f":"PRODUCT(IF(($CL$13:$EK$13<=DR$13*TRANSPOSE($CK$14:$CK$65>=$CK47)),$CL$10:$EK$10,1))","v":1},{"$f":"PRODUCT(IF(($CL$13:$EK$13<=DS$13*TRANSPOSE($CK$14:$CK$65>=$CK47)),$CL$10:$EK$10,1))","v":1.2879718933332445},{"$f":"PRODUCT(IF(($CL$13:$EK$13<=DT$13*TRANSPOSE($CK$14:$CK$65>=$CK47)),$CL$10:$EK$10,1))","v":1.4799594112507586},{"$f":"PRODUCT(IF(($CL$13:$EK$13<=DU$13*TRANSPOSE($CK$14:$CK$65>=$CK47)),$CL$10:$EK$10,1))","v":1.7004800386957832},{"$f":"PRODUCT(IF(($CL$13:$EK$13<=DV$13*TRANSPOSE($CK$14:$CK$65>=$CK47)),$CL$10:$EK$10,1))","v":1.9744728862302756},{"$f":"PRODUCT(IF(($CL$13:$EK$13<=DW$13*TRANSPOSE($CK$14:$CK$65>=$CK47)),$CL$10:$EK$10,1))","v":1.9923819062698511},{"$f":"PRODUCT(IF(($CL$13:$EK$13<=DX$13*TRANSPOSE($CK$14:$CK$65>=$CK47)),$CL$10:$EK$10,1))","v":2.1759111084118081},{"$f":"PRODUCT(IF(($CL$13:$EK$13<=DY$13*TRANSPOSE($CK$14:$CK$65>=$CK47)),$CL$10:$EK$10,1))","v":2.5492901187353247},{"$f":"PRODUCT(IF(($CL$13:$EK$13<=DZ$13*TRANSPOSE($CK$14:$CK$65>=$CK47)),$CL$10:$EK$10,1))","v":3.0134109783925904},{"$f":"PRODUCT(IF(($CL$13:$EK$13<=EA$13*TRANSPOSE($CK$14:$CK$65>=$CK47)),$CL$10:$EK$10,1))","v":3.5302719389526858},{"$f":"PRODUCT(IF(($CL$13:$EK$13<=EB$13*TRANSPOSE($CK$14:$CK$65>=$CK47)),$CL$10:$EK$10,1))","v":3.8147117364374807},{"$f":"PRODUCT(IF(($CL$13:$EK$13<=EC$13*TRANSPOSE($CK$14:$CK$65>=$CK47)),$CL$10:$EK$10,1))","v":3.8929679299084672},{"$f":"PRODUCT(IF(($CL$13:$EK$13<=ED$13*TRANSPOSE($CK$14:$CK$65>=$CK47)),$CL$10:$EK$10,1))","v":3.933201809815059},{"$f":"PRODUCT(IF(($CL$13:$EK$13<=EE$13*TRANSPOSE($CK$14:$CK$65>=$CK47)),$CL$10:$EK$10,1))","v":3.9669237222923672},{"$f":"PRODUCT(IF(($CL$13:$EK$13<=EF$13*TRANSPOSE($CK$14:$CK$65>=$CK47)),$CL$10:$EK$10,1))","v":4.1428137149936797},{"$f":"PRODUCT(IF(($CL$13:$EK$13<=EG$13*TRANSPOSE($CK$14:$CK$65>=$CK47)),$CL$10:$EK$10,1))","v":4.2425430775042319},{"$f":"PRODUCT(IF(($CL$13:$EK$13<=EH$13*TRANSPOSE($CK$14:$CK$65>=$CK47)),$CL$10:$EK$10,1))","v":4.4079043748248976},{"$f":"PRODUCT(IF(($CL$13:$EK$13<=EI$13*TRANSPOSE($CK$14:$CK$65>=$CK47)),$CL$10:$EK$10,1))","v":4.8028363452903804},{"$f":"PRODUCT(IF(($CL$13:$EK$13<=EJ$13*TRANSPOSE($CK$14:$CK$65>=$CK47)),$CL$10:$EK$10,1))","v":5.5139001209132754},{"$f":"PRODUCT(IF(($CL$13:$EK$13<=EK$13*TRANSPOSE($CK$14:$CK$65>=$CK47)),$CL$10:$EK$10,1))","v":5.8782813451876068}]
[null,null,2007,null,null,null,null,null,null,null,null,null,null,null,null,null,null,null,null,null,null,null,null,null,null,null,null,null,null,null,null,null,null,null,null,null,null,null,0.14900451037279194,0.15504973488910112,0.10418267362898992,0.10115343055699877,0.1148948043725373,0.12581775507806259,0.132235866010876,0.12564511272908985,0.11344844598278425,0.10268036810837344,9.377411299208771E-2,8.9566645926084654E-2,8.4383259241789688E-2,8.1075145569840856E-2,8.1641144233573382E-2,8.5676826798555261E-2,8.4514410966307185E-2,null,2006,0.14906188474397086,0.21653582407208982,0.17435762125053733,0.14877646164018787,0.13224065056313083,0.11909613489085635,0.11053972548449598,0.10694270066172296,0.1080761068124918,0.10588102617035577,0.10432212681673003,0.10673532166003397,0.10858146528148516,0.10518405079757409,0.10537296765641391,0.10470452891538273,0.1024446259032481,0.10539139561015132,0.10794757832374247,0.10180580431513486,9.4624341646675658E-2,8.0136704378002133E-2,7.9248971812397206E-2,7.4077626309267286E-2,6.993367823786012E-2,7.1645243921950597E-2,null,2006,{"$f":"HLOOKUP($W$7,dat,MATCH(CG48,Data!$B$3:$B$60,0),0)+1","v":1.1490618847439709},null,null,2006,{"$f":"PRODUCT(IF(($CL$13:$EK$13<=CL$13*TRANSPOSE($CK$14:$CK$65>=$CK48)),$CL$10:$EK$10,1))","v":1},{"$f":"PRODUCT(IF(($CL$13:$EK$13<=CM$13*TRANSPOSE($CK$14:$CK$65>=$CK48)),$CL$10:$EK$10,1))","v":1},{"$f":"PRODUCT(IF(($CL$13:$EK$13<=CN$13*TRANSPOSE($CK$14:$CK$65>=$CK48)),$CL$10:$EK$10,1))","v":1},{"$f":"PRODUCT(IF(($CL$13:$EK$13<=CO$13*TRANSPOSE($CK$14:$CK$65>=$CK48)),$CL$10:$EK$10,1))","v":1},{"$f":"PRODUCT(IF(($CL$13:$EK$13<=CP$13*TRANSPOSE($CK$14:$CK$65>=$CK48)),$CL$10:$EK$10,1))","v":1},{"$f":"PRODUCT(IF(($CL$13:$EK$13<=CQ$13*TRANSPOSE($CK$14:$CK$65>=$CK48)),$CL$10:$EK$10,1))","v":1},{"$f":"PRODUCT(IF(($CL$13:$EK$13<=CR$13*TRANSPOSE($CK$14:$CK$65>=$CK48)),$CL$10:$EK$10,1))","v":1},{"$f":"PRODUCT(IF(($CL$13:$EK$13<=CS$13*TRANSPOSE($CK$14:$CK$65>=$CK48)),$CL$10:$EK$10,1))","v":1},{"$f":"PRODUCT(IF(($CL$13:$EK$13<=CT$13*TRANSPOSE($CK$14:$CK$65>=$CK48)),$CL$10:$EK$10,1))","v":1},{"$f":"PRODUCT(IF(($CL$13:$EK$13<=CU$13*TRANSPOSE($CK$14:$CK$65>=$CK48)),$CL$10:$EK$10,1))","v":1},{"$f":"PRODUCT(IF(($CL$13:$EK$13<=CV$13*TRANSPOSE($CK$14:$CK$65>=$CK48)),$CL$10:$EK$10,1))","v":1},{"$f":"PRODUCT(IF(($CL$13:$EK$13<=CW$13*TRANSPOSE($CK$14:$CK$65>=$CK48)),$CL$10:$EK$10,1))","v":1},{"$f":"PRODUCT(IF(($CL$13:$EK$13<=CX$13*TRANSPOSE($CK$14:$CK$65>=$CK48)),$CL$10:$EK$10,1))","v":1},{"$f":"PRODUCT(IF(($CL$13:$EK$13<=CY$13*TRANSPOSE($CK$14:$CK$65>=$CK48)),$CL$10:$EK$10,1))","v":1},{"$f":"PRODUCT(IF(($CL$13:$EK$13<=CZ$13*TRANSPOSE($CK$14:$CK$65>=$CK48)),$CL$10:$EK$10,1))","v":1},{"$f":"PRODUCT(IF(($CL$13:$EK$13<=DA$13*TRANSPOSE($CK$14:$CK$65>=$CK48)),$CL$10:$EK$10,1))","v":1},{"$f":"PRODUCT(IF(($CL$13:$EK$13<=DB$13*TRANSPOSE($CK$14:$CK$65>=$CK48)),$CL$10:$EK$10,1))","v":1},{"$f":"PRODUCT(IF(($CL$13:$EK$13<=DC$13*TRANSPOSE($CK$14:$CK$65>=$CK48)),$CL$10:$EK$10,1))","v":1},{"$f":"PRODUCT(IF(($CL$13:$EK$13<=DD$13*TRANSPOSE($CK$14:$CK$65>=$CK48)),$CL$10:$EK$10,1))","v":1},{"$f":"PRODUCT(IF(($CL$13:$EK$13<=DE$13*TRANSPOSE($CK$14:$CK$65>=$CK48)),$CL$10:$EK$10,1))","v":1},{"$f":"PRODUCT(IF(($CL$13:$EK$13<=DF$13*TRANSPOSE($CK$14:$CK$65>=$CK48)),$CL$10:$EK$10,1))","v":1},{"$f":"PRODUCT(IF(($CL$13:$EK$13<=DG$13*TRANSPOSE($CK$14:$CK$65>=$CK48)),$CL$10:$EK$10,1))","v":1},{"$f":"PRODUCT(IF(($CL$13:$EK$13<=DH$13*TRANSPOSE($CK$14:$CK$65>=$CK48)),$CL$10:$EK$10,1))","v":1},{"$f":"PRODUCT(IF(($CL$13:$EK$13<=DI$13*TRANSPOSE($CK$14:$CK$65>=$CK48)),$CL$10:$EK$10,1))","v":1},{"$f":"PRODUCT(IF(($CL$13:$EK$13<=DJ$13*TRANSPOSE($CK$14:$CK$65>=$CK48)),$CL$10:$EK$10,1))","v":1},{"$f":"PRODUCT(IF(($CL$13:$EK$13<=DK$13*TRANSPOSE($CK$14:$CK$65>=$CK48)),$CL$10:$EK$10,1))","v":1},{"$f":"PRODUCT(IF(($CL$13:$EK$13<=DL$13*TRANSPOSE($CK$14:$CK$65>=$CK48)),$CL$10:$EK$10,1))","v":1},{"$f":"PRODUCT(IF(($CL$13:$EK$13<=DM$13*TRANSPOSE($CK$14:$CK$65>=$CK48)),$CL$10:$EK$10,1))","v":1},{"$f":"PRODUCT(IF(($CL$13:$EK$13<=DN$13*TRANSPOSE($CK$14:$CK$65>=$CK48)),$CL$10:$EK$10,1))","v":1},{"$f":"PRODUCT(IF(($CL$13:$EK$13<=DO$13*TRANSPOSE($CK$14:$CK$65>=$CK48)),$CL$10:$EK$10,1))","v":1},{"$f":"PRODUCT(IF(($CL$13:$EK$13<=DP$13*TRANSPOSE($CK$14:$CK$65>=$CK48)),$CL$10:$EK$10,1))","v":1},{"$f":"PRODUCT(IF(($CL$13:$EK$13<=DQ$13*TRANSPOSE($CK$14:$CK$65>=$CK48)),$CL$10:$EK$10,1))","v":1},{"$f":"PRODUCT(IF(($CL$13:$EK$13<=DR$13*TRANSPOSE($CK$14:$CK$65>=$CK48)),$CL$10:$EK$10,1))","v":1},{"$f":"PRODUCT(IF(($CL$13:$EK$13<=DS$13*TRANSPOSE($CK$14:$CK$65>=$CK48)),$CL$10:$EK$10,1))","v":1},{"$f":"PRODUCT(IF(($CL$13:$EK$13<=DT$13*TRANSPOSE($CK$14:$CK$65>=$CK48)),$CL$10:$EK$10,1))","v":1.1490618847439709},{"$f":"PRODUCT(IF(($CL$13:$EK$13<=DU$13*TRANSPOSE($CK$14:$CK$65>=$CK48)),$CL$10:$EK$10,1))","v":1.3202772882682838},{"$f":"PRODUCT(IF(($CL$13:$EK$13<=DV$13*TRANSPOSE($CK$14:$CK$65>=$CK48)),$CL$10:$EK$10,1))","v":1.5330092965929412},{"$f":"PRODUCT(IF(($CL$13:$EK$13<=DW$13*TRANSPOSE($CK$14:$CK$65>=$CK48)),$CL$10:$EK$10,1))","v":1.5469141186874882},{"$f":"PRODUCT(IF(($CL$13:$EK$13<=DX$13*TRANSPOSE($CK$14:$CK$65>=$CK48)),$CL$10:$EK$10,1))","v":1.6894088447695825},{"$f":"PRODUCT(IF(($CL$13:$EK$13<=DY$13*TRANSPOSE($CK$14:$CK$65>=$CK48)),$CL$10:$EK$10,1))","v":1.9793057068487847},{"$f":"PRODUCT(IF(($CL$13:$EK$13<=DZ$13*TRANSPOSE($CK$14:$CK$65>=$CK48)),$CL$10:$EK$10,1))","v":2.3396558527328928},{"$f":"PRODUCT(IF(($CL$13:$EK$13<=EA$13*TRANSPOSE($CK$14:$CK$65>=$CK48)),$CL$10:$EK$10,1))","v":2.7409541754955655},{"$f":"PRODUCT(IF(($CL$13:$EK$13<=EB$13*TRANSPOSE($CK$14:$CK$65>=$CK48)),$CL$10:$EK$10,1))","v":2.9617973468078453},{"$f":"PRODUCT(IF(($CL$13:$EK$13<=EC$13*TRANSPOSE($CK$14:$CK$65>=$CK48)),$CL$10:$EK$10,1))","v":3.022556586878264},{"$f":"PRODUCT(IF(($CL$13:$EK$13<=ED$13*TRANSPOSE($CK$14:$CK$65>=$CK48)),$CL$10:$EK$10,1))","v":3.0537947529553726},{"$f":"PRODUCT(IF(($CL$13:$EK$13<=EE$13*TRANSPOSE($CK$14:$CK$65>=$CK48)),$CL$10:$EK$10,1))","v":3.0799769333677389},{"$f":"PRODUCT(IF(($CL$13:$EK$13<=EF$13*TRANSPOSE($CK$14:$CK$65>=$CK48)),$CL$10:$EK$10,1))","v":3.2165404667893518},{"$f":"PRODUCT(IF(($CL$13:$EK$13<=EG$13*TRANSPOSE($CK$14:$CK$65>=$CK48)),$CL$10:$EK$10,1))","v":3.293971785769811},{"$f":"PRODUCT(IF(($CL$13:$EK$13<=EH$13*TRANSPOSE($CK$14:$CK$65>=$CK48)),$CL$10:$EK$10,1))","v":3.4223606878697739},{"$f":"PRODUCT(IF(($CL$13:$EK$13<=EI$13*TRANSPOSE($CK$14:$CK$65>=$CK48)),$CL$10:$EK$10,1))","v":3.7289915798245716},{"$f":"PRODUCT(IF(($CL$13:$EK$13<=EJ$13*TRANSPOSE($CK$14:$CK$65>=$CK48)),$CL$10:$EK$10,1))","v":4.281071776064473},{"$f":"PRODUCT(IF(($CL$13:$EK$13<=EK$13*TRANSPOSE($CK$14:$CK$65>=$CK48)),$CL$10:$EK$10,1))","v":4.5639826269614758}]
[null,null,2008,null,null,null,null,null,null,null,null,null,null,null,null,null,null,null,null,null,null,null,null,null,null,null,null,null,null,null,null,null,null,null,null,null,null,null,null,0.16112676497198786,8.243175707929673E-2,8.5650084126151382E-2,0.10652678499997381,0.12123685761655523,0.12946498153388886,0.12234705054852424,0.10908201037399956,9.7649931600139794E-2,8.8399243248188153E-2,8.4318119684398729E-2,7.9165104095698657E-2,7.6019267901233478E-2,7.6983421045188072E-2,8.1581268091003079E-2,8.0606130072237381E-2,null,2007,0.14900451037279194,0.14903319720027408,0.19359551824053267,0.16796737385037264,0.14882206776546236,0.13501754512731545,0.12332061677191897,0.11527650400677669,0.11153914602400317,0.11210246839040172,0.10973353271116948,0.10797834062003653,0.10993084786383722,0.11142105988487438,0.10805270217758989,0.10805073307436053,0.10726247372626907,0.10498106870366741,0.10764499081139389,0.1099651380615414,0.10400875322113712,9.7039389074022209E-2,8.3043278838710988E-2,8.2069063458387825E-2,7.6978696267672841E-2,7.2871761854027106E-2,null,2007,{"$f":"HLOOKUP($W$7,dat,MATCH(CG49,Data!$B$3:$B$60,0),0)+1","v":1.1490045103727919},null,null,2007,{"$f":"PRODUCT(IF(($CL$13:$EK$13<=CL$13*TRANSPOSE($CK$14:$CK$65>=$CK49)),$CL$10:$EK$10,1))","v":1},{"$f":"PRODUCT(IF(($CL$13:$EK$13<=CM$13*TRANSPOSE($CK$14:$CK$65>=$CK49)),$CL$10:$EK$10,1))","v":1},{"$f":"PRODUCT(IF(($CL$13:$EK$13<=CN$13*TRANSPOSE($CK$14:$CK$65>=$CK49)),$CL$10:$EK$10,1))","v":1},{"$f":"PRODUCT(IF(($CL$13:$EK$13<=CO$13*TRANSPOSE($CK$14:$CK$65>=$CK49)),$CL$10:$EK$10,1))","v":1},{"$f":"PRODUCT(IF(($CL$13:$EK$13<=CP$13*TRANSPOSE($CK$14:$CK$65>=$CK49)),$CL$10:$EK$10,1))","v":1},{"$f":"PRODUCT(IF(($CL$13:$EK$13<=CQ$13*TRANSPOSE($CK$14:$CK$65>=$CK49)),$CL$10:$EK$10,1))","v":1},{"$f":"PRODUCT(IF(($CL$13:$EK$13<=CR$13*TRANSPOSE($CK$14:$CK$65>=$CK49)),$CL$10:$EK$10,1))","v":1},{"$f":"PRODUCT(IF(($CL$13:$EK$13<=CS$13*TRANSPOSE($CK$14:$CK$65>=$CK49)),$CL$10:$EK$10,1))","v":1},{"$f":"PRODUCT(IF(($CL$13:$EK$13<=CT$13*TRANSPOSE($CK$14:$CK$65>=$CK49)),$CL$10:$EK$10,1))","v":1},{"$f":"PRODUCT(IF(($CL$13:$EK$13<=CU$13*TRANSPOSE($CK$14:$CK$65>=$CK49)),$CL$10:$EK$10,1))","v":1},{"$f":"PRODUCT(IF(($CL$13:$EK$13<=CV$13*TRANSPOSE($CK$14:$CK$65>=$CK49)),$CL$10:$EK$10,1))","v":1},{"$f":"PRODUCT(IF(($CL$13:$EK$13<=CW$13*TRANSPOSE($CK$14:$CK$65>=$CK49)),$CL$10:$EK$10,1))","v":1},{"$f":"PRODUCT(IF(($CL$13:$EK$13<=CX$13*TRANSPOSE($CK$14:$CK$65>=$CK49)),$CL$10:$EK$10,1))","v":1},{"$f":"PRODUCT(IF(($CL$13:$EK$13<=CY$13*TRANSPOSE($CK$14:$CK$65>=$CK49)),$CL$10:$EK$10,1))","v":1},{"$f":"PRODUCT(IF(($CL$13:$EK$13<=CZ$13*TRANSPOSE($CK$14:$CK$65>=$CK49)),$CL$10:$EK$10,1))","v":1},{"$f":"PRODUCT(IF(($CL$13:$EK$13<=DA$13*TRANSPOSE($CK$14:$CK$65>=$CK49)),$CL$10:$EK$10,1))","v":1},{"$f":"PRODUCT(IF(($CL$13:$EK$13<=DB$13*TRANSPOSE($CK$14:$CK$65>=$CK49)),$CL$10:$EK$10,1))","v":1},{"$f":"PRODUCT(IF(($CL$13:$EK$13<=DC$13*TRANSPOSE($CK$14:$CK$65>=$CK49)),$CL$10:$EK$10,1))","v":1},{"$f":"PRODUCT(IF(($CL$13:$EK$13<=DD$13*TRANSPOSE($CK$14:$CK$65>=$CK49)),$CL$10:$EK$10,1))","v":1},{"$f":"PRODUCT(IF(($CL$13:$EK$13<=DE$13*TRANSPOSE($CK$14:$CK$65>=$CK49)),$CL$10:$EK$10,1))","v":1},{"$f":"PRODUCT(IF(($CL$13:$EK$13<=DF$13*TRANSPOSE($CK$14:$CK$65>=$CK49)),$CL$10:$EK$10,1))","v":1},{"$f":"PRODUCT(IF(($CL$13:$EK$13<=DG$13*TRANSPOSE($CK$14:$CK$65>=$CK49)),$CL$10:$EK$10,1))","v":1},{"$f":"PRODUCT(IF(($CL$13:$EK$13<=DH$13*TRANSPOSE($CK$14:$CK$65>=$CK49)),$CL$10:$EK$10,1))","v":1},{"$f":"PRODUCT(IF(($CL$13:$EK$13<=DI$13*TRANSPOSE($CK$14:$CK$65>=$CK49)),$CL$10:$EK$10,1))","v":1},{"$f":"PRODUCT(IF(($CL$13:$EK$13<=DJ$13*TRANSPOSE($CK$14:$CK$65>=$CK49)),$CL$10:$EK$10,1))","v":1},{"$f":"PRODUCT(IF(($CL$13:$EK$13<=DK$13*TRANSPOSE($CK$14:$CK$65>=$CK49)),$CL$10:$EK$10,1))","v":1},{"$f":"PRODUCT(IF(($CL$13:$EK$13<=DL$13*TRANSPOSE($CK$14:$CK$65>=$CK49)),$CL$10:$EK$10,1))","v":1},{"$f":"PRODUCT(IF(($CL$13:$EK$13<=DM$13*TRANSPOSE($CK$14:$CK$65>=$CK49)),$CL$10:$EK$10,1))","v":1},{"$f":"PRODUCT(IF(($CL$13:$EK$13<=DN$13*TRANSPOSE($CK$14:$CK$65>=$CK49)),$CL$10:$EK$10,1))","v":1},{"$f":"PRODUCT(IF(($CL$13:$EK$13<=DO$13*TRANSPOSE($CK$14:$CK$65>=$CK49)),$CL$10:$EK$10,1))","v":1},{"$f":"PRODUCT(IF(($CL$13:$EK$13<=DP$13*TRANSPOSE($CK$14:$CK$65>=$CK49)),$CL$10:$EK$10,1))","v":1},{"$f":"PRODUCT(IF(($CL$13:$EK$13<=DQ$13*TRANSPOSE($CK$14:$CK$65>=$CK49)),$CL$10:$EK$10,1))","v":1},{"$f":"PRODUCT(IF(($CL$13:$EK$13<=DR$13*TRANSPOSE($CK$14:$CK$65>=$CK49)),$CL$10:$EK$10,1))","v":1},{"$f":"PRODUCT(IF(($CL$13:$EK$13<=DS$13*TRANSPOSE($CK$14:$CK$65>=$CK49)),$CL$10:$EK$10,1))","v":1},{"$f":"PRODUCT(IF(($CL$13:$EK$13<=DT$13*TRANSPOSE($CK$14:$CK$65>=$CK49)),$CL$10:$EK$10,1))","v":1},{"$f":"PRODUCT(IF(($CL$13:$EK$13<=DU$13*TRANSPOSE($CK$14:$CK$65>=$CK49)),$CL$10:$EK$10,1))","v":1.1490045103727919},{"$f":"PRODUCT(IF(($CL$13:$EK$13<=DV$13*TRANSPOSE($CK$14:$CK$65>=$CK49)),$CL$10:$EK$10,1))","v":1.3341398900673829},{"$f":"PRODUCT(IF(($CL$13:$EK$13<=DW$13*TRANSPOSE($CK$14:$CK$65>=$CK49)),$CL$10:$EK$10,1))","v":1.3462409111517653},{"$f":"PRODUCT(IF(($CL$13:$EK$13<=DX$13*TRANSPOSE($CK$14:$CK$65>=$CK49)),$CL$10:$EK$10,1))","v":1.4702505297580288},{"$f":"PRODUCT(IF(($CL$13:$EK$13<=DY$13*TRANSPOSE($CK$14:$CK$65>=$CK49)),$CL$10:$EK$10,1))","v":1.722540563852925},{"$f":"PRODUCT(IF(($CL$13:$EK$13<=DZ$13*TRANSPOSE($CK$14:$CK$65>=$CK49)),$CL$10:$EK$10,1))","v":2.036144339827445},{"$f":"PRODUCT(IF(($CL$13:$EK$13<=EA$13*TRANSPOSE($CK$14:$CK$65>=$CK49)),$CL$10:$EK$10,1))","v":2.3853842964309036},{"$f":"PRODUCT(IF(($CL$13:$EK$13<=EB$13*TRANSPOSE($CK$14:$CK$65>=$CK49)),$CL$10:$EK$10,1))","v":2.5775786196822463},{"$f":"PRODUCT(IF(($CL$13:$EK$13<=EC$13*TRANSPOSE($CK$14:$CK$65>=$CK49)),$CL$10:$EK$10,1))","v":2.6304558762313635},{"$f":"PRODUCT(IF(($CL$13:$EK$13<=ED$13*TRANSPOSE($CK$14:$CK$65>=$CK49)),$CL$10:$EK$10,1))","v":2.6576416757882506},{"$f":"PRODUCT(IF(($CL$13:$EK$13<=EE$13*TRANSPOSE($CK$14:$CK$65>=$CK49)),$CL$10:$EK$10,1))","v":2.6804273766804183},{"$f":"PRODUCT(IF(($CL$13:$EK$13<=EF$13*TRANSPOSE($CK$14:$CK$65>=$CK49)),$CL$10:$EK$10,1))","v":2.7992752257255908},{"$f":"PRODUCT(IF(($CL$13:$EK$13<=EG$13*TRANSPOSE($CK$14:$CK$65>=$CK49)),$CL$10:$EK$10,1))","v":2.8666617781893966},{"$f":"PRODUCT(IF(($CL$13:$EK$13<=EH$13*TRANSPOSE($CK$14:$CK$65>=$CK49)),$CL$10:$EK$10,1))","v":2.978395448764128},{"$f":"PRODUCT(IF(($CL$13:$EK$13<=EI$13*TRANSPOSE($CK$14:$CK$65>=$CK49)),$CL$10:$EK$10,1))","v":3.2452486931593332},{"$f":"PRODUCT(IF(($CL$13:$EK$13<=EJ$13*TRANSPOSE($CK$14:$CK$65>=$CK49)),$CL$10:$EK$10,1))","v":3.7257103667818234},{"$f":"PRODUCT(IF(($CL$13:$EK$13<=EK$13*TRANSPOSE($CK$14:$CK$65>=$CK49)),$CL$10:$EK$10,1))","v":3.9719206489721857}]
[null,null,2009,null,null,null,null,null,null,null,null,null,null,null,null,null,null,null,null,null,null,null,null,null,null,null,null,null,null,null,null,null,null,null,null,null,null,null,null,null,9.0702790423058399E-3,4.9772006349030118E-2,8.8903422349819961E-2,0.11148037252780307,0.12323699059047977,0.11601087135810606,0.10183996751722746,8.9963317273662691E-2,8.0604978186262111E-2,7.6922431530639823E-2,7.2007281151928559E-2,6.9215097655150215E-2,7.0769256484370713E-2,7.6112545084701999E-2,7.5441058148296047E-2,null,2008,0.16112676497198786,0.15504973488910112,0.15305032582955835,0.18539418805626062,0.166596035611835,0.15086375786453599,0.13871117743513195,0.12797823050489887,0.12028023336904559,0.11640108425369733,0.11647234785095373,0.1139279979572474,0.11197885650424677,0.11351163286423405,0.11466754454993811,0.11129757934594431,0.11110458306469351,0.11018828456836038,0.10786724321300767,0.11025960808875857,0.11234948364279673,0.10654299929281064,9.9750790109522702E-2,8.6189384974341143E-2,8.5125493839723454E-2,8.0099457920255634E-2,null,2008,{"$f":"HLOOKUP($W$7,dat,MATCH(CG50,Data!$B$3:$B$60,0),0)+1","v":1.1611267649719879},null,null,2008,{"$f":"PRODUCT(IF(($CL$13:$EK$13<=CL$13*TRANSPOSE($CK$14:$CK$65>=$CK50)),$CL$10:$EK$10,1))","v":1},{"$f":"PRODUCT(IF(($CL$13:$EK$13<=CM$13*TRANSPOSE($CK$14:$CK$65>=$CK50)),$CL$10:$EK$10,1))","v":1},{"$f":"PRODUCT(IF(($CL$13:$EK$13<=CN$13*TRANSPOSE($CK$14:$CK$65>=$CK50)),$CL$10:$EK$10,1))","v":1},{"$f":"PRODUCT(IF(($CL$13:$EK$13<=CO$13*TRANSPOSE($CK$14:$CK$65>=$CK50)),$CL$10:$EK$10,1))","v":1},{"$f":"PRODUCT(IF(($CL$13:$EK$13<=CP$13*TRANSPOSE($CK$14:$CK$65>=$CK50)),$CL$10:$EK$10,1))","v":1},{"$f":"PRODUCT(IF(($CL$13:$EK$13<=CQ$13*TRANSPOSE($CK$14:$CK$65>=$CK50)),$CL$10:$EK$10,1))","v":1},{"$f":"PRODUCT(IF(($CL$13:$EK$13<=CR$13*TRANSPOSE($CK$14:$CK$65>=$CK50)),$CL$10:$EK$10,1))","v":1},{"$f":"PRODUCT(IF(($CL$13:$EK$13<=CS$13*TRANSPOSE($CK$14:$CK$65>=$CK50)),$CL$10:$EK$10,1))","v":1},{"$f":"PRODUCT(IF(($CL$13:$EK$13<=CT$13*TRANSPOSE($CK$14:$CK$65>=$CK50)),$CL$10:$EK$10,1))","v":1},{"$f":"PRODUCT(IF(($CL$13:$EK$13<=CU$13*TRANSPOSE($CK$14:$CK$65>=$CK50)),$CL$10:$EK$10,1))","v":1},{"$f":"PRODUCT(IF(($CL$13:$EK$13<=CV$13*TRANSPOSE($CK$14:$CK$65>=$CK50)),$CL$10:$EK$10,1))","v":1},{"$f":"PRODUCT(IF(($CL$13:$EK$13<=CW$13*TRANSPOSE($CK$14:$CK$65>=$CK50)),$CL$10:$EK$10,1))","v":1},{"$f":"PRODUCT(IF(($CL$13:$EK$13<=CX$13*TRANSPOSE($CK$14:$CK$65>=$CK50)),$CL$10:$EK$10,1))","v":1},{"$f":"PRODUCT(IF(($CL$13:$EK$13<=CY$13*TRANSPOSE($CK$14:$CK$65>=$CK50)),$CL$10:$EK$10,1))","v":1},{"$f":"PRODUCT(IF(($CL$13:$EK$13<=CZ$13*TRANSPOSE($CK$14:$CK$65>=$CK50)),$CL$10:$EK$10,1))","v":1},{"$f":"PRODUCT(IF(($CL$13:$EK$13<=DA$13*TRANSPOSE($CK$14:$CK$65>=$CK50)),$CL$10:$EK$10,1))","v":1},{"$f":"PRODUCT(IF(($CL$13:$EK$13<=DB$13*TRANSPOSE($CK$14:$CK$65>=$CK50)),$CL$10:$EK$10,1))","v":1},{"$f":"PRODUCT(IF(($CL$13:$EK$13<=DC$13*TRANSPOSE($CK$14:$CK$65>=$CK50)),$CL$10:$EK$10,1))","v":1},{"$f":"PRODUCT(IF(($CL$13:$EK$13<=DD$13*TRANSPOSE($CK$14:$CK$65>=$CK50)),$CL$10:$EK$10,1))","v":1},{"$f":"PRODUCT(IF(($CL$13:$EK$13<=DE$13*TRANSPOSE($CK$14:$CK$65>=$CK50)),$CL$10:$EK$10,1))","v":1},{"$f":"PRODUCT(IF(($CL$13:$EK$13<=DF$13*TRANSPOSE($CK$14:$CK$65>=$CK50)),$CL$10:$EK$10,1))","v":1},{"$f":"PRODUCT(IF(($CL$13:$EK$13<=DG$13*TRANSPOSE($CK$14:$CK$65>=$CK50)),$CL$10:$EK$10,1))","v":1},{"$f":"PRODUCT(IF(($CL$13:$EK$13<=DH$13*TRANSPOSE($CK$14:$CK$65>=$CK50)),$CL$10:$EK$10,1))","v":1},{"$f":"PRODUCT(IF(($CL$13:$EK$13<=DI$13*TRANSPOSE($CK$14:$CK$65>=$CK50)),$CL$10:$EK$10,1))","v":1},{"$f":"PRODUCT(IF(($CL$13:$EK$13<=DJ$13*TRANSPOSE($CK$14:$CK$65>=$CK50)),$CL$10:$EK$10,1))","v":1},{"$f":"PRODUCT(IF(($CL$13:$EK$13<=DK$13*TRANSPOSE($CK$14:$CK$65>=$CK50)),$CL$10:$EK$10,1))","v":1},{"$f":"PRODUCT(IF(($CL$13:$EK$13<=DL$13*TRANSPOSE($CK$14:$CK$65>=$CK50)),$CL$10:$EK$10,1))","v":1},{"$f":"PRODUCT(IF(($CL$13:$EK$13<=DM$13*TRANSPOSE($CK$14:$CK$65>=$CK50)),$CL$10:$EK$10,1))","v":1},{"$f":"PRODUCT(IF(($CL$13:$EK$13<=DN$13*TRANSPOSE($CK$14:$CK$65>=$CK50)),$CL$10:$EK$10,1))","v":1},{"$f":"PRODUCT(IF(($CL$13:$EK$13<=DO$13*TRANSPOSE($CK$14:$CK$65>=$CK50)),$CL$10:$EK$10,1))","v":1},{"$f":"PRODUCT(IF(($CL$13:$EK$13<=DP$13*TRANSPOSE($CK$14:$CK$65>=$CK50)),$CL$10:$EK$10,1))","v":1},{"$f":"PRODUCT(IF(($CL$13:$EK$13<=DQ$13*TRANSPOSE($CK$14:$CK$65>=$CK50)),$CL$10:$EK$10,1))","v":1},{"$f":"PRODUCT(IF(($CL$13:$EK$13<=DR$13*TRANSPOSE($CK$14:$CK$65>=$CK50)),$CL$10:$EK$10,1))","v":1},{"$f":"PRODUCT(IF(($CL$13:$EK$13<=DS$13*TRANSPOSE($CK$14:$CK$65>=$CK50)),$CL$10:$EK$10,1))","v":1},{"$f":"PRODUCT(IF(($CL$13:$EK$13<=DT$13*TRANSPOSE($CK$14:$CK$65>=$CK50)),$CL$10:$EK$10,1))","v":1},{"$f":"PRODUCT(IF(($CL$13:$EK$13<=DU$13*TRANSPOSE($CK$14:$CK$65>=$CK50)),$CL$10:$EK$10,1))","v":1},{"$f":"PRODUCT(IF(($CL$13:$EK$13<=DV$13*TRANSPOSE($CK$14:$CK$65>=$CK50)),$CL$10:$EK$10,1))","v":1.1611267649719879},{"$f":"PRODUCT(IF(($CL$13:$EK$13<=DW$13*TRANSPOSE($CK$14:$CK$65>=$CK50)),$CL$10:$EK$10,1))","v":1.1716585087337736},{"$f":"PRODUCT(IF(($CL$13:$EK$13<=DX$13*TRANSPOSE($CK$14:$CK$65>=$CK50)),$CL$10:$EK$10,1))","v":1.2795863867244606},{"$f":"PRODUCT(IF(($CL$13:$EK$13<=DY$13*TRANSPOSE($CK$14:$CK$65>=$CK50)),$CL$10:$EK$10,1))","v":1.4991590966810484},{"$f":"PRODUCT(IF(($CL$13:$EK$13<=DZ$13*TRANSPOSE($CK$14:$CK$65>=$CK50)),$CL$10:$EK$10,1))","v":1.7720942967985589},{"$f":"PRODUCT(IF(($CL$13:$EK$13<=EA$13*TRANSPOSE($CK$14:$CK$65>=$CK50)),$CL$10:$EK$10,1))","v":2.0760443278477396},{"$f":"PRODUCT(IF(($CL$13:$EK$13<=EB$13*TRANSPOSE($CK$14:$CK$65>=$CK50)),$CL$10:$EK$10,1))","v":2.2433146227128011},{"$f":"PRODUCT(IF(($CL$13:$EK$13<=EC$13*TRANSPOSE($CK$14:$CK$65>=$CK50)),$CL$10:$EK$10,1))","v":2.2893346827489109},{"$f":"PRODUCT(IF(($CL$13:$EK$13<=ED$13*TRANSPOSE($CK$14:$CK$65>=$CK50)),$CL$10:$EK$10,1))","v":2.3129949898334035},{"$f":"PRODUCT(IF(($CL$13:$EK$13<=EE$13*TRANSPOSE($CK$14:$CK$65>=$CK50)),$CL$10:$EK$10,1))","v":2.332825809196136},{"$f":"PRODUCT(IF(($CL$13:$EK$13<=EF$13*TRANSPOSE($CK$14:$CK$65>=$CK50)),$CL$10:$EK$10,1))","v":2.4362613031147915},{"$f":"PRODUCT(IF(($CL$13:$EK$13<=EG$13*TRANSPOSE($CK$14:$CK$65>=$CK50)),$CL$10:$EK$10,1))","v":2.4949090732979933},{"$f":"PRODUCT(IF(($CL$13:$EK$13<=EH$13*TRANSPOSE($CK$14:$CK$65>=$CK50)),$CL$10:$EK$10,1))","v":2.592152965350671},{"$f":"PRODUCT(IF(($CL$13:$EK$13<=EI$13*TRANSPOSE($CK$14:$CK$65>=$CK50)),$CL$10:$EK$10,1))","v":2.8244003081471107},{"$f":"PRODUCT(IF(($CL$13:$EK$13<=EJ$13*TRANSPOSE($CK$14:$CK$65>=$CK50)),$CL$10:$EK$10,1))","v":3.2425550406003416},{"$f":"PRODUCT(IF(($CL$13:$EK$13<=EK$13*TRANSPOSE($CK$14:$CK$65>=$CK50)),$CL$10:$EK$10,1))","v":3.4568364293744205}]
[null,null,2010,null,null,null,null,null,null,null,null,null,null,null,null,null,null,null,null,null,null,null,null,null,null,null,null,null,null,null,null,null,null,null,null,null,null,null,null,null,null,{"$f":"IF(DX52=1,\"\",DX52^(1/(DX$13-$CK52+1))-1)","v":9.2115473225492961E-2},0.13115817040157407,0.14787674894714264,0.15374250537031187,0.13872230424077481,0.11811044922991631,0.10203714875415271,8.9896248186801753E-2,8.4737757607114439E-2,7.8512957457712806E-2,7.485744880492895E-2,7.6078034976336362E-2,8.1450482956257675E-2,8.0345577690282388E-2,null,2009,9.0702790423058399E-3,8.243175707929673E-2,0.10418267362898992,0.11523541128675374,0.14782192946584738,0.13872970367379067,0.12944845048671905,0.12163631658916363,0.11410273374544389,0.10862877657649617,0.10618928254324023,0.10710146335267789,0.10548886695046811,0.1042922425081938,0.10622432039316299,0.10775535913370859,0.10500727121338538,0.10517449625022435,0.10462211431830015,0.10270515855028939,0.10521864006546511,0.1074334272996853,0.10211554035327475,9.5814593463061648E-2,8.2994344386867258E-2,8.2096958652536411E-2,null,2009,{"$f":"HLOOKUP($W$7,dat,MATCH(CG51,Data!$B$3:$B$60,0),0)+1","v":1.0090702790423058},null,null,2009,{"$f":"PRODUCT(IF(($CL$13:$EK$13<=CL$13*TRANSPOSE($CK$14:$CK$65>=$CK51)),$CL$10:$EK$10,1))","v":1},{"$f":"PRODUCT(IF(($CL$13:$EK$13<=CM$13*TRANSPOSE($CK$14:$CK$65>=$CK51)),$CL$10:$EK$10,1))","v":1},{"$f":"PRODUCT(IF(($CL$13:$EK$13<=CN$13*TRANSPOSE($CK$14:$CK$65>=$CK51)),$CL$10:$EK$10,1))","v":1},{"$f":"PRODUCT(IF(($CL$13:$EK$13<=CO$13*TRANSPOSE($CK$14:$CK$65>=$CK51)),$CL$10:$EK$10,1))","v":1},{"$f":"PRODUCT(IF(($CL$13:$EK$13<=CP$13*TRANSPOSE($CK$14:$CK$65>=$CK51)),$CL$10:$EK$10,1))","v":1},{"$f":"PRODUCT(IF(($CL$13:$EK$13<=CQ$13*TRANSPOSE($CK$14:$CK$65>=$CK51)),$CL$10:$EK$10,1))","v":1},{"$f":"PRODUCT(IF(($CL$13:$EK$13<=CR$13*TRANSPOSE($CK$14:$CK$65>=$CK51)),$CL$10:$EK$10,1))","v":1},{"$f":"PRODUCT(IF(($CL$13:$EK$13<=CS$13*TRANSPOSE($CK$14:$CK$65>=$CK51)),$CL$10:$EK$10,1))","v":1},{"$f":"PRODUCT(IF(($CL$13:$EK$13<=CT$13*TRANSPOSE($CK$14:$CK$65>=$CK51)),$CL$10:$EK$10,1))","v":1},{"$f":"PRODUCT(IF(($CL$13:$EK$13<=CU$13*TRANSPOSE($CK$14:$CK$65>=$CK51)),$CL$10:$EK$10,1))","v":1},{"$f":"PRODUCT(IF(($CL$13:$EK$13<=CV$13*TRANSPOSE($CK$14:$CK$65>=$CK51)),$CL$10:$EK$10,1))","v":1},{"$f":"PRODUCT(IF(($CL$13:$EK$13<=CW$13*TRANSPOSE($CK$14:$CK$65>=$CK51)),$CL$10:$EK$10,1))","v":1},{"$f":"PRODUCT(IF(($CL$13:$EK$13<=CX$13*TRANSPOSE($CK$14:$CK$65>=$CK51)),$CL$10:$EK$10,1))","v":1},{"$f":"PRODUCT(IF(($CL$13:$EK$13<=CY$13*TRANSPOSE($CK$14:$CK$65>=$CK51)),$CL$10:$EK$10,1))","v":1},{"$f":"PRODUCT(IF(($CL$13:$EK$13<=CZ$13*TRANSPOSE($CK$14:$CK$65>=$CK51)),$CL$10:$EK$10,1))","v":1},{"$f":"PRODUCT(IF(($CL$13:$EK$13<=DA$13*TRANSPOSE($CK$14:$CK$65>=$CK51)),$CL$10:$EK$10,1))","v":1},{"$f":"PRODUCT(IF(($CL$13:$EK$13<=DB$13*TRANSPOSE($CK$14:$CK$65>=$CK51)),$CL$10:$EK$10,1))","v":1},{"$f":"PRODUCT(IF(($CL$13:$EK$13<=DC$13*TRANSPOSE($CK$14:$CK$65>=$CK51)),$CL$10:$EK$10,1))","v":1},{"$f":"PRODUCT(IF(($CL$13:$EK$13<=DD$13*TRANSPOSE($CK$14:$CK$65>=$CK51)),$CL$10:$EK$10,1))","v":1},{"$f":"PRODUCT(IF(($CL$13:$EK$13<=DE$13*TRANSPOSE($CK$14:$CK$65>=$CK51)),$CL$10:$EK$10,1))","v":1},{"$f":"PRODUCT(IF(($CL$13:$EK$13<=DF$13*TRANSPOSE($CK$14:$CK$65>=$CK51)),$CL$10:$EK$10,1))","v":1},{"$f":"PRODUCT(IF(($CL$13:$EK$13<=DG$13*TRANSPOSE($CK$14:$CK$65>=$CK51)),$CL$10:$EK$10,1))","v":1},{"$f":"PRODUCT(IF(($CL$13:$EK$13<=DH$13*TRANSPOSE($CK$14:$CK$65>=$CK51)),$CL$10:$EK$10,1))","v":1},{"$f":"PRODUCT(IF(($CL$13:$EK$13<=DI$13*TRANSPOSE($CK$14:$CK$65>=$CK51)),$CL$10:$EK$10,1))","v":1},{"$f":"PRODUCT(IF(($CL$13:$EK$13<=DJ$13*TRANSPOSE($CK$14:$CK$65>=$CK51)),$CL$10:$EK$10,1))","v":1},{"$f":"PRODUCT(IF(($CL$13:$EK$13<=DK$13*TRANSPOSE($CK$14:$CK$65>=$CK51)),$CL$10:$EK$10,1))","v":1},{"$f":"PRODUCT(IF(($CL$13:$EK$13<=DL$13*TRANSPOSE($CK$14:$CK$65>=$CK51)),$CL$10:$EK$10,1))","v":1},{"$f":"PRODUCT(IF(($CL$13:$EK$13<=DM$13*TRANSPOSE($CK$14:$CK$65>=$CK51)),$CL$10:$EK$10,1))","v":1},{"$f":"PRODUCT(IF(($CL$13:$EK$13<=DN$13*TRANSPOSE($CK$14:$CK$65>=$CK51)),$CL$10:$EK$10,1))","v":1},{"$f":"PRODUCT(IF(($CL$13:$EK$13<=DO$13*TRANSPOSE($CK$14:$CK$65>=$CK51)),$CL$10:$EK$10,1))","v":1},{"$f":"PRODUCT(IF(($CL$13:$EK$13<=DP$13*TRANSPOSE($CK$14:$CK$65>=$CK51)),$CL$10:$EK$10,1))","v":1},{"$f":"PRODUCT(IF(($CL$13:$EK$13<=DQ$13*TRANSPOSE($CK$14:$CK$65>=$CK51)),$CL$10:$EK$10,1))","v":1},{"$f":"PRODUCT(IF(($CL$13:$EK$13<=DR$13*TRANSPOSE($CK$14:$CK$65>=$CK51)),$CL$10:$EK$10,1))","v":1},{"$f":"PRODUCT(IF(($CL$13:$EK$13<=DS$13*TRANSPOSE($CK$14:$CK$65>=$CK51)),$CL$10:$EK$10,1))","v":1},{"$f":"PRODUCT(IF(($CL$13:$EK$13<=DT$13*TRANSPOSE($CK$14:$CK$65>=$CK51)),$CL$10:$EK$10,1))","v":1},{"$f":"PRODUCT(IF(($CL$13:$EK$13<=DU$13*TRANSPOSE($CK$14:$CK$65>=$CK51)),$CL$10:$EK$10,1))","v":1},{"$f":"PRODUCT(IF(($CL$13:$EK$13<=DV$13*TRANSPOSE($CK$14:$CK$65>=$CK51)),$CL$10:$EK$10,1))","v":1},{"$f":"PRODUCT(IF(($CL$13:$EK$13<=DW$13*TRANSPOSE($CK$14:$CK$65>=$CK51)),$CL$10:$EK$10,1))","v":1.0090702790423058},{"$f":"PRODUCT(IF(($CL$13:$EK$13<=DX$13*TRANSPOSE($CK$14:$CK$65>=$CK51)),$CL$10:$EK$10,1))","v":1.102021265314068},{"$f":"PRODUCT(IF(($CL$13:$EK$13<=DY$13*TRANSPOSE($CK$14:$CK$65>=$CK51)),$CL$10:$EK$10,1))","v":1.291124399080763},{"$f":"PRODUCT(IF(($CL$13:$EK$13<=DZ$13*TRANSPOSE($CK$14:$CK$65>=$CK51)),$CL$10:$EK$10,1))","v":1.5261850387552736},{"$f":"PRODUCT(IF(($CL$13:$EK$13<=EA$13*TRANSPOSE($CK$14:$CK$65>=$CK51)),$CL$10:$EK$10,1))","v":1.7879566559623865},{"$f":"PRODUCT(IF(($CL$13:$EK$13<=EB$13*TRANSPOSE($CK$14:$CK$65>=$CK51)),$CL$10:$EK$10,1))","v":1.9320152548261351},{"$f":"PRODUCT(IF(($CL$13:$EK$13<=EC$13*TRANSPOSE($CK$14:$CK$65>=$CK51)),$CL$10:$EK$10,1))","v":1.9716492219556587},{"$f":"PRODUCT(IF(($CL$13:$EK$13<=ED$13*TRANSPOSE($CK$14:$CK$65>=$CK51)),$CL$10:$EK$10,1))","v":1.9920262452043331},{"$f":"PRODUCT(IF(($CL$13:$EK$13<=EE$13*TRANSPOSE($CK$14:$CK$65>=$CK51)),$CL$10:$EK$10,1))","v":2.0091051895202976},{"$f":"PRODUCT(IF(($CL$13:$EK$13<=EF$13*TRANSPOSE($CK$14:$CK$65>=$CK51)),$CL$10:$EK$10,1))","v":2.0981871890392312},{"$f":"PRODUCT(IF(($CL$13:$EK$13<=EG$13*TRANSPOSE($CK$14:$CK$65>=$CK51)),$CL$10:$EK$10,1))","v":2.1486965493885437},{"$f":"PRODUCT(IF(($CL$13:$EK$13<=EH$13*TRANSPOSE($CK$14:$CK$65>=$CK51)),$CL$10:$EK$10,1))","v":2.2324461407219447},{"$f":"PRODUCT(IF(($CL$13:$EK$13<=EI$13*TRANSPOSE($CK$14:$CK$65>=$CK51)),$CL$10:$EK$10,1))","v":2.432465079052113},{"$f":"PRODUCT(IF(($CL$13:$EK$13<=EJ$13*TRANSPOSE($CK$14:$CK$65>=$CK51)),$CL$10:$EK$10,1))","v":2.7925934862750048},{"$f":"PRODUCT(IF(($CL$13:$EK$13<=EK$13*TRANSPOSE($CK$14:$CK$65>=$CK51)),$CL$10:$EK$10,1))","v":2.9771395627572295}]
[null,null,2011,null,null,null,null,null,null,null,null,null,null,null,null,null,null,null,null,null,null,null,null,null,null,null,null,null,null,null,null,null,null,null,null,null,null,null,null,null,null,null,0.17159662859391567,0.17681611916006834,0.17504816990656979,0.15068153506088366,0.12338322728722395,0.10369950260594107,8.9579584379658961E-2,8.3819054434147944E-2,7.7012063791397356E-2,7.3146717492737601E-2,7.4631816346904412E-2,8.0566449001338025E-2,7.944547259879764E-2,null,2010,9.2115473225492961E-2,4.9772006349030118E-2,8.5650084126151382E-2,0.10115343055699877,0.11057259575466527,0.13834400547041659,0.13195065146259277,0.12471291522691397,0.11831720571557702,0.11188423335053765,0.10711730574118827,0.10500956996536392,0.10594142984975963,0.1045282172410722,0.10347625066284794,0.10533720178327588,0.10682919696654092,0.10428708431190259,0.10448330244981885,0.10399339427136778,0.10219856725845089,0.10461964516841382,0.10676298338124868,0.10169704852161954,9.5666388372135147E-2,8.3343744330977465E-2,null,2010,{"$f":"HLOOKUP($W$7,dat,MATCH(CG52,Data!$B$3:$B$60,0),0)+1","v":1.092115473225493},null,null,2010,{"$f":"PRODUCT(IF(($CL$13:$EK$13<=CL$13*TRANSPOSE($CK$14:$CK$65>=$CK52)),$CL$10:$EK$10,1))","v":1},{"$f":"PRODUCT(IF(($CL$13:$EK$13<=CM$13*TRANSPOSE($CK$14:$CK$65>=$CK52)),$CL$10:$EK$10,1))","v":1},{"$f":"PRODUCT(IF(($CL$13:$EK$13<=CN$13*TRANSPOSE($CK$14:$CK$65>=$CK52)),$CL$10:$EK$10,1))","v":1},{"$f":"PRODUCT(IF(($CL$13:$EK$13<=CO$13*TRANSPOSE($CK$14:$CK$65>=$CK52)),$CL$10:$EK$10,1))","v":1},{"$f":"PRODUCT(IF(($CL$13:$EK$13<=CP$13*TRANSPOSE($CK$14:$CK$65>=$CK52)),$CL$10:$EK$10,1))","v":1},{"$f":"PRODUCT(IF(($CL$13:$EK$13<=CQ$13*TRANSPOSE($CK$14:$CK$65>=$CK52)),$CL$10:$EK$10,1))","v":1},{"$f":"PRODUCT(IF(($CL$13:$EK$13<=CR$13*TRANSPOSE($CK$14:$CK$65>=$CK52)),$CL$10:$EK$10,1))","v":1},{"$f":"PRODUCT(IF(($CL$13:$EK$13<=CS$13*TRANSPOSE($CK$14:$CK$65>=$CK52)),$CL$10:$EK$10,1))","v":1},{"$f":"PRODUCT(IF(($CL$13:$EK$13<=CT$13*TRANSPOSE($CK$14:$CK$65>=$CK52)),$CL$10:$EK$10,1))","v":1},{"$f":"PRODUCT(IF(($CL$13:$EK$13<=CU$13*TRANSPOSE($CK$14:$CK$65>=$CK52)),$CL$10:$EK$10,1))","v":1},{"$f":"PRODUCT(IF(($CL$13:$EK$13<=CV$13*TRANSPOSE($CK$14:$CK$65>=$CK52)),$CL$10:$EK$10,1))","v":1},{"$f":"PRODUCT(IF(($CL$13:$EK$13<=CW$13*TRANSPOSE($CK$14:$CK$65>=$CK52)),$CL$10:$EK$10,1))","v":1},{"$f":"PRODUCT(IF(($CL$13:$EK$13<=CX$13*TRANSPOSE($CK$14:$CK$65>=$CK52)),$CL$10:$EK$10,1))","v":1},{"$f":"PRODUCT(IF(($CL$13:$EK$13<=CY$13*TRANSPOSE($CK$14:$CK$65>=$CK52)),$CL$10:$EK$10,1))","v":1},{"$f":"PRODUCT(IF(($CL$13:$EK$13<=CZ$13*TRANSPOSE($CK$14:$CK$65>=$CK52)),$CL$10:$EK$10,1))","v":1},{"$f":"PRODUCT(IF(($CL$13:$EK$13<=DA$13*TRANSPOSE($CK$14:$CK$65>=$CK52)),$CL$10:$EK$10,1))","v":1},{"$f":"PRODUCT(IF(($CL$13:$EK$13<=DB$13*TRANSPOSE($CK$14:$CK$65>=$CK52)),$CL$10:$EK$10,1))","v":1},{"$f":"PRODUCT(IF(($CL$13:$EK$13<=DC$13*TRANSPOSE($CK$14:$CK$65>=$CK52)),$CL$10:$EK$10,1))","v":1},{"$f":"PRODUCT(IF(($CL$13:$EK$13<=DD$13*TRANSPOSE($CK$14:$CK$65>=$CK52)),$CL$10:$EK$10,1))","v":1},{"$f":"PRODUCT(IF(($CL$13:$EK$13<=DE$13*TRANSPOSE($CK$14:$CK$65>=$CK52)),$CL$10:$EK$10,1))","v":1},{"$f":"PRODUCT(IF(($CL$13:$EK$13<=DF$13*TRANSPOSE($CK$14:$CK$65>=$CK52)),$CL$10:$EK$10,1))","v":1},{"$f":"PRODUCT(IF(($CL$13:$EK$13<=DG$13*TRANSPOSE($CK$14:$CK$65>=$CK52)),$CL$10:$EK$10,1))","v":1},{"$f":"PRODUCT(IF(($CL$13:$EK$13<=DH$13*TRANSPOSE($CK$14:$CK$65>=$CK52)),$CL$10:$EK$10,1))","v":1},{"$f":"PRODUCT(IF(($CL$13:$EK$13<=DI$13*TRANSPOSE($CK$14:$CK$65>=$CK52)),$CL$10:$EK$10,1))","v":1},{"$f":"PRODUCT(IF(($CL$13:$EK$13<=DJ$13*TRANSPOSE($CK$14:$CK$65>=$CK52)),$CL$10:$EK$10,1))","v":1},{"$f":"PRODUCT(IF(($CL$13:$EK$13<=DK$13*TRANSPOSE($CK$14:$CK$65>=$CK52)),$CL$10:$EK$10,1))","v":1},{"$f":"PRODUCT(IF(($CL$13:$EK$13<=DL$13*TRANSPOSE($CK$14:$CK$65>=$CK52)),$CL$10:$EK$10,1))","v":1},{"$f":"PRODUCT(IF(($CL$13:$EK$13<=DM$13*TRANSPOSE($CK$14:$CK$65>=$CK52)),$CL$10:$EK$10,1))","v":1},{"$f":"PRODUCT(IF(($CL$13:$EK$13<=DN$13*TRANSPOSE($CK$14:$CK$65>=$CK52)),$CL$10:$EK$10,1))","v":1},{"$f":"PRODUCT(IF(($CL$13:$EK$13<=DO$13*TRANSPOSE($CK$14:$CK$65>=$CK52)),$CL$10:$EK$10,1))","v":1},{"$f":"PRODUCT(IF(($CL$13:$EK$13<=DP$13*TRANSPOSE($CK$14:$CK$65>=$CK52)),$CL$10:$EK$10,1))","v":1},{"$f":"PRODUCT(IF(($CL$13:$EK$13<=DQ$13*TRANSPOSE($CK$14:$CK$65>=$CK52)),$CL$10:$EK$10,1))","v":1},{"$f":"PRODUCT(IF(($CL$13:$EK$13<=DR$13*TRANSPOSE($CK$14:$CK$65>=$CK52)),$CL$10:$EK$10,1))","v":1},{"$f":"PRODUCT(IF(($CL$13:$EK$13<=DS$13*TRANSPOSE($CK$14:$CK$65>=$CK52)),$CL$10:$EK$10,1))","v":1},{"$f":"PRODUCT(IF(($CL$13:$EK$13<=DT$13*TRANSPOSE($CK$14:$CK$65>=$CK52)),$CL$10:$EK$10,1))","v":1},{"$f":"PRODUCT(IF(($CL$13:$EK$13<=DU$13*TRANSPOSE($CK$14:$CK$65>=$CK52)),$CL$10:$EK$10,1))","v":1},{"$f":"PRODUCT(IF(($CL$13:$EK$13<=DV$13*TRANSPOSE($CK$14:$CK$65>=$CK52)),$CL$10:$EK$10,1))","v":1},{"$f":"PRODUCT(IF(($CL$13:$EK$13<=DW$13*TRANSPOSE($CK$14:$CK$65>=$CK52)),$CL$10:$EK$10,1))","v":1},{"$f":"PRODUCT(IF(($CL$13:$EK$13<=DX$13*TRANSPOSE($CK$14:$CK$65>=$CK52)),$CL$10:$EK$10,1))","v":1.092115473225493},{"$f":"PRODUCT(IF(($CL$13:$EK$13<=DY$13*TRANSPOSE($CK$14:$CK$65>=$CK52)),$CL$10:$EK$10,1))","v":1.2795188064662364},{"$f":"PRODUCT(IF(($CL$13:$EK$13<=DZ$13*TRANSPOSE($CK$14:$CK$65>=$CK52)),$CL$10:$EK$10,1))","v":1.5124665451486237},{"$f":"PRODUCT(IF(($CL$13:$EK$13<=EA$13*TRANSPOSE($CK$14:$CK$65>=$CK52)),$CL$10:$EK$10,1))","v":1.7718851631021291},{"$f":"PRODUCT(IF(($CL$13:$EK$13<=EB$13*TRANSPOSE($CK$14:$CK$65>=$CK52)),$CL$10:$EK$10,1))","v":1.9146488554392698},{"$f":"PRODUCT(IF(($CL$13:$EK$13<=EC$13*TRANSPOSE($CK$14:$CK$65>=$CK52)),$CL$10:$EK$10,1))","v":1.9539265628028637},{"$f":"PRODUCT(IF(($CL$13:$EK$13<=ED$13*TRANSPOSE($CK$14:$CK$65>=$CK52)),$CL$10:$EK$10,1))","v":1.9741204221126574},{"$f":"PRODUCT(IF(($CL$13:$EK$13<=EE$13*TRANSPOSE($CK$14:$CK$65>=$CK52)),$CL$10:$EK$10,1))","v":1.9910458480920785},{"$f":"PRODUCT(IF(($CL$13:$EK$13<=EF$13*TRANSPOSE($CK$14:$CK$65>=$CK52)),$CL$10:$EK$10,1))","v":2.0793271119139405},{"$f":"PRODUCT(IF(($CL$13:$EK$13<=EG$13*TRANSPOSE($CK$14:$CK$65>=$CK52)),$CL$10:$EK$10,1))","v":2.1293824563219141},{"$f":"PRODUCT(IF(($CL$13:$EK$13<=EH$13*TRANSPOSE($CK$14:$CK$65>=$CK52)),$CL$10:$EK$10,1))","v":2.2123792436347722},{"$f":"PRODUCT(IF(($CL$13:$EK$13<=EI$13*TRANSPOSE($CK$14:$CK$65>=$CK52)),$CL$10:$EK$10,1))","v":2.4106002620161711},{"$f":"PRODUCT(IF(($CL$13:$EK$13<=EJ$13*TRANSPOSE($CK$14:$CK$65>=$CK52)),$CL$10:$EK$10,1))","v":2.7674915655284344},{"$f":"PRODUCT(IF(($CL$13:$EK$13<=EK$13*TRANSPOSE($CK$14:$CK$65>=$CK52)),$CL$10:$EK$10,1))","v":2.9503788037269225}]
[null,null,2012,null,null,null,null,null,null,null,null,null,null,null,null,null,null,null,null,null,null,null,null,null,null,null,null,null,null,null,null,null,null,null,null,null,null,null,null,null,null,null,null,0.18205886267958826,0.17677775180247401,0.14379314035194324,0.11164313635233136,9.0599749360145809E-2,7.6479501975704745E-2,7.182816055739516E-2,6.5739039212826311E-2,6.2731750158900423E-2,6.5388127041323241E-2,7.2650274902940959E-2,7.2101553901749771E-2,null,2011,0.17159662859391567,0.13115817040157407,8.8903422349819961E-2,0.10652678499997381,0.1148948043725373,0.12051793646392883,0.14303596292427057,0.13683208222301468,0.12982816478176495,0.12353425342185975,0.11718448011557747,0.11235227042133711,0.10999446756509923,0.11050655529512676,0.10887749242481837,0.10761527329670395,0.10912895096183162,0.11033157580480113,0.10773128168372681,0.10774577564506949,0.1071223048393799,0.10526194733840533,0.10745043909497043,0.10939133815981794,0.1044112529053205,9.849367624569938E-2,null,2011,{"$f":"HLOOKUP($W$7,dat,MATCH(CG53,Data!$B$3:$B$60,0),0)+1","v":1.1715966285939157},null,null,2011,{"$f":"PRODUCT(IF(($CL$13:$EK$13<=CL$13*TRANSPOSE($CK$14:$CK$65>=$CK53)),$CL$10:$EK$10,1))","v":1},{"$f":"PRODUCT(IF(($CL$13:$EK$13<=CM$13*TRANSPOSE($CK$14:$CK$65>=$CK53)),$CL$10:$EK$10,1))","v":1},{"$f":"PRODUCT(IF(($CL$13:$EK$13<=CN$13*TRANSPOSE($CK$14:$CK$65>=$CK53)),$CL$10:$EK$10,1))","v":1},{"$f":"PRODUCT(IF(($CL$13:$EK$13<=CO$13*TRANSPOSE($CK$14:$CK$65>=$CK53)),$CL$10:$EK$10,1))","v":1},{"$f":"PRODUCT(IF(($CL$13:$EK$13<=CP$13*TRANSPOSE($CK$14:$CK$65>=$CK53)),$CL$10:$EK$10,1))","v":1},{"$f":"PRODUCT(IF(($CL$13:$EK$13<=CQ$13*TRANSPOSE($CK$14:$CK$65>=$CK53)),$CL$10:$EK$10,1))","v":1},{"$f":"PRODUCT(IF(($CL$13:$EK$13<=CR$13*TRANSPOSE($CK$14:$CK$65>=$CK53)),$CL$10:$EK$10,1))","v":1},{"$f":"PRODUCT(IF(($CL$13:$EK$13<=CS$13*TRANSPOSE($CK$14:$CK$65>=$CK53)),$CL$10:$EK$10,1))","v":1},{"$f":"PRODUCT(IF(($CL$13:$EK$13<=CT$13*TRANSPOSE($CK$14:$CK$65>=$CK53)),$CL$10:$EK$10,1))","v":1},{"$f":"PRODUCT(IF(($CL$13:$EK$13<=CU$13*TRANSPOSE($CK$14:$CK$65>=$CK53)),$CL$10:$EK$10,1))","v":1},{"$f":"PRODUCT(IF(($CL$13:$EK$13<=CV$13*TRANSPOSE($CK$14:$CK$65>=$CK53)),$CL$10:$EK$10,1))","v":1},{"$f":"PRODUCT(IF(($CL$13:$EK$13<=CW$13*TRANSPOSE($CK$14:$CK$65>=$CK53)),$CL$10:$EK$10,1))","v":1},{"$f":"PRODUCT(IF(($CL$13:$EK$13<=CX$13*TRANSPOSE($CK$14:$CK$65>=$CK53)),$CL$10:$EK$10,1))","v":1},{"$f":"PRODUCT(IF(($CL$13:$EK$13<=CY$13*TRANSPOSE($CK$14:$CK$65>=$CK53)),$CL$10:$EK$10,1))","v":1},{"$f":"PRODUCT(IF(($CL$13:$EK$13<=CZ$13*TRANSPOSE($CK$14:$CK$65>=$CK53)),$CL$10:$EK$10,1))","v":1},{"$f":"PRODUCT(IF(($CL$13:$EK$13<=DA$13*TRANSPOSE($CK$14:$CK$65>=$CK53)),$CL$10:$EK$10,1))","v":1},{"$f":"PRODUCT(IF(($CL$13:$EK$13<=DB$13*TRANSPOSE($CK$14:$CK$65>=$CK53)),$CL$10:$EK$10,1))","v":1},{"$f":"PRODUCT(IF(($CL$13:$EK$13<=DC$13*TRANSPOSE($CK$14:$CK$65>=$CK53)),$CL$10:$EK$10,1))","v":1},{"$f":"PRODUCT(IF(($CL$13:$EK$13<=DD$13*TRANSPOSE($CK$14:$CK$65>=$CK53)),$CL$10:$EK$10,1))","v":1},{"$f":"PRODUCT(IF(($CL$13:$EK$13<=DE$13*TRANSPOSE($CK$14:$CK$65>=$CK53)),$CL$10:$EK$10,1))","v":1},{"$f":"PRODUCT(IF(($CL$13:$EK$13<=DF$13*TRANSPOSE($CK$14:$CK$65>=$CK53)),$CL$10:$EK$10,1))","v":1},{"$f":"PRODUCT(IF(($CL$13:$EK$13<=DG$13*TRANSPOSE($CK$14:$CK$65>=$CK53)),$CL$10:$EK$10,1))","v":1},{"$f":"PRODUCT(IF(($CL$13:$EK$13<=DH$13*TRANSPOSE($CK$14:$CK$65>=$CK53)),$CL$10:$EK$10,1))","v":1},{"$f":"PRODUCT(IF(($CL$13:$EK$13<=DI$13*TRANSPOSE($CK$14:$CK$65>=$CK53)),$CL$10:$EK$10,1))","v":1},{"$f":"PRODUCT(IF(($CL$13:$EK$13<=DJ$13*TRANSPOSE($CK$14:$CK$65>=$CK53)),$CL$10:$EK$10,1))","v":1},{"$f":"PRODUCT(IF(($CL$13:$EK$13<=DK$13*TRANSPOSE($CK$14:$CK$65>=$CK53)),$CL$10:$EK$10,1))","v":1},{"$f":"PRODUCT(IF(($CL$13:$EK$13<=DL$13*TRANSPOSE($CK$14:$CK$65>=$CK53)),$CL$10:$EK$10,1))","v":1},{"$f":"PRODUCT(IF(($CL$13:$EK$13<=DM$13*TRANSPOSE($CK$14:$CK$65>=$CK53)),$CL$10:$EK$10,1))","v":1},{"$f":"PRODUCT(IF(($CL$13:$EK$13<=DN$13*TRANSPOSE($CK$14:$CK$65>=$CK53)),$CL$10:$EK$10,1))","v":1},{"$f":"PRODUCT(IF(($CL$13:$EK$13<=DO$13*TRANSPOSE($CK$14:$CK$65>=$CK53)),$CL$10:$EK$10,1))","v":1},{"$f":"PRODUCT(IF(($CL$13:$EK$13<=DP$13*TRANSPOSE($CK$14:$CK$65>=$CK53)),$CL$10:$EK$10,1))","v":1},{"$f":"PRODUCT(IF(($CL$13:$EK$13<=DQ$13*TRANSPOSE($CK$14:$CK$65>=$CK53)),$CL$10:$EK$10,1))","v":1},{"$f":"PRODUCT(IF(($CL$13:$EK$13<=DR$13*TRANSPOSE($CK$14:$CK$65>=$CK53)),$CL$10:$EK$10,1))","v":1},{"$f":"PRODUCT(IF(($CL$13:$EK$13<=DS$13*TRANSPOSE($CK$14:$CK$65>=$CK53)),$CL$10:$EK$10,1))","v":1},{"$f":"PRODUCT(IF(($CL$13:$EK$13<=DT$13*TRANSPOSE($CK$14:$CK$65>=$CK53)),$CL$10:$EK$10,1))","v":1},{"$f":"PRODUCT(IF(($CL$13:$EK$13<=DU$13*TRANSPOSE($CK$14:$CK$65>=$CK53)),$CL$10:$EK$10,1))","v":1},{"$f":"PRODUCT(IF(($CL$13:$EK$13<=DV$13*TRANSPOSE($CK$14:$CK$65>=$CK53)),$CL$10:$EK$10,1))","v":1},{"$f":"PRODUCT(IF(($CL$13:$EK$13<=DW$13*TRANSPOSE($CK$14:$CK$65>=$CK53)),$CL$10:$EK$10,1))","v":1},{"$f":"PRODUCT(IF(($CL$13:$EK$13<=DX$13*TRANSPOSE($CK$14:$CK$65>=$CK53)),$CL$10:$EK$10,1))","v":1},{"$f":"PRODUCT(IF(($CL$13:$EK$13<=DY$13*TRANSPOSE($CK$14:$CK$65>=$CK53)),$CL$10:$EK$10,1))","v":1.1715966285939157},{"$f":"PRODUCT(IF(($CL$13:$EK$13<=DZ$13*TRANSPOSE($CK$14:$CK$65>=$CK53)),$CL$10:$EK$10,1))","v":1.384896178314964},{"$f":"PRODUCT(IF(($CL$13:$EK$13<=EA$13*TRANSPOSE($CK$14:$CK$65>=$CK53)),$CL$10:$EK$10,1))","v":1.6224338969110839},{"$f":"PRODUCT(IF(($CL$13:$EK$13<=EB$13*TRANSPOSE($CK$14:$CK$65>=$CK53)),$CL$10:$EK$10,1))","v":1.7531560557277677},{"$f":"PRODUCT(IF(($CL$13:$EK$13<=EC$13*TRANSPOSE($CK$14:$CK$65>=$CK53)),$CL$10:$EK$10,1))","v":1.7891208491278554},{"$f":"PRODUCT(IF(($CL$13:$EK$13<=ED$13*TRANSPOSE($CK$14:$CK$65>=$CK53)),$CL$10:$EK$10,1))","v":1.8076114390012434},{"$f":"PRODUCT(IF(($CL$13:$EK$13<=EE$13*TRANSPOSE($CK$14:$CK$65>=$CK53)),$CL$10:$EK$10,1))","v":1.8231092745272184},{"$f":"PRODUCT(IF(($CL$13:$EK$13<=EF$13*TRANSPOSE($CK$14:$CK$65>=$CK53)),$CL$10:$EK$10,1))","v":1.9039443748313363},{"$f":"PRODUCT(IF(($CL$13:$EK$13<=EG$13*TRANSPOSE($CK$14:$CK$65>=$CK53)),$CL$10:$EK$10,1))","v":1.9497777556735088},{"$f":"PRODUCT(IF(($CL$13:$EK$13<=EH$13*TRANSPOSE($CK$14:$CK$65>=$CK53)),$CL$10:$EK$10,1))","v":2.025774103447735},{"$f":"PRODUCT(IF(($CL$13:$EK$13<=EI$13*TRANSPOSE($CK$14:$CK$65>=$CK53)),$CL$10:$EK$10,1))","v":2.2072759896868943},{"$f":"PRODUCT(IF(($CL$13:$EK$13<=EJ$13*TRANSPOSE($CK$14:$CK$65>=$CK53)),$CL$10:$EK$10,1))","v":2.5340649714950247},{"$f":"PRODUCT(IF(($CL$13:$EK$13<=EK$13*TRANSPOSE($CK$14:$CK$65>=$CK53)),$CL$10:$EK$10,1))","v":2.70152641919189}]
[null,null,2013,null,null,null,null,null,null,null,null,null,null,null,null,null,null,null,null,null,null,null,null,null,null,null,null,null,null,null,null,null,null,null,null,null,null,null,null,null,null,null,null,null,0.17152023546280382,0.12512734451249852,8.9116037783506963E-2,6.8862808886433147E-2,5.6523342642689878E-2,5.4482815322362876E-2,5.0083863867060208E-2,4.868902942687181E-2,5.3157364791947659E-2,6.2282563349414843E-2,6.2627598302302356E-2,null,2012,0.18205886267958826,0.17681611916006834,0.14787674894714264,0.11148037252780307,0.12123685761655523,0.12581775507806259,0.12910933296004501,0.1478424864645258,0.14177059108776202,0.13494565738712794,0.12873272378024403,0.12245191357998086,0.11756518883042322,0.11499294788361691,0.11513896636263965,0.11331558675122011,0.11186154604759602,0.11305992111103458,0.11399580235161522,0.11133413557719618,0.11117615221320798,0.11042309787849436,0.10849476874361752,0.11046297567813612,0.11221038020955931,0.10730116516455523,null,2012,{"$f":"HLOOKUP($W$7,dat,MATCH(CG54,Data!$B$3:$B$60,0),0)+1","v":1.1820588626795883},null,null,2012,{"$f":"PRODUCT(IF(($CL$13:$EK$13<=CL$13*TRANSPOSE($CK$14:$CK$65>=$CK54)),$CL$10:$EK$10,1))","v":1},{"$f":"PRODUCT(IF(($CL$13:$EK$13<=CM$13*TRANSPOSE($CK$14:$CK$65>=$CK54)),$CL$10:$EK$10,1))","v":1},{"$f":"PRODUCT(IF(($CL$13:$EK$13<=CN$13*TRANSPOSE($CK$14:$CK$65>=$CK54)),$CL$10:$EK$10,1))","v":1},{"$f":"PRODUCT(IF(($CL$13:$EK$13<=CO$13*TRANSPOSE($CK$14:$CK$65>=$CK54)),$CL$10:$EK$10,1))","v":1},{"$f":"PRODUCT(IF(($CL$13:$EK$13<=CP$13*TRANSPOSE($CK$14:$CK$65>=$CK54)),$CL$10:$EK$10,1))","v":1},{"$f":"PRODUCT(IF(($CL$13:$EK$13<=CQ$13*TRANSPOSE($CK$14:$CK$65>=$CK54)),$CL$10:$EK$10,1))","v":1},{"$f":"PRODUCT(IF(($CL$13:$EK$13<=CR$13*TRANSPOSE($CK$14:$CK$65>=$CK54)),$CL$10:$EK$10,1))","v":1},{"$f":"PRODUCT(IF(($CL$13:$EK$13<=CS$13*TRANSPOSE($CK$14:$CK$65>=$CK54)),$CL$10:$EK$10,1))","v":1},{"$f":"PRODUCT(IF(($CL$13:$EK$13<=CT$13*TRANSPOSE($CK$14:$CK$65>=$CK54)),$CL$10:$EK$10,1))","v":1},{"$f":"PRODUCT(IF(($CL$13:$EK$13<=CU$13*TRANSPOSE($CK$14:$CK$65>=$CK54)),$CL$10:$EK$10,1))","v":1},{"$f":"PRODUCT(IF(($CL$13:$EK$13<=CV$13*TRANSPOSE($CK$14:$CK$65>=$CK54)),$CL$10:$EK$10,1))","v":1},{"$f":"PRODUCT(IF(($CL$13:$EK$13<=CW$13*TRANSPOSE($CK$14:$CK$65>=$CK54)),$CL$10:$EK$10,1))","v":1},{"$f":"PRODUCT(IF(($CL$13:$EK$13<=CX$13*TRANSPOSE($CK$14:$CK$65>=$CK54)),$CL$10:$EK$10,1))","v":1},{"$f":"PRODUCT(IF(($CL$13:$EK$13<=CY$13*TRANSPOSE($CK$14:$CK$65>=$CK54)),$CL$10:$EK$10,1))","v":1},{"$f":"PRODUCT(IF(($CL$13:$EK$13<=CZ$13*TRANSPOSE($CK$14:$CK$65>=$CK54)),$CL$10:$EK$10,1))","v":1},{"$f":"PRODUCT(IF(($CL$13:$EK$13<=DA$13*TRANSPOSE($CK$14:$CK$65>=$CK54)),$CL$10:$EK$10,1))","v":1},{"$f":"PRODUCT(IF(($CL$13:$EK$13<=DB$13*TRANSPOSE($CK$14:$CK$65>=$CK54)),$CL$10:$EK$10,1))","v":1},{"$f":"PRODUCT(IF(($CL$13:$EK$13<=DC$13*TRANSPOSE($CK$14:$CK$65>=$CK54)),$CL$10:$EK$10,1))","v":1},{"$f":"PRODUCT(IF(($CL$13:$EK$13<=DD$13*TRANSPOSE($CK$14:$CK$65>=$CK54)),$CL$10:$EK$10,1))","v":1},{"$f":"PRODUCT(IF(($CL$13:$EK$13<=DE$13*TRANSPOSE($CK$14:$CK$65>=$CK54)),$CL$10:$EK$10,1))","v":1},{"$f":"PRODUCT(IF(($CL$13:$EK$13<=DF$13*TRANSPOSE($CK$14:$CK$65>=$CK54)),$CL$10:$EK$10,1))","v":1},{"$f":"PRODUCT(IF(($CL$13:$EK$13<=DG$13*TRANSPOSE($CK$14:$CK$65>=$CK54)),$CL$10:$EK$10,1))","v":1},{"$f":"PRODUCT(IF(($CL$13:$EK$13<=DH$13*TRANSPOSE($CK$14:$CK$65>=$CK54)),$CL$10:$EK$10,1))","v":1},{"$f":"PRODUCT(IF(($CL$13:$EK$13<=DI$13*TRANSPOSE($CK$14:$CK$65>=$CK54)),$CL$10:$EK$10,1))","v":1},{"$f":"PRODUCT(IF(($CL$13:$EK$13<=DJ$13*TRANSPOSE($CK$14:$CK$65>=$CK54)),$CL$10:$EK$10,1))","v":1},{"$f":"PRODUCT(IF(($CL$13:$EK$13<=DK$13*TRANSPOSE($CK$14:$CK$65>=$CK54)),$CL$10:$EK$10,1))","v":1},{"$f":"PRODUCT(IF(($CL$13:$EK$13<=DL$13*TRANSPOSE($CK$14:$CK$65>=$CK54)),$CL$10:$EK$10,1))","v":1},{"$f":"PRODUCT(IF(($CL$13:$EK$13<=DM$13*TRANSPOSE($CK$14:$CK$65>=$CK54)),$CL$10:$EK$10,1))","v":1},{"$f":"PRODUCT(IF(($CL$13:$EK$13<=DN$13*TRANSPOSE($CK$14:$CK$65>=$CK54)),$CL$10:$EK$10,1))","v":1},{"$f":"PRODUCT(IF(($CL$13:$EK$13<=DO$13*TRANSPOSE($CK$14:$CK$65>=$CK54)),$CL$10:$EK$10,1))","v":1},{"$f":"PRODUCT(IF(($CL$13:$EK$13<=DP$13*TRANSPOSE($CK$14:$CK$65>=$CK54)),$CL$10:$EK$10,1))","v":1},{"$f":"PRODUCT(IF(($CL$13:$EK$13<=DQ$13*TRANSPOSE($CK$14:$CK$65>=$CK54)),$CL$10:$EK$10,1))","v":1},{"$f":"PRODUCT(IF(($CL$13:$EK$13<=DR$13*TRANSPOSE($CK$14:$CK$65>=$CK54)),$CL$10:$EK$10,1))","v":1},{"$f":"PRODUCT(IF(($CL$13:$EK$13<=DS$13*TRANSPOSE($CK$14:$CK$65>=$CK54)),$CL$10:$EK$10,1))","v":1},{"$f":"PRODUCT(IF(($CL$13:$EK$13<=DT$13*TRANSPOSE($CK$14:$CK$65>=$CK54)),$CL$10:$EK$10,1))","v":1},{"$f":"PRODUCT(IF(($CL$13:$EK$13<=DU$13*TRANSPOSE($CK$14:$CK$65>=$CK54)),$CL$10:$EK$10,1))","v":1},{"$f":"PRODUCT(IF(($CL$13:$EK$13<=DV$13*TRANSPOSE($CK$14:$CK$65>=$CK54)),$CL$10:$EK$10,1))","v":1},{"$f":"PRODUCT(IF(($CL$13:$EK$13<=DW$13*TRANSPOSE($CK$14:$CK$65>=$CK54)),$CL$10:$EK$10,1))","v":1},{"$f":"PRODUCT(IF(($CL$13:$EK$13<=DX$13*TRANSPOSE($CK$14:$CK$65>=$CK54)),$CL$10:$EK$10,1))","v":1},{"$f":"PRODUCT(IF(($CL$13:$EK$13<=DY$13*TRANSPOSE($CK$14:$CK$65>=$CK54)),$CL$10:$EK$10,1))","v":1},{"$f":"PRODUCT(IF(($CL$13:$EK$13<=DZ$13*TRANSPOSE($CK$14:$CK$65>=$CK54)),$CL$10:$EK$10,1))","v":1.1820588626795883},{"$f":"PRODUCT(IF(($CL$13:$EK$13<=EA$13*TRANSPOSE($CK$14:$CK$65>=$CK54)),$CL$10:$EK$10,1))","v":1.3848058771372853},{"$f":"PRODUCT(IF(($CL$13:$EK$13<=EB$13*TRANSPOSE($CK$14:$CK$65>=$CK54)),$CL$10:$EK$10,1))","v":1.4963819568444874},{"$f":"PRODUCT(IF(($CL$13:$EK$13<=EC$13*TRANSPOSE($CK$14:$CK$65>=$CK54)),$CL$10:$EK$10,1))","v":1.5270792058142548},{"$f":"PRODUCT(IF(($CL$13:$EK$13<=ED$13*TRANSPOSE($CK$14:$CK$65>=$CK54)),$CL$10:$EK$10,1))","v":1.5428615915109252},{"$f":"PRODUCT(IF(($CL$13:$EK$13<=EE$13*TRANSPOSE($CK$14:$CK$65>=$CK54)),$CL$10:$EK$10,1))","v":1.5560895533774377},{"$f":"PRODUCT(IF(($CL$13:$EK$13<=EF$13*TRANSPOSE($CK$14:$CK$65>=$CK54)),$CL$10:$EK$10,1))","v":1.6250852284513166},{"$f":"PRODUCT(IF(($CL$13:$EK$13<=EG$13*TRANSPOSE($CK$14:$CK$65>=$CK54)),$CL$10:$EK$10,1))","v":1.6642056729145098},{"$f":"PRODUCT(IF(($CL$13:$EK$13<=EH$13*TRANSPOSE($CK$14:$CK$65>=$CK54)),$CL$10:$EK$10,1))","v":1.7290712980959622},{"$f":"PRODUCT(IF(($CL$13:$EK$13<=EI$13*TRANSPOSE($CK$14:$CK$65>=$CK54)),$CL$10:$EK$10,1))","v":1.8839897075633805},{"$f":"PRODUCT(IF(($CL$13:$EK$13<=EJ$13*TRANSPOSE($CK$14:$CK$65>=$CK54)),$CL$10:$EK$10,1))","v":2.1629158958371755},{"$f":"PRODUCT(IF(($CL$13:$EK$13<=EK$13*TRANSPOSE($CK$14:$CK$65>=$CK54)),$CL$10:$EK$10,1))","v":2.3058502843543587}]
[null,null,2014,null,null,null,null,null,null,null,null,null,null,null,null,null,null,null,null,null,null,null,null,null,null,null,null,null,null,null,null,null,null,null,null,null,null,null,null,null,null,null,null,null,null,{"$f":"IF(EB56=1,\"\",EB56^(1/(EB$13-$CK56+1))-1)","v":8.0571639353420155E-2},{"$f":"IF(EC56=1,\"\",EC56^(1/(EC$13-$CK56+1))-1)","v":5.0113720034598686E-2},3.668311074384234E-2,2.9583140330259328E-2,3.2517565971705409E-2,3.1105294044866394E-2,3.2226151328813346E-2,3.9228871087087613E-2,5.0791977142210953E-2,5.231126796221619E-2,null,2013,0.17152023546280382,0.17677775180247401,0.17504816990656979,0.15374250537031187,0.12323699059047977,0.12946498153388886,0.132235866010876,0.13432556944453533,0.15044953635058,0.14471123881764258,0.13822289059248893,0.1322378595718583,0.12615231289030771,0.12133532354216814,0.11867508463684873,0.11858191079579883,0.11665789958439765,0.11509474859042212,0.1160627436645445,0.11680375726981684,0.11412873443664151,0.11385039014996612,0.11301200363702435,0.11105183424425968,0.11284303400702633,0.11443500730928813,null,2013,{"$f":"HLOOKUP($W$7,dat,MATCH(CG55,Data!$B$3:$B$60,0),0)+1","v":1.1715202354628038},null,null,2013,{"$f":"PRODUCT(IF(($CL$13:$EK$13<=CL$13*TRANSPOSE($CK$14:$CK$65>=$CK55)),$CL$10:$EK$10,1))","v":1},{"$f":"PRODUCT(IF(($CL$13:$EK$13<=CM$13*TRANSPOSE($CK$14:$CK$65>=$CK55)),$CL$10:$EK$10,1))","v":1},{"$f":"PRODUCT(IF(($CL$13:$EK$13<=CN$13*TRANSPOSE($CK$14:$CK$65>=$CK55)),$CL$10:$EK$10,1))","v":1},{"$f":"PRODUCT(IF(($CL$13:$EK$13<=CO$13*TRANSPOSE($CK$14:$CK$65>=$CK55)),$CL$10:$EK$10,1))","v":1},{"$f":"PRODUCT(IF(($CL$13:$EK$13<=CP$13*TRANSPOSE($CK$14:$CK$65>=$CK55)),$CL$10:$EK$10,1))","v":1},{"$f":"PRODUCT(IF(($CL$13:$EK$13<=CQ$13*TRANSPOSE($CK$14:$CK$65>=$CK55)),$CL$10:$EK$10,1))","v":1},{"$f":"PRODUCT(IF(($CL$13:$EK$13<=CR$13*TRANSPOSE($CK$14:$CK$65>=$CK55)),$CL$10:$EK$10,1))","v":1},{"$f":"PRODUCT(IF(($CL$13:$EK$13<=CS$13*TRANSPOSE($CK$14:$CK$65>=$CK55)),$CL$10:$EK$10,1))","v":1},{"$f":"PRODUCT(IF(($CL$13:$EK$13<=CT$13*TRANSPOSE($CK$14:$CK$65>=$CK55)),$CL$10:$EK$10,1))","v":1},{"$f":"PRODUCT(IF(($CL$13:$EK$13<=CU$13*TRANSPOSE($CK$14:$CK$65>=$CK55)),$CL$10:$EK$10,1))","v":1},{"$f":"PRODUCT(IF(($CL$13:$EK$13<=CV$13*TRANSPOSE($CK$14:$CK$65>=$CK55)),$CL$10:$EK$10,1))","v":1},{"$f":"PRODUCT(IF(($CL$13:$EK$13<=CW$13*TRANSPOSE($CK$14:$CK$65>=$CK55)),$CL$10:$EK$10,1))","v":1},{"$f":"PRODUCT(IF(($CL$13:$EK$13<=CX$13*TRANSPOSE($CK$14:$CK$65>=$CK55)),$CL$10:$EK$10,1))","v":1},{"$f":"PRODUCT(IF(($CL$13:$EK$13<=CY$13*TRANSPOSE($CK$14:$CK$65>=$CK55)),$CL$10:$EK$10,1))","v":1},{"$f":"PRODUCT(IF(($CL$13:$EK$13<=CZ$13*TRANSPOSE($CK$14:$CK$65>=$CK55)),$CL$10:$EK$10,1))","v":1},{"$f":"PRODUCT(IF(($CL$13:$EK$13<=DA$13*TRANSPOSE($CK$14:$CK$65>=$CK55)),$CL$10:$EK$10,1))","v":1},{"$f":"PRODUCT(IF(($CL$13:$EK$13<=DB$13*TRANSPOSE($CK$14:$CK$65>=$CK55)),$CL$10:$EK$10,1))","v":1},{"$f":"PRODUCT(IF(($CL$13:$EK$13<=DC$13*TRANSPOSE($CK$14:$CK$65>=$CK55)),$CL$10:$EK$10,1))","v":1},{"$f":"PRODUCT(IF(($CL$13:$EK$13<=DD$13*TRANSPOSE($CK$14:$CK$65>=$CK55)),$CL$10:$EK$10,1))","v":1},{"$f":"PRODUCT(IF(($CL$13:$EK$13<=DE$13*TRANSPOSE($CK$14:$CK$65>=$CK55)),$CL$10:$EK$10,1))","v":1},{"$f":"PRODUCT(IF(($CL$13:$EK$13<=DF$13*TRANSPOSE($CK$14:$CK$65>=$CK55)),$CL$10:$EK$10,1))","v":1},{"$f":"PRODUCT(IF(($CL$13:$EK$13<=DG$13*TRANSPOSE($CK$14:$CK$65>=$CK55)),$CL$10:$EK$10,1))","v":1},{"$f":"PRODUCT(IF(($CL$13:$EK$13<=DH$13*TRANSPOSE($CK$14:$CK$65>=$CK55)),$CL$10:$EK$10,1))","v":1},{"$f":"PRODUCT(IF(($CL$13:$EK$13<=DI$13*TRANSPOSE($CK$14:$CK$65>=$CK55)),$CL$10:$EK$10,1))","v":1},{"$f":"PRODUCT(IF(($CL$13:$EK$13<=DJ$13*TRANSPOSE($CK$14:$CK$65>=$CK55)),$CL$10:$EK$10,1))","v":1},{"$f":"PRODUCT(IF(($CL$13:$EK$13<=DK$13*TRANSPOSE($CK$14:$CK$65>=$CK55)),$CL$10:$EK$10,1))","v":1},{"$f":"PRODUCT(IF(($CL$13:$EK$13<=DL$13*TRANSPOSE($CK$14:$CK$65>=$CK55)),$CL$10:$EK$10,1))","v":1},{"$f":"PRODUCT(IF(($CL$13:$EK$13<=DM$13*TRANSPOSE($CK$14:$CK$65>=$CK55)),$CL$10:$EK$10,1))","v":1},{"$f":"PRODUCT(IF(($CL$13:$EK$13<=DN$13*TRANSPOSE($CK$14:$CK$65>=$CK55)),$CL$10:$EK$10,1))","v":1},{"$f":"PRODUCT(IF(($CL$13:$EK$13<=DO$13*TRANSPOSE($CK$14:$CK$65>=$CK55)),$CL$10:$EK$10,1))","v":1},{"$f":"PRODUCT(IF(($CL$13:$EK$13<=DP$13*TRANSPOSE($CK$14:$CK$65>=$CK55)),$CL$10:$EK$10,1))","v":1},{"$f":"PRODUCT(IF(($CL$13:$EK$13<=DQ$13*TRANSPOSE($CK$14:$CK$65>=$CK55)),$CL$10:$EK$10,1))","v":1},{"$f":"PRODUCT(IF(($CL$13:$EK$13<=DR$13*TRANSPOSE($CK$14:$CK$65>=$CK55)),$CL$10:$EK$10,1))","v":1},{"$f":"PRODUCT(IF(($CL$13:$EK$13<=DS$13*TRANSPOSE($CK$14:$CK$65>=$CK55)),$CL$10:$EK$10,1))","v":1},{"$f":"PRODUCT(IF(($CL$13:$EK$13<=DT$13*TRANSPOSE($CK$14:$CK$65>=$CK55)),$CL$10:$EK$10,1))","v":1},{"$f":"PRODUCT(IF(($CL$13:$EK$13<=DU$13*TRANSPOSE($CK$14:$CK$65>=$CK55)),$CL$10:$EK$10,1))","v":1},{"$f":"PRODUCT(IF(($CL$13:$EK$13<=DV$13*TRANSPOSE($CK$14:$CK$65>=$CK55)),$CL$10:$EK$10,1))","v":1},{"$f":"PRODUCT(IF(($CL$13:$EK$13<=DW$13*TRANSPOSE($CK$14:$CK$65>=$CK55)),$CL$10:$EK$10,1))","v":1},{"$f":"PRODUCT(IF(($CL$13:$EK$13<=DX$13*TRANSPOSE($CK$14:$CK$65>=$CK55)),$CL$10:$EK$10,1))","v":1},{"$f":"PRODUCT(IF(($CL$13:$EK$13<=DY$13*TRANSPOSE($CK$14:$CK$65>=$CK55)),$CL$10:$EK$10,1))","v":1},{"$f":"PRODUCT(IF(($CL$13:$EK$13<=DZ$13*TRANSPOSE($CK$14:$CK$65>=$CK55)),$CL$10:$EK$10,1))","v":1},{"$f":"PRODUCT(IF(($CL$13:$EK$13<=EA$13*TRANSPOSE($CK$14:$CK$65>=$CK55)),$CL$10:$EK$10,1))","v":1.1715202354628038},{"$f":"PRODUCT(IF(($CL$13:$EK$13<=EB$13*TRANSPOSE($CK$14:$CK$65>=$CK55)),$CL$10:$EK$10,1))","v":1.2659115413697466},{"$f":"PRODUCT(IF(($CL$13:$EK$13<=EC$13*TRANSPOSE($CK$14:$CK$65>=$CK55)),$CL$10:$EK$10,1))","v":1.29188084792372},{"$f":"PRODUCT(IF(($CL$13:$EK$13<=ED$13*TRANSPOSE($CK$14:$CK$65>=$CK55)),$CL$10:$EK$10,1))","v":1.3052324551870789},{"$f":"PRODUCT(IF(($CL$13:$EK$13<=EE$13*TRANSPOSE($CK$14:$CK$65>=$CK55)),$CL$10:$EK$10,1))","v":1.3164230669951291},{"$f":"PRODUCT(IF(($CL$13:$EK$13<=EF$13*TRANSPOSE($CK$14:$CK$65>=$CK55)),$CL$10:$EK$10,1))","v":1.3747921357887709},{"$f":"PRODUCT(IF(($CL$13:$EK$13<=EG$13*TRANSPOSE($CK$14:$CK$65>=$CK55)),$CL$10:$EK$10,1))","v":1.4078873104017438},{"$f":"PRODUCT(IF(($CL$13:$EK$13<=EH$13*TRANSPOSE($CK$14:$CK$65>=$CK55)),$CL$10:$EK$10,1))","v":1.4627624331468241},{"$f":"PRODUCT(IF(($CL$13:$EK$13<=EI$13*TRANSPOSE($CK$14:$CK$65>=$CK55)),$CL$10:$EK$10,1))","v":1.5938205507740939},{"$f":"PRODUCT(IF(($CL$13:$EK$13<=EJ$13*TRANSPOSE($CK$14:$CK$65>=$CK55)),$CL$10:$EK$10,1))","v":1.8297869624987202},{"$f":"PRODUCT(IF(($CL$13:$EK$13<=EK$13*TRANSPOSE($CK$14:$CK$65>=$CK55)),$CL$10:$EK$10,1))","v":1.9507068193941441}]
[null,null,2015,null,null,null,null,null,null,null,null,null,null,null,null,null,null,null,null,null,null,null,null,null,null,null,null,null,null,null,null,null,null,null,null,null,null,null,null,null,null,null,null,null,null,null,{"$f":"IF(EC57=1,\"\",EC57^(1/(EC$13-$CK57+1))-1)","v":2.0514313761508252E-2},1.541190852099561E-2,1.3127354319766305E-2,2.0841742013682385E-2,2.1487148422653313E-2,2.43815310351716E-2,3.3453323229497345E-2,4.7127694970997114E-2,4.9217208016995473E-2,null,2014,8.0571639353420155E-2,0.12512734451249852,0.14379314035194324,0.15068153506088366,0.13872230424077481,0.11601087135810606,0.12234705054852424,0.12564511272908985,0.1282232304918145,0.14326306350701357,0.13872634028918651,0.13330334210610406,0.12817729899207042,0.1228337281424674,0.11857053213364765,0.11625473843160372,0.11630945200923826,0.11462185680075709,0.11325054811297885,0.11426081616763883,0.11505118712997087,0.11258104494458299,0.11238240103896979,0.11164107709046855,0.10981627801648219,0.1115841864642646,null,2014,{"$f":"HLOOKUP($W$7,dat,MATCH(CG56,Data!$B$3:$B$60,0),0)+1","v":1.0805716393534202},null,null,2014,{"$f":"PRODUCT(IF(($CL$13:$EK$13<=CL$13*TRANSPOSE($CK$14:$CK$65>=$CK56)),$CL$10:$EK$10,1))","v":1},{"$f":"PRODUCT(IF(($CL$13:$EK$13<=CM$13*TRANSPOSE($CK$14:$CK$65>=$CK56)),$CL$10:$EK$10,1))","v":1},{"$f":"PRODUCT(IF(($CL$13:$EK$13<=CN$13*TRANSPOSE($CK$14:$CK$65>=$CK56)),$CL$10:$EK$10,1))","v":1},{"$f":"PRODUCT(IF(($CL$13:$EK$13<=CO$13*TRANSPOSE($CK$14:$CK$65>=$CK56)),$CL$10:$EK$10,1))","v":1},{"$f":"PRODUCT(IF(($CL$13:$EK$13<=CP$13*TRANSPOSE($CK$14:$CK$65>=$CK56)),$CL$10:$EK$10,1))","v":1},{"$f":"PRODUCT(IF(($CL$13:$EK$13<=CQ$13*TRANSPOSE($CK$14:$CK$65>=$CK56)),$CL$10:$EK$10,1))","v":1},{"$f":"PRODUCT(IF(($CL$13:$EK$13<=CR$13*TRANSPOSE($CK$14:$CK$65>=$CK56)),$CL$10:$EK$10,1))","v":1},{"$f":"PRODUCT(IF(($CL$13:$EK$13<=CS$13*TRANSPOSE($CK$14:$CK$65>=$CK56)),$CL$10:$EK$10,1))","v":1},{"$f":"PRODUCT(IF(($CL$13:$EK$13<=CT$13*TRANSPOSE($CK$14:$CK$65>=$CK56)),$CL$10:$EK$10,1))","v":1},{"$f":"PRODUCT(IF(($CL$13:$EK$13<=CU$13*TRANSPOSE($CK$14:$CK$65>=$CK56)),$CL$10:$EK$10,1))","v":1},{"$f":"PRODUCT(IF(($CL$13:$EK$13<=CV$13*TRANSPOSE($CK$14:$CK$65>=$CK56)),$CL$10:$EK$10,1))","v":1},{"$f":"PRODUCT(IF(($CL$13:$EK$13<=CW$13*TRANSPOSE($CK$14:$CK$65>=$CK56)),$CL$10:$EK$10,1))","v":1},{"$f":"PRODUCT(IF(($CL$13:$EK$13<=CX$13*TRANSPOSE($CK$14:$CK$65>=$CK56)),$CL$10:$EK$10,1))","v":1},{"$f":"PRODUCT(IF(($CL$13:$EK$13<=CY$13*TRANSPOSE($CK$14:$CK$65>=$CK56)),$CL$10:$EK$10,1))","v":1},{"$f":"PRODUCT(IF(($CL$13:$EK$13<=CZ$13*TRANSPOSE($CK$14:$CK$65>=$CK56)),$CL$10:$EK$10,1))","v":1},{"$f":"PRODUCT(IF(($CL$13:$EK$13<=DA$13*TRANSPOSE($CK$14:$CK$65>=$CK56)),$CL$10:$EK$10,1))","v":1},{"$f":"PRODUCT(IF(($CL$13:$EK$13<=DB$13*TRANSPOSE($CK$14:$CK$65>=$CK56)),$CL$10:$EK$10,1))","v":1},{"$f":"PRODUCT(IF(($CL$13:$EK$13<=DC$13*TRANSPOSE($CK$14:$CK$65>=$CK56)),$CL$10:$EK$10,1))","v":1},{"$f":"PRODUCT(IF(($CL$13:$EK$13<=DD$13*TRANSPOSE($CK$14:$CK$65>=$CK56)),$CL$10:$EK$10,1))","v":1},{"$f":"PRODUCT(IF(($CL$13:$EK$13<=DE$13*TRANSPOSE($CK$14:$CK$65>=$CK56)),$CL$10:$EK$10,1))","v":1},{"$f":"PRODUCT(IF(($CL$13:$EK$13<=DF$13*TRANSPOSE($CK$14:$CK$65>=$CK56)),$CL$10:$EK$10,1))","v":1},{"$f":"PRODUCT(IF(($CL$13:$EK$13<=DG$13*TRANSPOSE($CK$14:$CK$65>=$CK56)),$CL$10:$EK$10,1))","v":1},{"$f":"PRODUCT(IF(($CL$13:$EK$13<=DH$13*TRANSPOSE($CK$14:$CK$65>=$CK56)),$CL$10:$EK$10,1))","v":1},{"$f":"PRODUCT(IF(($CL$13:$EK$13<=DI$13*TRANSPOSE($CK$14:$CK$65>=$CK56)),$CL$10:$EK$10,1))","v":1},{"$f":"PRODUCT(IF(($CL$13:$EK$13<=DJ$13*TRANSPOSE($CK$14:$CK$65>=$CK56)),$CL$10:$EK$10,1))","v":1},{"$f":"PRODUCT(IF(($CL$13:$EK$13<=DK$13*TRANSPOSE($CK$14:$CK$65>=$CK56)),$CL$10:$EK$10,1))","v":1},{"$f":"PRODUCT(IF(($CL$13:$EK$13<=DL$13*TRANSPOSE($CK$14:$CK$65>=$CK56)),$CL$10:$EK$10,1))","v":1},{"$f":"PRODUCT(IF(($CL$13:$EK$13<=DM$13*TRANSPOSE($CK$14:$CK$65>=$CK56)),$CL$10:$EK$10,1))","v":1},{"$f":"PRODUCT(IF(($CL$13:$EK$13<=DN$13*TRANSPOSE($CK$14:$CK$65>=$CK56)),$CL$10:$EK$10,1))","v":1},{"$f":"PRODUCT(IF(($CL$13:$EK$13<=DO$13*TRANSPOSE($CK$14:$CK$65>=$CK56)),$CL$10:$EK$10,1))","v":1},{"$f":"PRODUCT(IF(($CL$13:$EK$13<=DP$13*TRANSPOSE($CK$14:$CK$65>=$CK56)),$CL$10:$EK$10,1))","v":1},{"$f":"PRODUCT(IF(($CL$13:$EK$13<=DQ$13*TRANSPOSE($CK$14:$CK$65>=$CK56)),$CL$10:$EK$10,1))","v":1},{"$f":"PRODUCT(IF(($CL$13:$EK$13<=DR$13*TRANSPOSE($CK$14:$CK$65>=$CK56)),$CL$10:$EK$10,1))","v":1},{"$f":"PRODUCT(IF(($CL$13:$EK$13<=DS$13*TRANSPOSE($CK$14:$CK$65>=$CK56)),$CL$10:$EK$10,1))","v":1},{"$f":"PRODUCT(IF(($CL$13:$EK$13<=DT$13*TRANSPOSE($CK$14:$CK$65>=$CK56)),$CL$10:$EK$10,1))","v":1},{"$f":"PRODUCT(IF(($CL$13:$EK$13<=DU$13*TRANSPOSE($CK$14:$CK$65>=$CK56)),$CL$10:$EK$10,1))","v":1},{"$f":"PRODUCT(IF(($CL$13:$EK$13<=DV$13*TRANSPOSE($CK$14:$CK$65>=$CK56)),$CL$10:$EK$10,1))","v":1},{"$f":"PRODUCT(IF(($CL$13:$EK$13<=DW$13*TRANSPOSE($CK$14:$CK$65>=$CK56)),$CL$10:$EK$10,1))","v":1},{"$f":"PRODUCT(IF(($CL$13:$EK$13<=DX$13*TRANSPOSE($CK$14:$CK$65>=$CK56)),$CL$10:$EK$10,1))","v":1},{"$f":"PRODUCT(IF(($CL$13:$EK$13<=DY$13*TRANSPOSE($CK$14:$CK$65>=$CK56)),$CL$10:$EK$10,1))","v":1},{"$f":"PRODUCT(IF(($CL$13:$EK$13<=DZ$13*TRANSPOSE($CK$14:$CK$65>=$CK56)),$CL$10:$EK$10,1))","v":1},{"$f":"PRODUCT(IF(($CL$13:$EK$13<=EA$13*TRANSPOSE($CK$14:$CK$65>=$CK56)),$CL$10:$EK$10,1))","v":1},{"$f":"PRODUCT(IF(($CL$13:$EK$13<=EB$13*TRANSPOSE($CK$14:$CK$65>=$CK56)),$CL$10:$EK$10,1))","v":1.0805716393534202},{"$f":"PRODUCT(IF(($CL$13:$EK$13<=EC$13*TRANSPOSE($CK$14:$CK$65>=$CK56)),$CL$10:$EK$10,1))","v":1.1027388250049035},{"$f":"PRODUCT(IF(($CL$13:$EK$13<=ED$13*TRANSPOSE($CK$14:$CK$65>=$CK56)),$CL$10:$EK$10,1))","v":1.1141356467235521},{"$f":"PRODUCT(IF(($CL$13:$EK$13<=EE$13*TRANSPOSE($CK$14:$CK$65>=$CK56)),$CL$10:$EK$10,1))","v":1.1236878605644247},{"$f":"PRODUCT(IF(($CL$13:$EK$13<=EF$13*TRANSPOSE($CK$14:$CK$65>=$CK56)),$CL$10:$EK$10,1))","v":1.1735112157458087},{"$f":"PRODUCT(IF(($CL$13:$EK$13<=EG$13*TRANSPOSE($CK$14:$CK$65>=$CK56)),$CL$10:$EK$10,1))","v":1.2017609835356915},{"$f":"PRODUCT(IF(($CL$13:$EK$13<=EH$13*TRANSPOSE($CK$14:$CK$65>=$CK56)),$CL$10:$EK$10,1))","v":1.2486019352187856},{"$f":"PRODUCT(IF(($CL$13:$EK$13<=EI$13*TRANSPOSE($CK$14:$CK$65>=$CK56)),$CL$10:$EK$10,1))","v":1.3604720623066853},{"$f":"PRODUCT(IF(($CL$13:$EK$13<=EJ$13*TRANSPOSE($CK$14:$CK$65>=$CK56)),$CL$10:$EK$10,1))","v":1.5618910430308286},{"$f":"PRODUCT(IF(($CL$13:$EK$13<=EK$13*TRANSPOSE($CK$14:$CK$65>=$CK56)),$CL$10:$EK$10,1))","v":1.6651072344674667}]
[null,null,2016,null,null,null,null,null,null,null,null,null,null,null,null,null,null,null,null,null,null,null,null,null,null,null,null,null,null,null,null,null,null,null,null,null,null,null,null,null,null,null,null,null,null,null,null,{"$f":"IF(ED58=1,\"\",ED58^(1/(ED$13-$CK58+1))-1)","v":1.0335014475071125E-2},9.4539502039765466E-3,2.0950908108108734E-2,2.1730501956961135E-2,2.5156731284352807E-2,3.5625718511129056E-2,5.0985845338351155E-2,5.2861373124181599E-2,null,2015,2.0514313761508252E-2,5.0113720034598686E-2,8.9116037783506963E-2,0.11164313635233136,0.12338322728722395,0.11811044922991631,0.10183996751722746,0.10908201037399956,0.11344844598278425,0.11695954571131417,0.13151911054855159,0.1283729793495374,0.12420131063230389,0.12012387116632306,0.11570409323597874,0.11217494450590904,0.11038216952140179,0.11075902839500817,0.10945916088075225,0.10841967666631236,0.1096074046242379,0.11056992620719219,0.10841061402614871,0.10839438558232017,0.1078444004406931,0.10624127923877613,null,2015,{"$f":"HLOOKUP($W$7,dat,MATCH(CG57,Data!$B$3:$B$60,0),0)+1","v":1.0205143137615083},null,null,2015,{"$f":"PRODUCT(IF(($CL$13:$EK$13<=CL$13*TRANSPOSE($CK$14:$CK$65>=$CK57)),$CL$10:$EK$10,1))","v":1},{"$f":"PRODUCT(IF(($CL$13:$EK$13<=CM$13*TRANSPOSE($CK$14:$CK$65>=$CK57)),$CL$10:$EK$10,1))","v":1},{"$f":"PRODUCT(IF(($CL$13:$EK$13<=CN$13*TRANSPOSE($CK$14:$CK$65>=$CK57)),$CL$10:$EK$10,1))","v":1},{"$f":"PRODUCT(IF(($CL$13:$EK$13<=CO$13*TRANSPOSE($CK$14:$CK$65>=$CK57)),$CL$10:$EK$10,1))","v":1},{"$f":"PRODUCT(IF(($CL$13:$EK$13<=CP$13*TRANSPOSE($CK$14:$CK$65>=$CK57)),$CL$10:$EK$10,1))","v":1},{"$f":"PRODUCT(IF(($CL$13:$EK$13<=CQ$13*TRANSPOSE($CK$14:$CK$65>=$CK57)),$CL$10:$EK$10,1))","v":1},{"$f":"PRODUCT(IF(($CL$13:$EK$13<=CR$13*TRANSPOSE($CK$14:$CK$65>=$CK57)),$CL$10:$EK$10,1))","v":1},{"$f":"PRODUCT(IF(($CL$13:$EK$13<=CS$13*TRANSPOSE($CK$14:$CK$65>=$CK57)),$CL$10:$EK$10,1))","v":1},{"$f":"PRODUCT(IF(($CL$13:$EK$13<=CT$13*TRANSPOSE($CK$14:$CK$65>=$CK57)),$CL$10:$EK$10,1))","v":1},{"$f":"PRODUCT(IF(($CL$13:$EK$13<=CU$13*TRANSPOSE($CK$14:$CK$65>=$CK57)),$CL$10:$EK$10,1))","v":1},{"$f":"PRODUCT(IF(($CL$13:$EK$13<=CV$13*TRANSPOSE($CK$14:$CK$65>=$CK57)),$CL$10:$EK$10,1))","v":1},{"$f":"PRODUCT(IF(($CL$13:$EK$13<=CW$13*TRANSPOSE($CK$14:$CK$65>=$CK57)),$CL$10:$EK$10,1))","v":1},{"$f":"PRODUCT(IF(($CL$13:$EK$13<=CX$13*TRANSPOSE($CK$14:$CK$65>=$CK57)),$CL$10:$EK$10,1))","v":1},{"$f":"PRODUCT(IF(($CL$13:$EK$13<=CY$13*TRANSPOSE($CK$14:$CK$65>=$CK57)),$CL$10:$EK$10,1))","v":1},{"$f":"PRODUCT(IF(($CL$13:$EK$13<=CZ$13*TRANSPOSE($CK$14:$CK$65>=$CK57)),$CL$10:$EK$10,1))","v":1},{"$f":"PRODUCT(IF(($CL$13:$EK$13<=DA$13*TRANSPOSE($CK$14:$CK$65>=$CK57)),$CL$10:$EK$10,1))","v":1},{"$f":"PRODUCT(IF(($CL$13:$EK$13<=DB$13*TRANSPOSE($CK$14:$CK$65>=$CK57)),$CL$10:$EK$10,1))","v":1},{"$f":"PRODUCT(IF(($CL$13:$EK$13<=DC$13*TRANSPOSE($CK$14:$CK$65>=$CK57)),$CL$10:$EK$10,1))","v":1},{"$f":"PRODUCT(IF(($CL$13:$EK$13<=DD$13*TRANSPOSE($CK$14:$CK$65>=$CK57)),$CL$10:$EK$10,1))","v":1},{"$f":"PRODUCT(IF(($CL$13:$EK$13<=DE$13*TRANSPOSE($CK$14:$CK$65>=$CK57)),$CL$10:$EK$10,1))","v":1},{"$f":"PRODUCT(IF(($CL$13:$EK$13<=DF$13*TRANSPOSE($CK$14:$CK$65>=$CK57)),$CL$10:$EK$10,1))","v":1},{"$f":"PRODUCT(IF(($CL$13:$EK$13<=DG$13*TRANSPOSE($CK$14:$CK$65>=$CK57)),$CL$10:$EK$10,1))","v":1},{"$f":"PRODUCT(IF(($CL$13:$EK$13<=DH$13*TRANSPOSE($CK$14:$CK$65>=$CK57)),$CL$10:$EK$10,1))","v":1},{"$f":"PRODUCT(IF(($CL$13:$EK$13<=DI$13*TRANSPOSE($CK$14:$CK$65>=$CK57)),$CL$10:$EK$10,1))","v":1},{"$f":"PRODUCT(IF(($CL$13:$EK$13<=DJ$13*TRANSPOSE($CK$14:$CK$65>=$CK57)),$CL$10:$EK$10,1))","v":1},{"$f":"PRODUCT(IF(($CL$13:$EK$13<=DK$13*TRANSPOSE($CK$14:$CK$65>=$CK57)),$CL$10:$EK$10,1))","v":1},{"$f":"PRODUCT(IF(($CL$13:$EK$13<=DL$13*TRANSPOSE($CK$14:$CK$65>=$CK57)),$CL$10:$EK$10,1))","v":1},{"$f":"PRODUCT(IF(($CL$13:$EK$13<=DM$13*TRANSPOSE($CK$14:$CK$65>=$CK57)),$CL$10:$EK$10,1))","v":1},{"$f":"PRODUCT(IF(($CL$13:$EK$13<=DN$13*TRANSPOSE($CK$14:$CK$65>=$CK57)),$CL$10:$EK$10,1))","v":1},{"$f":"PRODUCT(IF(($CL$13:$EK$13<=DO$13*TRANSPOSE($CK$14:$CK$65>=$CK57)),$CL$10:$EK$10,1))","v":1},{"$f":"PRODUCT(IF(($CL$13:$EK$13<=DP$13*TRANSPOSE($CK$14:$CK$65>=$CK57)),$CL$10:$EK$10,1))","v":1},{"$f":"PRODUCT(IF(($CL$13:$EK$13<=DQ$13*TRANSPOSE($CK$14:$CK$65>=$CK57)),$CL$10:$EK$10,1))","v":1},{"$f":"PRODUCT(IF(($CL$13:$EK$13<=DR$13*TRANSPOSE($CK$14:$CK$65>=$CK57)),$CL$10:$EK$10,1))","v":1},{"$f":"PRODUCT(IF(($CL$13:$EK$13<=DS$13*TRANSPOSE($CK$14:$CK$65>=$CK57)),$CL$10:$EK$10,1))","v":1},{"$f":"PRODUCT(IF(($CL$13:$EK$13<=DT$13*TRANSPOSE($CK$14:$CK$65>=$CK57)),$CL$10:$EK$10,1))","v":1},{"$f":"PRODUCT(IF(($CL$13:$EK$13<=DU$13*TRANSPOSE($CK$14:$CK$65>=$CK57)),$CL$10:$EK$10,1))","v":1},{"$f":"PRODUCT(IF(($CL$13:$EK$13<=DV$13*TRANSPOSE($CK$14:$CK$65>=$CK57)),$CL$10:$EK$10,1))","v":1},{"$f":"PRODUCT(IF(($CL$13:$EK$13<=DW$13*TRANSPOSE($CK$14:$CK$65>=$CK57)),$CL$10:$EK$10,1))","v":1},{"$f":"PRODUCT(IF(($CL$13:$EK$13<=DX$13*TRANSPOSE($CK$14:$CK$65>=$CK57)),$CL$10:$EK$10,1))","v":1},{"$f":"PRODUCT(IF(($CL$13:$EK$13<=DY$13*TRANSPOSE($CK$14:$CK$65>=$CK57)),$CL$10:$EK$10,1))","v":1},{"$f":"PRODUCT(IF(($CL$13:$EK$13<=DZ$13*TRANSPOSE($CK$14:$CK$65>=$CK57)),$CL$10:$EK$10,1))","v":1},{"$f":"PRODUCT(IF(($CL$13:$EK$13<=EA$13*TRANSPOSE($CK$14:$CK$65>=$CK57)),$CL$10:$EK$10,1))","v":1},{"$f":"PRODUCT(IF(($CL$13:$EK$13<=EB$13*TRANSPOSE($CK$14:$CK$65>=$CK57)),$CL$10:$EK$10,1))","v":1},{"$f":"PRODUCT(IF(($CL$13:$EK$13<=EC$13*TRANSPOSE($CK$14:$CK$65>=$CK57)),$CL$10:$EK$10,1))","v":1.0205143137615083},{"$f":"PRODUCT(IF(($CL$13:$EK$13<=ED$13*TRANSPOSE($CK$14:$CK$65>=$CK57)),$CL$10:$EK$10,1))","v":1.0310613439662508},{"$f":"PRODUCT(IF(($CL$13:$EK$13<=EE$13*TRANSPOSE($CK$14:$CK$65>=$CK57)),$CL$10:$EK$10,1))","v":1.0399013074568606},{"$f":"PRODUCT(IF(($CL$13:$EK$13<=EF$13*TRANSPOSE($CK$14:$CK$65>=$CK57)),$CL$10:$EK$10,1))","v":1.0860096387945188},{"$f":"PRODUCT(IF(($CL$13:$EK$13<=EG$13*TRANSPOSE($CK$14:$CK$65>=$CK57)),$CL$10:$EK$10,1))","v":1.1121529936273242},{"$f":"PRODUCT(IF(($CL$13:$EK$13<=EH$13*TRANSPOSE($CK$14:$CK$65>=$CK57)),$CL$10:$EK$10,1))","v":1.1555013011130939},{"$f":"PRODUCT(IF(($CL$13:$EK$13<=EI$13*TRANSPOSE($CK$14:$CK$65>=$CK57)),$CL$10:$EK$10,1))","v":1.2590299548494062},{"$f":"PRODUCT(IF(($CL$13:$EK$13<=EJ$13*TRANSPOSE($CK$14:$CK$65>=$CK57)),$CL$10:$EK$10,1))","v":1.4454303501482002},{"$f":"PRODUCT(IF(($CL$13:$EK$13<=EK$13*TRANSPOSE($CK$14:$CK$65>=$CK57)),$CL$10:$EK$10,1))","v":1.5409503394553408}]
[null,null,2017,null,null,null,null,null,null,null,null,null,null,null,null,null,null,null,null,null,null,null,null,null,null,null,null,null,null,null,null,null,null,null,null,null,null,null,null,null,null,null,null,null,null,null,null,null,8.573654266393671E-3,2.6300611104150606E-2,2.5557488483146207E-2,2.8896011066208649E-2,4.0759327064354034E-2,5.7918253972651934E-2,5.908096524187334E-2,null,2016,1.0335014475071125E-2,1.541190852099561E-2,3.668311074384234E-2,6.8862808886433147E-2,9.0599749360145809E-2,0.10369950260594107,0.10203714875415271,8.9963317273662691E-2,9.7649931600139794E-2,0.10268036810837344,0.10681834690424075,0.12088791260863974,0.11882290545591934,0.11565861715812509,0.11244703481975082,0.10880787061311747,0.10590981543109712,0.1045727081564729,0.10523296128077186,0.10427953753639474,0.10354003232389175,0.10489031570675666,0.1060119003839155,0.1041401595656366,0.10429513973835824,0.10392556617267079,null,2016,{"$f":"HLOOKUP($W$7,dat,MATCH(CG58,Data!$B$3:$B$60,0),0)+1","v":1.0103350144750711},null,null,2016,{"$f":"PRODUCT(IF(($CL$13:$EK$13<=CL$13*TRANSPOSE($CK$14:$CK$65>=$CK58)),$CL$10:$EK$10,1))","v":1},{"$f":"PRODUCT(IF(($CL$13:$EK$13<=CM$13*TRANSPOSE($CK$14:$CK$65>=$CK58)),$CL$10:$EK$10,1))","v":1},{"$f":"PRODUCT(IF(($CL$13:$EK$13<=CN$13*TRANSPOSE($CK$14:$CK$65>=$CK58)),$CL$10:$EK$10,1))","v":1},{"$f":"PRODUCT(IF(($CL$13:$EK$13<=CO$13*TRANSPOSE($CK$14:$CK$65>=$CK58)),$CL$10:$EK$10,1))","v":1},{"$f":"PRODUCT(IF(($CL$13:$EK$13<=CP$13*TRANSPOSE($CK$14:$CK$65>=$CK58)),$CL$10:$EK$10,1))","v":1},{"$f":"PRODUCT(IF(($CL$13:$EK$13<=CQ$13*TRANSPOSE($CK$14:$CK$65>=$CK58)),$CL$10:$EK$10,1))","v":1},{"$f":"PRODUCT(IF(($CL$13:$EK$13<=CR$13*TRANSPOSE($CK$14:$CK$65>=$CK58)),$CL$10:$EK$10,1))","v":1},{"$f":"PRODUCT(IF(($CL$13:$EK$13<=CS$13*TRANSPOSE($CK$14:$CK$65>=$CK58)),$CL$10:$EK$10,1))","v":1},{"$f":"PRODUCT(IF(($CL$13:$EK$13<=CT$13*TRANSPOSE($CK$14:$CK$65>=$CK58)),$CL$10:$EK$10,1))","v":1},{"$f":"PRODUCT(IF(($CL$13:$EK$13<=CU$13*TRANSPOSE($CK$14:$CK$65>=$CK58)),$CL$10:$EK$10,1))","v":1},{"$f":"PRODUCT(IF(($CL$13:$EK$13<=CV$13*TRANSPOSE($CK$14:$CK$65>=$CK58)),$CL$10:$EK$10,1))","v":1},{"$f":"PRODUCT(IF(($CL$13:$EK$13<=CW$13*TRANSPOSE($CK$14:$CK$65>=$CK58)),$CL$10:$EK$10,1))","v":1},{"$f":"PRODUCT(IF(($CL$13:$EK$13<=CX$13*TRANSPOSE($CK$14:$CK$65>=$CK58)),$CL$10:$EK$10,1))","v":1},{"$f":"PRODUCT(IF(($CL$13:$EK$13<=CY$13*TRANSPOSE($CK$14:$CK$65>=$CK58)),$CL$10:$EK$10,1))","v":1},{"$f":"PRODUCT(IF(($CL$13:$EK$13<=CZ$13*TRANSPOSE($CK$14:$CK$65>=$CK58)),$CL$10:$EK$10,1))","v":1},{"$f":"PRODUCT(IF(($CL$13:$EK$13<=DA$13*TRANSPOSE($CK$14:$CK$65>=$CK58)),$CL$10:$EK$10,1))","v":1},{"$f":"PRODUCT(IF(($CL$13:$EK$13<=DB$13*TRANSPOSE($CK$14:$CK$65>=$CK58)),$CL$10:$EK$10,1))","v":1},{"$f":"PRODUCT(IF(($CL$13:$EK$13<=DC$13*TRANSPOSE($CK$14:$CK$65>=$CK58)),$CL$10:$EK$10,1))","v":1},{"$f":"PRODUCT(IF(($CL$13:$EK$13<=DD$13*TRANSPOSE($CK$14:$CK$65>=$CK58)),$CL$10:$EK$10,1))","v":1},{"$f":"PRODUCT(IF(($CL$13:$EK$13<=DE$13*TRANSPOSE($CK$14:$CK$65>=$CK58)),$CL$10:$EK$10,1))","v":1},{"$f":"PRODUCT(IF(($CL$13:$EK$13<=DF$13*TRANSPOSE($CK$14:$CK$65>=$CK58)),$CL$10:$EK$10,1))","v":1},{"$f":"PRODUCT(IF(($CL$13:$EK$13<=DG$13*TRANSPOSE($CK$14:$CK$65>=$CK58)),$CL$10:$EK$10,1))","v":1},{"$f":"PRODUCT(IF(($CL$13:$EK$13<=DH$13*TRANSPOSE($CK$14:$CK$65>=$CK58)),$CL$10:$EK$10,1))","v":1},{"$f":"PRODUCT(IF(($CL$13:$EK$13<=DI$13*TRANSPOSE($CK$14:$CK$65>=$CK58)),$CL$10:$EK$10,1))","v":1},{"$f":"PRODUCT(IF(($CL$13:$EK$13<=DJ$13*TRANSPOSE($CK$14:$CK$65>=$CK58)),$CL$10:$EK$10,1))","v":1},{"$f":"PRODUCT(IF(($CL$13:$EK$13<=DK$13*TRANSPOSE($CK$14:$CK$65>=$CK58)),$CL$10:$EK$10,1))","v":1},{"$f":"PRODUCT(IF(($CL$13:$EK$13<=DL$13*TRANSPOSE($CK$14:$CK$65>=$CK58)),$CL$10:$EK$10,1))","v":1},{"$f":"PRODUCT(IF(($CL$13:$EK$13<=DM$13*TRANSPOSE($CK$14:$CK$65>=$CK58)),$CL$10:$EK$10,1))","v":1},{"$f":"PRODUCT(IF(($CL$13:$EK$13<=DN$13*TRANSPOSE($CK$14:$CK$65>=$CK58)),$CL$10:$EK$10,1))","v":1},{"$f":"PRODUCT(IF(($CL$13:$EK$13<=DO$13*TRANSPOSE($CK$14:$CK$65>=$CK58)),$CL$10:$EK$10,1))","v":1},{"$f":"PRODUCT(IF(($CL$13:$EK$13<=DP$13*TRANSPOSE($CK$14:$CK$65>=$CK58)),$CL$10:$EK$10,1))","v":1},{"$f":"PRODUCT(IF(($CL$13:$EK$13<=DQ$13*TRANSPOSE($CK$14:$CK$65>=$CK58)),$CL$10:$EK$10,1))","v":1},{"$f":"PRODUCT(IF(($CL$13:$EK$13<=DR$13*TRANSPOSE($CK$14:$CK$65>=$CK58)),$CL$10:$EK$10,1))","v":1},{"$f":"PRODUCT(IF(($CL$13:$EK$13<=DS$13*TRANSPOSE($CK$14:$CK$65>=$CK58)),$CL$10:$EK$10,1))","v":1},{"$f":"PRODUCT(IF(($CL$13:$EK$13<=DT$13*TRANSPOSE($CK$14:$CK$65>=$CK58)),$CL$10:$EK$10,1))","v":1},{"$f":"PRODUCT(IF(($CL$13:$EK$13<=DU$13*TRANSPOSE($CK$14:$CK$65>=$CK58)),$CL$10:$EK$10,1))","v":1},{"$f":"PRODUCT(IF(($CL$13:$EK$13<=DV$13*TRANSPOSE($CK$14:$CK$65>=$CK58)),$CL$10:$EK$10,1))","v":1},{"$f":"PRODUCT(IF(($CL$13:$EK$13<=DW$13*TRANSPOSE($CK$14:$CK$65>=$CK58)),$CL$10:$EK$10,1))","v":1},{"$f":"PRODUCT(IF(($CL$13:$EK$13<=DX$13*TRANSPOSE($CK$14:$CK$65>=$CK58)),$CL$10:$EK$10,1))","v":1},{"$f":"PRODUCT(IF(($CL$13:$EK$13<=DY$13*TRANSPOSE($CK$14:$CK$65>=$CK58)),$CL$10:$EK$10,1))","v":1},{"$f":"PRODUCT(IF(($CL$13:$EK$13<=DZ$13*TRANSPOSE($CK$14:$CK$65>=$CK58)),$CL$10:$EK$10,1))","v":1},{"$f":"PRODUCT(IF(($CL$13:$EK$13<=EA$13*TRANSPOSE($CK$14:$CK$65>=$CK58)),$CL$10:$EK$10,1))","v":1},{"$f":"PRODUCT(IF(($CL$13:$EK$13<=EB$13*TRANSPOSE($CK$14:$CK$65>=$CK58)),$CL$10:$EK$10,1))","v":1},{"$f":"PRODUCT(IF(($CL$13:$EK$13<=EC$13*TRANSPOSE($CK$14:$CK$65>=$CK58)),$CL$10:$EK$10,1))","v":1},{"$f":"PRODUCT(IF(($CL$13:$EK$13<=ED$13*TRANSPOSE($CK$14:$CK$65>=$CK58)),$CL$10:$EK$10,1))","v":1.0103350144750711},{"$f":"PRODUCT(IF(($CL$13:$EK$13<=EE$13*TRANSPOSE($CK$14:$CK$65>=$CK58)),$CL$10:$EK$10,1))","v":1.0189972775824123},{"$f":"PRODUCT(IF(($CL$13:$EK$13<=EF$13*TRANSPOSE($CK$14:$CK$65>=$CK58)),$CL$10:$EK$10,1))","v":1.0641787421791289},{"$f":"PRODUCT(IF(($CL$13:$EK$13<=EG$13*TRANSPOSE($CK$14:$CK$65>=$CK58)),$CL$10:$EK$10,1))","v":1.0897965649575707},{"$f":"PRODUCT(IF(($CL$13:$EK$13<=EH$13*TRANSPOSE($CK$14:$CK$65>=$CK58)),$CL$10:$EK$10,1))","v":1.1322734875261453},{"$f":"PRODUCT(IF(($CL$13:$EK$13<=EI$13*TRANSPOSE($CK$14:$CK$65>=$CK58)),$CL$10:$EK$10,1))","v":1.2337210148564741},{"$f":"PRODUCT(IF(($CL$13:$EK$13<=EJ$13*TRANSPOSE($CK$14:$CK$65>=$CK58)),$CL$10:$EK$10,1))","v":1.4163744012766428},{"$f":"PRODUCT(IF(($CL$13:$EK$13<=EK$13*TRANSPOSE($CK$14:$CK$65>=$CK58)),$CL$10:$EK$10,1))","v":1.5099742538402623}]
[null,null,2018,null,null,null,null,null,null,null,null,null,null,null,null,null,null,null,null,null,null,null,null,null,null,null,null,null,null,null,null,null,null,null,null,null,null,null,null,null,null,null,null,null,null,null,null,null,null,4.4339141615677757E-2,3.4156355937068783E-2,3.5760723123028582E-2,4.8964968632365435E-2,6.8073178178550631E-2,6.7741410560075543E-2,null,2017,8.573654266393671E-3,9.4539502039765466E-3,1.3127354319766305E-2,2.9583140330259328E-2,5.6523342642689878E-2,7.6479501975704745E-2,8.9579584379658961E-2,8.9896248186801753E-2,8.0604978186262111E-2,8.8399243248188153E-2,9.377411299208771E-2,9.8278011342999738E-2,0.11182109936802243,0.11056306455729747,0.10817856076946475,0.10565239260836101,0.10264519528040239,0.10026378525436264,9.9299579026307372E-2,0.10018702274229518,9.9522689717545187E-2,9.903546563179888E-2,0.10051743133298929,0.10177004109640397,0.10014908722025195,0.10045082393530236,null,2017,{"$f":"HLOOKUP($W$7,dat,MATCH(CG59,Data!$B$3:$B$60,0),0)+1","v":1.0085736542663937},null,null,2017,{"$f":"PRODUCT(IF(($CL$13:$EK$13<=CL$13*TRANSPOSE($CK$14:$CK$65>=$CK59)),$CL$10:$EK$10,1))","v":1},{"$f":"PRODUCT(IF(($CL$13:$EK$13<=CM$13*TRANSPOSE($CK$14:$CK$65>=$CK59)),$CL$10:$EK$10,1))","v":1},{"$f":"PRODUCT(IF(($CL$13:$EK$13<=CN$13*TRANSPOSE($CK$14:$CK$65>=$CK59)),$CL$10:$EK$10,1))","v":1},{"$f":"PRODUCT(IF(($CL$13:$EK$13<=CO$13*TRANSPOSE($CK$14:$CK$65>=$CK59)),$CL$10:$EK$10,1))","v":1},{"$f":"PRODUCT(IF(($CL$13:$EK$13<=CP$13*TRANSPOSE($CK$14:$CK$65>=$CK59)),$CL$10:$EK$10,1))","v":1},{"$f":"PRODUCT(IF(($CL$13:$EK$13<=CQ$13*TRANSPOSE($CK$14:$CK$65>=$CK59)),$CL$10:$EK$10,1))","v":1},{"$f":"PRODUCT(IF(($CL$13:$EK$13<=CR$13*TRANSPOSE($CK$14:$CK$65>=$CK59)),$CL$10:$EK$10,1))","v":1},{"$f":"PRODUCT(IF(($CL$13:$EK$13<=CS$13*TRANSPOSE($CK$14:$CK$65>=$CK59)),$CL$10:$EK$10,1))","v":1},{"$f":"PRODUCT(IF(($CL$13:$EK$13<=CT$13*TRANSPOSE($CK$14:$CK$65>=$CK59)),$CL$10:$EK$10,1))","v":1},{"$f":"PRODUCT(IF(($CL$13:$EK$13<=CU$13*TRANSPOSE($CK$14:$CK$65>=$CK59)),$CL$10:$EK$10,1))","v":1},{"$f":"PRODUCT(IF(($CL$13:$EK$13<=CV$13*TRANSPOSE($CK$14:$CK$65>=$CK59)),$CL$10:$EK$10,1))","v":1},{"$f":"PRODUCT(IF(($CL$13:$EK$13<=CW$13*TRANSPOSE($CK$14:$CK$65>=$CK59)),$CL$10:$EK$10,1))","v":1},{"$f":"PRODUCT(IF(($CL$13:$EK$13<=CX$13*TRANSPOSE($CK$14:$CK$65>=$CK59)),$CL$10:$EK$10,1))","v":1},{"$f":"PRODUCT(IF(($CL$13:$EK$13<=CY$13*TRANSPOSE($CK$14:$CK$65>=$CK59)),$CL$10:$EK$10,1))","v":1},{"$f":"PRODUCT(IF(($CL$13:$EK$13<=CZ$13*TRANSPOSE($CK$14:$CK$65>=$CK59)),$CL$10:$EK$10,1))","v":1},{"$f":"PRODUCT(IF(($CL$13:$EK$13<=DA$13*TRANSPOSE($CK$14:$CK$65>=$CK59)),$CL$10:$EK$10,1))","v":1},{"$f":"PRODUCT(IF(($CL$13:$EK$13<=DB$13*TRANSPOSE($CK$14:$CK$65>=$CK59)),$CL$10:$EK$10,1))","v":1},{"$f":"PRODUCT(IF(($CL$13:$EK$13<=DC$13*TRANSPOSE($CK$14:$CK$65>=$CK59)),$CL$10:$EK$10,1))","v":1},{"$f":"PRODUCT(IF(($CL$13:$EK$13<=DD$13*TRANSPOSE($CK$14:$CK$65>=$CK59)),$CL$10:$EK$10,1))","v":1},{"$f":"PRODUCT(IF(($CL$13:$EK$13<=DE$13*TRANSPOSE($CK$14:$CK$65>=$CK59)),$CL$10:$EK$10,1))","v":1},{"$f":"PRODUCT(IF(($CL$13:$EK$13<=DF$13*TRANSPOSE($CK$14:$CK$65>=$CK59)),$CL$10:$EK$10,1))","v":1},{"$f":"PRODUCT(IF(($CL$13:$EK$13<=DG$13*TRANSPOSE($CK$14:$CK$65>=$CK59)),$CL$10:$EK$10,1))","v":1},{"$f":"PRODUCT(IF(($CL$13:$EK$13<=DH$13*TRANSPOSE($CK$14:$CK$65>=$CK59)),$CL$10:$EK$10,1))","v":1},{"$f":"PRODUCT(IF(($CL$13:$EK$13<=DI$13*TRANSPOSE($CK$14:$CK$65>=$CK59)),$CL$10:$EK$10,1))","v":1},{"$f":"PRODUCT(IF(($CL$13:$EK$13<=DJ$13*TRANSPOSE($CK$14:$CK$65>=$CK59)),$CL$10:$EK$10,1))","v":1},{"$f":"PRODUCT(IF(($CL$13:$EK$13<=DK$13*TRANSPOSE($CK$14:$CK$65>=$CK59)),$CL$10:$EK$10,1))","v":1},{"$f":"PRODUCT(IF(($CL$13:$EK$13<=DL$13*TRANSPOSE($CK$14:$CK$65>=$CK59)),$CL$10:$EK$10,1))","v":1},{"$f":"PRODUCT(IF(($CL$13:$EK$13<=DM$13*TRANSPOSE($CK$14:$CK$65>=$CK59)),$CL$10:$EK$10,1))","v":1},{"$f":"PRODUCT(IF(($CL$13:$EK$13<=DN$13*TRANSPOSE($CK$14:$CK$65>=$CK59)),$CL$10:$EK$10,1))","v":1},{"$f":"PRODUCT(IF(($CL$13:$EK$13<=DO$13*TRANSPOSE($CK$14:$CK$65>=$CK59)),$CL$10:$EK$10,1))","v":1},{"$f":"PRODUCT(IF(($CL$13:$EK$13<=DP$13*TRANSPOSE($CK$14:$CK$65>=$CK59)),$CL$10:$EK$10,1))","v":1},{"$f":"PRODUCT(IF(($CL$13:$EK$13<=DQ$13*TRANSPOSE($CK$14:$CK$65>=$CK59)),$CL$10:$EK$10,1))","v":1},{"$f":"PRODUCT(IF(($CL$13:$EK$13<=DR$13*TRANSPOSE($CK$14:$CK$65>=$CK59)),$CL$10:$EK$10,1))","v":1},{"$f":"PRODUCT(IF(($CL$13:$EK$13<=DS$13*TRANSPOSE($CK$14:$CK$65>=$CK59)),$CL$10:$EK$10,1))","v":1},{"$f":"PRODUCT(IF(($CL$13:$EK$13<=DT$13*TRANSPOSE($CK$14:$CK$65>=$CK59)),$CL$10:$EK$10,1))","v":1},{"$f":"PRODUCT(IF(($CL$13:$EK$13<=DU$13*TRANSPOSE($CK$14:$CK$65>=$CK59)),$CL$10:$EK$10,1))","v":1},{"$f":"PRODUCT(IF(($CL$13:$EK$13<=DV$13*TRANSPOSE($CK$14:$CK$65>=$CK59)),$CL$10:$EK$10,1))","v":1},{"$f":"PRODUCT(IF(($CL$13:$EK$13<=DW$13*TRANSPOSE($CK$14:$CK$65>=$CK59)),$CL$10:$EK$10,1))","v":1},{"$f":"PRODUCT(IF(($CL$13:$EK$13<=DX$13*TRANSPOSE($CK$14:$CK$65>=$CK59)),$CL$10:$EK$10,1))","v":1},{"$f":"PRODUCT(IF(($CL$13:$EK$13<=DY$13*TRANSPOSE($CK$14:$CK$65>=$CK59)),$CL$10:$EK$10,1))","v":1},{"$f":"PRODUCT(IF(($CL$13:$EK$13<=DZ$13*TRANSPOSE($CK$14:$CK$65>=$CK59)),$CL$10:$EK$10,1))","v":1},{"$f":"PRODUCT(IF(($CL$13:$EK$13<=EA$13*TRANSPOSE($CK$14:$CK$65>=$CK59)),$CL$10:$EK$10,1))","v":1},{"$f":"PRODUCT(IF(($CL$13:$EK$13<=EB$13*TRANSPOSE($CK$14:$CK$65>=$CK59)),$CL$10:$EK$10,1))","v":1},{"$f":"PRODUCT(IF(($CL$13:$EK$13<=EC$13*TRANSPOSE($CK$14:$CK$65>=$CK59)),$CL$10:$EK$10,1))","v":1},{"$f":"PRODUCT(IF(($CL$13:$EK$13<=ED$13*TRANSPOSE($CK$14:$CK$65>=$CK59)),$CL$10:$EK$10,1))","v":1},{"$f":"PRODUCT(IF(($CL$13:$EK$13<=EE$13*TRANSPOSE($CK$14:$CK$65>=$CK59)),$CL$10:$EK$10,1))","v":1.0085736542663937},{"$f":"PRODUCT(IF(($CL$13:$EK$13<=EF$13*TRANSPOSE($CK$14:$CK$65>=$CK59)),$CL$10:$EK$10,1))","v":1.053292944352753},{"$f":"PRODUCT(IF(($CL$13:$EK$13<=EG$13*TRANSPOSE($CK$14:$CK$65>=$CK59)),$CL$10:$EK$10,1))","v":1.0786487148758124},{"$f":"PRODUCT(IF(($CL$13:$EK$13<=EH$13*TRANSPOSE($CK$14:$CK$65>=$CK59)),$CL$10:$EK$10,1))","v":1.1206911284911059},{"$f":"PRODUCT(IF(($CL$13:$EK$13<=EI$13*TRANSPOSE($CK$14:$CK$65>=$CK59)),$CL$10:$EK$10,1))","v":1.2211009191812134},{"$f":"PRODUCT(IF(($CL$13:$EK$13<=EJ$13*TRANSPOSE($CK$14:$CK$65>=$CK59)),$CL$10:$EK$10,1))","v":1.4018858903079123},{"$f":"PRODUCT(IF(($CL$13:$EK$13<=EK$13*TRANSPOSE($CK$14:$CK$65>=$CK59)),$CL$10:$EK$10,1))","v":1.4945282824081705}]
[null,null,2019,null,null,null,null,null,null,null,null,null,null,null,null,null,null,null,null,null,null,null,null,null,null,null,null,null,null,null,null,null,null,null,null,null,null,null,null,null,null,null,null,null,null,null,null,null,null,null,2.4072857089762811E-2,3.1497974505760862E-2,5.0511459781299228E-2,7.4090492628560156E-2,7.2484421742605498E-2,null,2018,4.4339141615677757E-2,2.6300611104150606E-2,2.0950908108108734E-2,2.0841742013682385E-2,3.2517565971705409E-2,5.4482815322362876E-2,7.182816055739516E-2,8.3819054434147944E-2,8.4737757607114439E-2,7.6922431530639823E-2,8.4318119684398729E-2,8.9566645926084654E-2,9.4031746724310139E-2,0.10685958169592213,0.10602034082148659,0.10407666775958435,0.1019480894653062,9.9322200788735326E-2,9.7247086391957449E-2,9.6484094831263079E-2,9.7461108437040034E-2,9.6952222086313267E-2,9.6598853774667592E-2,9.8117431037796576E-2,9.9413290921583908E-2,9.7948394205761957E-2,null,2018,{"$f":"HLOOKUP($W$7,dat,MATCH(CG60,Data!$B$3:$B$60,0),0)+1","v":1.0443391416156778},null,null,2018,{"$f":"PRODUCT(IF(($CL$13:$EK$13<=CL$13*TRANSPOSE($CK$14:$CK$65>=$CK60)),$CL$10:$EK$10,1))","v":1},{"$f":"PRODUCT(IF(($CL$13:$EK$13<=CM$13*TRANSPOSE($CK$14:$CK$65>=$CK60)),$CL$10:$EK$10,1))","v":1},{"$f":"PRODUCT(IF(($CL$13:$EK$13<=CN$13*TRANSPOSE($CK$14:$CK$65>=$CK60)),$CL$10:$EK$10,1))","v":1},{"$f":"PRODUCT(IF(($CL$13:$EK$13<=CO$13*TRANSPOSE($CK$14:$CK$65>=$CK60)),$CL$10:$EK$10,1))","v":1},{"$f":"PRODUCT(IF(($CL$13:$EK$13<=CP$13*TRANSPOSE($CK$14:$CK$65>=$CK60)),$CL$10:$EK$10,1))","v":1},{"$f":"PRODUCT(IF(($CL$13:$EK$13<=CQ$13*TRANSPOSE($CK$14:$CK$65>=$CK60)),$CL$10:$EK$10,1))","v":1},{"$f":"PRODUCT(IF(($CL$13:$EK$13<=CR$13*TRANSPOSE($CK$14:$CK$65>=$CK60)),$CL$10:$EK$10,1))","v":1},{"$f":"PRODUCT(IF(($CL$13:$EK$13<=CS$13*TRANSPOSE($CK$14:$CK$65>=$CK60)),$CL$10:$EK$10,1))","v":1},{"$f":"PRODUCT(IF(($CL$13:$EK$13<=CT$13*TRANSPOSE($CK$14:$CK$65>=$CK60)),$CL$10:$EK$10,1))","v":1},{"$f":"PRODUCT(IF(($CL$13:$EK$13<=CU$13*TRANSPOSE($CK$14:$CK$65>=$CK60)),$CL$10:$EK$10,1))","v":1},{"$f":"PRODUCT(IF(($CL$13:$EK$13<=CV$13*TRANSPOSE($CK$14:$CK$65>=$CK60)),$CL$10:$EK$10,1))","v":1},{"$f":"PRODUCT(IF(($CL$13:$EK$13<=CW$13*TRANSPOSE($CK$14:$CK$65>=$CK60)),$CL$10:$EK$10,1))","v":1},{"$f":"PRODUCT(IF(($CL$13:$EK$13<=CX$13*TRANSPOSE($CK$14:$CK$65>=$CK60)),$CL$10:$EK$10,1))","v":1},{"$f":"PRODUCT(IF(($CL$13:$EK$13<=CY$13*TRANSPOSE($CK$14:$CK$65>=$CK60)),$CL$10:$EK$10,1))","v":1},{"$f":"PRODUCT(IF(($CL$13:$EK$13<=CZ$13*TRANSPOSE($CK$14:$CK$65>=$CK60)),$CL$10:$EK$10,1))","v":1},{"$f":"PRODUCT(IF(($CL$13:$EK$13<=DA$13*TRANSPOSE($CK$14:$CK$65>=$CK60)),$CL$10:$EK$10,1))","v":1},{"$f":"PRODUCT(IF(($CL$13:$EK$13<=DB$13*TRANSPOSE($CK$14:$CK$65>=$CK60)),$CL$10:$EK$10,1))","v":1},{"$f":"PRODUCT(IF(($CL$13:$EK$13<=DC$13*TRANSPOSE($CK$14:$CK$65>=$CK60)),$CL$10:$EK$10,1))","v":1},{"$f":"PRODUCT(IF(($CL$13:$EK$13<=DD$13*TRANSPOSE($CK$14:$CK$65>=$CK60)),$CL$10:$EK$10,1))","v":1},{"$f":"PRODUCT(IF(($CL$13:$EK$13<=DE$13*TRANSPOSE($CK$14:$CK$65>=$CK60)),$CL$10:$EK$10,1))","v":1},{"$f":"PRODUCT(IF(($CL$13:$EK$13<=DF$13*TRANSPOSE($CK$14:$CK$65>=$CK60)),$CL$10:$EK$10,1))","v":1},{"$f":"PRODUCT(IF(($CL$13:$EK$13<=DG$13*TRANSPOSE($CK$14:$CK$65>=$CK60)),$CL$10:$EK$10,1))","v":1},{"$f":"PRODUCT(IF(($CL$13:$EK$13<=DH$13*TRANSPOSE($CK$14:$CK$65>=$CK60)),$CL$10:$EK$10,1))","v":1},{"$f":"PRODUCT(IF(($CL$13:$EK$13<=DI$13*TRANSPOSE($CK$14:$CK$65>=$CK60)),$CL$10:$EK$10,1))","v":1},{"$f":"PRODUCT(IF(($CL$13:$EK$13<=DJ$13*TRANSPOSE($CK$14:$CK$65>=$CK60)),$CL$10:$EK$10,1))","v":1},{"$f":"PRODUCT(IF(($CL$13:$EK$13<=DK$13*TRANSPOSE($CK$14:$CK$65>=$CK60)),$CL$10:$EK$10,1))","v":1},{"$f":"PRODUCT(IF(($CL$13:$EK$13<=DL$13*TRANSPOSE($CK$14:$CK$65>=$CK60)),$CL$10:$EK$10,1))","v":1},{"$f":"PRODUCT(IF(($CL$13:$EK$13<=DM$13*TRANSPOSE($CK$14:$CK$65>=$CK60)),$CL$10:$EK$10,1))","v":1},{"$f":"PRODUCT(IF(($CL$13:$EK$13<=DN$13*TRANSPOSE($CK$14:$CK$65>=$CK60)),$CL$10:$EK$10,1))","v":1},{"$f":"PRODUCT(IF(($CL$13:$EK$13<=DO$13*TRANSPOSE($CK$14:$CK$65>=$CK60)),$CL$10:$EK$10,1))","v":1},{"$f":"PRODUCT(IF(($CL$13:$EK$13<=DP$13*TRANSPOSE($CK$14:$CK$65>=$CK60)),$CL$10:$EK$10,1))","v":1},{"$f":"PRODUCT(IF(($CL$13:$EK$13<=DQ$13*TRANSPOSE($CK$14:$CK$65>=$CK60)),$CL$10:$EK$10,1))","v":1},{"$f":"PRODUCT(IF(($CL$13:$EK$13<=DR$13*TRANSPOSE($CK$14:$CK$65>=$CK60)),$CL$10:$EK$10,1))","v":1},{"$f":"PRODUCT(IF(($CL$13:$EK$13<=DS$13*TRANSPOSE($CK$14:$CK$65>=$CK60)),$CL$10:$EK$10,1))","v":1},{"$f":"PRODUCT(IF(($CL$13:$EK$13<=DT$13*TRANSPOSE($CK$14:$CK$65>=$CK60)),$CL$10:$EK$10,1))","v":1},{"$f":"PRODUCT(IF(($CL$13:$EK$13<=DU$13*TRANSPOSE($CK$14:$CK$65>=$CK60)),$CL$10:$EK$10,1))","v":1},{"$f":"PRODUCT(IF(($CL$13:$EK$13<=DV$13*TRANSPOSE($CK$14:$CK$65>=$CK60)),$CL$10:$EK$10,1))","v":1},{"$f":"PRODUCT(IF(($CL$13:$EK$13<=DW$13*TRANSPOSE($CK$14:$CK$65>=$CK60)),$CL$10:$EK$10,1))","v":1},{"$f":"PRODUCT(IF(($CL$13:$EK$13<=DX$13*TRANSPOSE($CK$14:$CK$65>=$CK60)),$CL$10:$EK$10,1))","v":1},{"$f":"PRODUCT(IF(($CL$13:$EK$13<=DY$13*TRANSPOSE($CK$14:$CK$65>=$CK60)),$CL$10:$EK$10,1))","v":1},{"$f":"PRODUCT(IF(($CL$13:$EK$13<=DZ$13*TRANSPOSE($CK$14:$CK$65>=$CK60)),$CL$10:$EK$10,1))","v":1},{"$f":"PRODUCT(IF(($CL$13:$EK$13<=EA$13*TRANSPOSE($CK$14:$CK$65>=$CK60)),$CL$10:$EK$10,1))","v":1},{"$f":"PRODUCT(IF(($CL$13:$EK$13<=EB$13*TRANSPOSE($CK$14:$CK$65>=$CK60)),$CL$10:$EK$10,1))","v":1},{"$f":"PRODUCT(IF(($CL$13:$EK$13<=EC$13*TRANSPOSE($CK$14:$CK$65>=$CK60)),$CL$10:$EK$10,1))","v":1},{"$f":"PRODUCT(IF(($CL$13:$EK$13<=ED$13*TRANSPOSE($CK$14:$CK$65>=$CK60)),$CL$10:$EK$10,1))","v":1},{"$f":"PRODUCT(IF(($CL$13:$EK$13<=EE$13*TRANSPOSE($CK$14:$CK$65>=$CK60)),$CL$10:$EK$10,1))","v":1},{"$f":"PRODUCT(IF(($CL$13:$EK$13<=EF$13*TRANSPOSE($CK$14:$CK$65>=$CK60)),$CL$10:$EK$10,1))","v":1.0443391416156778},{"$f":"PRODUCT(IF(($CL$13:$EK$13<=EG$13*TRANSPOSE($CK$14:$CK$65>=$CK60)),$CL$10:$EK$10,1))","v":1.0694793685250374},{"$f":"PRODUCT(IF(($CL$13:$EK$13<=EH$13*TRANSPOSE($CK$14:$CK$65>=$CK60)),$CL$10:$EK$10,1))","v":1.1111643891851042},{"$f":"PRODUCT(IF(($CL$13:$EK$13<=EI$13*TRANSPOSE($CK$14:$CK$65>=$CK60)),$CL$10:$EK$10,1))","v":1.2107206191791771},{"$f":"PRODUCT(IF(($CL$13:$EK$13<=EJ$13*TRANSPOSE($CK$14:$CK$65>=$CK60)),$CL$10:$EK$10,1))","v":1.3899687785594619},{"$f":"PRODUCT(IF(($CL$13:$EK$13<=EK$13*TRANSPOSE($CK$14:$CK$65>=$CK60)),$CL$10:$EK$10,1))","v":1.4818236388449444}]
[null,null,2020,null,null,null,null,null,null,null,null,null,null,null,null,null,null,null,null,null,null,null,null,null,null,null,null,null,null,null,null,null,null,null,null,null,null,null,null,null,null,null,null,null,null,null,null,null,null,null,null,{"$f":"IF(EH62=1,\"\",EH62^(1/(EH$13-$CK62+1))-1)","v":3.8976928295078928E-2},6.3985633411179244E-2,9.1300141295723058E-2,8.4940763629695049E-2,null,2019,2.4072857089762811E-2,3.4156355937068783E-2,2.5557488483146207E-2,2.1730501956961135E-2,2.1487148422653313E-2,3.1105294044866394E-2,5.0083863867060208E-2,6.5739039212826311E-2,7.7012063791397356E-2,7.8512957457712806E-2,7.2007281151928559E-2,7.9165104095698657E-2,8.4383259241789688E-2,8.8879925006905003E-2,0.10113800107131166,0.10071173840141845,9.9202134090874194E-2,9.7470328392144756E-2,9.5227283897603154E-2,9.3467192259668375E-2,9.2922605222228061E-2,9.4013933229833757E-2,9.3678281827420662E-2,9.3476822475447419E-2,9.5055342144979349E-2,9.6415606627785921E-2,null,2019,{"$f":"HLOOKUP($W$7,dat,MATCH(CG61,Data!$B$3:$B$60,0),0)+1","v":1.0240728570897628},null,null,2019,{"$f":"PRODUCT(IF(($CL$13:$EK$13<=CL$13*TRANSPOSE($CK$14:$CK$65>=$CK61)),$CL$10:$EK$10,1))","v":1},{"$f":"PRODUCT(IF(($CL$13:$EK$13<=CM$13*TRANSPOSE($CK$14:$CK$65>=$CK61)),$CL$10:$EK$10,1))","v":1},{"$f":"PRODUCT(IF(($CL$13:$EK$13<=CN$13*TRANSPOSE($CK$14:$CK$65>=$CK61)),$CL$10:$EK$10,1))","v":1},{"$f":"PRODUCT(IF(($CL$13:$EK$13<=CO$13*TRANSPOSE($CK$14:$CK$65>=$CK61)),$CL$10:$EK$10,1))","v":1},{"$f":"PRODUCT(IF(($CL$13:$EK$13<=CP$13*TRANSPOSE($CK$14:$CK$65>=$CK61)),$CL$10:$EK$10,1))","v":1},{"$f":"PRODUCT(IF(($CL$13:$EK$13<=CQ$13*TRANSPOSE($CK$14:$CK$65>=$CK61)),$CL$10:$EK$10,1))","v":1},{"$f":"PRODUCT(IF(($CL$13:$EK$13<=CR$13*TRANSPOSE($CK$14:$CK$65>=$CK61)),$CL$10:$EK$10,1))","v":1},{"$f":"PRODUCT(IF(($CL$13:$EK$13<=CS$13*TRANSPOSE($CK$14:$CK$65>=$CK61)),$CL$10:$EK$10,1))","v":1},{"$f":"PRODUCT(IF(($CL$13:$EK$13<=CT$13*TRANSPOSE($CK$14:$CK$65>=$CK61)),$CL$10:$EK$10,1))","v":1},{"$f":"PRODUCT(IF(($CL$13:$EK$13<=CU$13*TRANSPOSE($CK$14:$CK$65>=$CK61)),$CL$10:$EK$10,1))","v":1},{"$f":"PRODUCT(IF(($CL$13:$EK$13<=CV$13*TRANSPOSE($CK$14:$CK$65>=$CK61)),$CL$10:$EK$10,1))","v":1},{"$f":"PRODUCT(IF(($CL$13:$EK$13<=CW$13*TRANSPOSE($CK$14:$CK$65>=$CK61)),$CL$10:$EK$10,1))","v":1},{"$f":"PRODUCT(IF(($CL$13:$EK$13<=CX$13*TRANSPOSE($CK$14:$CK$65>=$CK61)),$CL$10:$EK$10,1))","v":1},{"$f":"PRODUCT(IF(($CL$13:$EK$13<=CY$13*TRANSPOSE($CK$14:$CK$65>=$CK61)),$CL$10:$EK$10,1))","v":1},{"$f":"PRODUCT(IF(($CL$13:$EK$13<=CZ$13*TRANSPOSE($CK$14:$CK$65>=$CK61)),$CL$10:$EK$10,1))","v":1},{"$f":"PRODUCT(IF(($CL$13:$EK$13<=DA$13*TRANSPOSE($CK$14:$CK$65>=$CK61)),$CL$10:$EK$10,1))","v":1},{"$f":"PRODUCT(IF(($CL$13:$EK$13<=DB$13*TRANSPOSE($CK$14:$CK$65>=$CK61)),$CL$10:$EK$10,1))","v":1},{"$f":"PRODUCT(IF(($CL$13:$EK$13<=DC$13*TRANSPOSE($CK$14:$CK$65>=$CK61)),$CL$10:$EK$10,1))","v":1},{"$f":"PRODUCT(IF(($CL$13:$EK$13<=DD$13*TRANSPOSE($CK$14:$CK$65>=$CK61)),$CL$10:$EK$10,1))","v":1},{"$f":"PRODUCT(IF(($CL$13:$EK$13<=DE$13*TRANSPOSE($CK$14:$CK$65>=$CK61)),$CL$10:$EK$10,1))","v":1},{"$f":"PRODUCT(IF(($CL$13:$EK$13<=DF$13*TRANSPOSE($CK$14:$CK$65>=$CK61)),$CL$10:$EK$10,1))","v":1},{"$f":"PRODUCT(IF(($CL$13:$EK$13<=DG$13*TRANSPOSE($CK$14:$CK$65>=$CK61)),$CL$10:$EK$10,1))","v":1},{"$f":"PRODUCT(IF(($CL$13:$EK$13<=DH$13*TRANSPOSE($CK$14:$CK$65>=$CK61)),$CL$10:$EK$10,1))","v":1},{"$f":"PRODUCT(IF(($CL$13:$EK$13<=DI$13*TRANSPOSE($CK$14:$CK$65>=$CK61)),$CL$10:$EK$10,1))","v":1},{"$f":"PRODUCT(IF(($CL$13:$EK$13<=DJ$13*TRANSPOSE($CK$14:$CK$65>=$CK61)),$CL$10:$EK$10,1))","v":1},{"$f":"PRODUCT(IF(($CL$13:$EK$13<=DK$13*TRANSPOSE($CK$14:$CK$65>=$CK61)),$CL$10:$EK$10,1))","v":1},{"$f":"PRODUCT(IF(($CL$13:$EK$13<=DL$13*TRANSPOSE($CK$14:$CK$65>=$CK61)),$CL$10:$EK$10,1))","v":1},{"$f":"PRODUCT(IF(($CL$13:$EK$13<=DM$13*TRANSPOSE($CK$14:$CK$65>=$CK61)),$CL$10:$EK$10,1))","v":1},{"$f":"PRODUCT(IF(($CL$13:$EK$13<=DN$13*TRANSPOSE($CK$14:$CK$65>=$CK61)),$CL$10:$EK$10,1))","v":1},{"$f":"PRODUCT(IF(($CL$13:$EK$13<=DO$13*TRANSPOSE($CK$14:$CK$65>=$CK61)),$CL$10:$EK$10,1))","v":1},{"$f":"PRODUCT(IF(($CL$13:$EK$13<=DP$13*TRANSPOSE($CK$14:$CK$65>=$CK61)),$CL$10:$EK$10,1))","v":1},{"$f":"PRODUCT(IF(($CL$13:$EK$13<=DQ$13*TRANSPOSE($CK$14:$CK$65>=$CK61)),$CL$10:$EK$10,1))","v":1},{"$f":"PRODUCT(IF(($CL$13:$EK$13<=DR$13*TRANSPOSE($CK$14:$CK$65>=$CK61)),$CL$10:$EK$10,1))","v":1},{"$f":"PRODUCT(IF(($CL$13:$EK$13<=DS$13*TRANSPOSE($CK$14:$CK$65>=$CK61)),$CL$10:$EK$10,1))","v":1},{"$f":"PRODUCT(IF(($CL$13:$EK$13<=DT$13*TRANSPOSE($CK$14:$CK$65>=$CK61)),$CL$10:$EK$10,1))","v":1},{"$f":"PRODUCT(IF(($CL$13:$EK$13<=DU$13*TRANSPOSE($CK$14:$CK$65>=$CK61)),$CL$10:$EK$10,1))","v":1},{"$f":"PRODUCT(IF(($CL$13:$EK$13<=DV$13*TRANSPOSE($CK$14:$CK$65>=$CK61)),$CL$10:$EK$10,1))","v":1},{"$f":"PRODUCT(IF(($CL$13:$EK$13<=DW$13*TRANSPOSE($CK$14:$CK$65>=$CK61)),$CL$10:$EK$10,1))","v":1},{"$f":"PRODUCT(IF(($CL$13:$EK$13<=DX$13*TRANSPOSE($CK$14:$CK$65>=$CK61)),$CL$10:$EK$10,1))","v":1},{"$f":"PRODUCT(IF(($CL$13:$EK$13<=DY$13*TRANSPOSE($CK$14:$CK$65>=$CK61)),$CL$10:$EK$10,1))","v":1},{"$f":"PRODUCT(IF(($CL$13:$EK$13<=DZ$13*TRANSPOSE($CK$14:$CK$65>=$CK61)),$CL$10:$EK$10,1))","v":1},{"$f":"PRODUCT(IF(($CL$13:$EK$13<=EA$13*TRANSPOSE($CK$14:$CK$65>=$CK61)),$CL$10:$EK$10,1))","v":1},{"$f":"PRODUCT(IF(($CL$13:$EK$13<=EB$13*TRANSPOSE($CK$14:$CK$65>=$CK61)),$CL$10:$EK$10,1))","v":1},{"$f":"PRODUCT(IF(($CL$13:$EK$13<=EC$13*TRANSPOSE($CK$14:$CK$65>=$CK61)),$CL$10:$EK$10,1))","v":1},{"$f":"PRODUCT(IF(($CL$13:$EK$13<=ED$13*TRANSPOSE($CK$14:$CK$65>=$CK61)),$CL$10:$EK$10,1))","v":1},{"$f":"PRODUCT(IF(($CL$13:$EK$13<=EE$13*TRANSPOSE($CK$14:$CK$65>=$CK61)),$CL$10:$EK$10,1))","v":1},{"$f":"PRODUCT(IF(($CL$13:$EK$13<=EF$13*TRANSPOSE($CK$14:$CK$65>=$CK61)),$CL$10:$EK$10,1))","v":1},{"$f":"PRODUCT(IF(($CL$13:$EK$13<=EG$13*TRANSPOSE($CK$14:$CK$65>=$CK61)),$CL$10:$EK$10,1))","v":1.0240728570897628},{"$f":"PRODUCT(IF(($CL$13:$EK$13<=EH$13*TRANSPOSE($CK$14:$CK$65>=$CK61)),$CL$10:$EK$10,1))","v":1.0639880714094871},{"$f":"PRODUCT(IF(($CL$13:$EK$13<=EI$13*TRANSPOSE($CK$14:$CK$65>=$CK61)),$CL$10:$EK$10,1))","v":1.1593174773724306},{"$f":"PRODUCT(IF(($CL$13:$EK$13<=EJ$13*TRANSPOSE($CK$14:$CK$65>=$CK61)),$CL$10:$EK$10,1))","v":1.3309553603526407},{"$f":"PRODUCT(IF(($CL$13:$EK$13<=EK$13*TRANSPOSE($CK$14:$CK$65>=$CK61)),$CL$10:$EK$10,1))","v":1.4189103709666981}]
[null,null,2021,null,null,null,null,null,null,null,null,null,null,null,null,null,null,null,null,null,null,null,null,null,null,null,null,null,null,null,null,null,null,null,null,null,null,null,null,null,null,null,null,null,null,null,null,null,null,null,null,null,8.9596310827675607E-2,0.11844173703573291,0.10070955035567719,null,2020,3.8976928295078928E-2,3.1497974505760862E-2,3.5760723123028582E-2,2.8896011066208649E-2,2.5156731284352807E-2,2.43815310351716E-2,3.2226151328813346E-2,4.868902942687181E-2,6.2731750158900423E-2,7.3146717492737601E-2,7.485744880492895E-2,6.9215097655150215E-2,7.6019267901233478E-2,8.1075145569840856E-2,8.5479731553963267E-2,9.7146217723695694E-2,9.6980803432674456E-2,9.5766518441471549E-2,9.4311204895180856E-2,9.2343771553652809E-2,9.0808771001387401E-2,9.0410835478895057E-2,9.1561484224813139E-2,9.1342582838525699E-2,9.1242909794333249E-2,9.2843528753975502E-2,null,2020,{"$f":"HLOOKUP($W$7,dat,MATCH(CG62,Data!$B$3:$B$60,0),0)+1","v":1.0389769282950789},null,null,2020,{"$f":"PRODUCT(IF(($CL$13:$EK$13<=CL$13*TRANSPOSE($CK$14:$CK$65>=$CK62)),$CL$10:$EK$10,1))","v":1},{"$f":"PRODUCT(IF(($CL$13:$EK$13<=CM$13*TRANSPOSE($CK$14:$CK$65>=$CK62)),$CL$10:$EK$10,1))","v":1},{"$f":"PRODUCT(IF(($CL$13:$EK$13<=CN$13*TRANSPOSE($CK$14:$CK$65>=$CK62)),$CL$10:$EK$10,1))","v":1},{"$f":"PRODUCT(IF(($CL$13:$EK$13<=CO$13*TRANSPOSE($CK$14:$CK$65>=$CK62)),$CL$10:$EK$10,1))","v":1},{"$f":"PRODUCT(IF(($CL$13:$EK$13<=CP$13*TRANSPOSE($CK$14:$CK$65>=$CK62)),$CL$10:$EK$10,1))","v":1},{"$f":"PRODUCT(IF(($CL$13:$EK$13<=CQ$13*TRANSPOSE($CK$14:$CK$65>=$CK62)),$CL$10:$EK$10,1))","v":1},{"$f":"PRODUCT(IF(($CL$13:$EK$13<=CR$13*TRANSPOSE($CK$14:$CK$65>=$CK62)),$CL$10:$EK$10,1))","v":1},{"$f":"PRODUCT(IF(($CL$13:$EK$13<=CS$13*TRANSPOSE($CK$14:$CK$65>=$CK62)),$CL$10:$EK$10,1))","v":1},{"$f":"PRODUCT(IF(($CL$13:$EK$13<=CT$13*TRANSPOSE($CK$14:$CK$65>=$CK62)),$CL$10:$EK$10,1))","v":1},{"$f":"PRODUCT(IF(($CL$13:$EK$13<=CU$13*TRANSPOSE($CK$14:$CK$65>=$CK62)),$CL$10:$EK$10,1))","v":1},{"$f":"PRODUCT(IF(($CL$13:$EK$13<=CV$13*TRANSPOSE($CK$14:$CK$65>=$CK62)),$CL$10:$EK$10,1))","v":1},{"$f":"PRODUCT(IF(($CL$13:$EK$13<=CW$13*TRANSPOSE($CK$14:$CK$65>=$CK62)),$CL$10:$EK$10,1))","v":1},{"$f":"PRODUCT(IF(($CL$13:$EK$13<=CX$13*TRANSPOSE($CK$14:$CK$65>=$CK62)),$CL$10:$EK$10,1))","v":1},{"$f":"PRODUCT(IF(($CL$13:$EK$13<=CY$13*TRANSPOSE($CK$14:$CK$65>=$CK62)),$CL$10:$EK$10,1))","v":1},{"$f":"PRODUCT(IF(($CL$13:$EK$13<=CZ$13*TRANSPOSE($CK$14:$CK$65>=$CK62)),$CL$10:$EK$10,1))","v":1},{"$f":"PRODUCT(IF(($CL$13:$EK$13<=DA$13*TRANSPOSE($CK$14:$CK$65>=$CK62)),$CL$10:$EK$10,1))","v":1},{"$f":"PRODUCT(IF(($CL$13:$EK$13<=DB$13*TRANSPOSE($CK$14:$CK$65>=$CK62)),$CL$10:$EK$10,1))","v":1},{"$f":"PRODUCT(IF(($CL$13:$EK$13<=DC$13*TRANSPOSE($CK$14:$CK$65>=$CK62)),$CL$10:$EK$10,1))","v":1},{"$f":"PRODUCT(IF(($CL$13:$EK$13<=DD$13*TRANSPOSE($CK$14:$CK$65>=$CK62)),$CL$10:$EK$10,1))","v":1},{"$f":"PRODUCT(IF(($CL$13:$EK$13<=DE$13*TRANSPOSE($CK$14:$CK$65>=$CK62)),$CL$10:$EK$10,1))","v":1},{"$f":"PRODUCT(IF(($CL$13:$EK$13<=DF$13*TRANSPOSE($CK$14:$CK$65>=$CK62)),$CL$10:$EK$10,1))","v":1},{"$f":"PRODUCT(IF(($CL$13:$EK$13<=DG$13*TRANSPOSE($CK$14:$CK$65>=$CK62)),$CL$10:$EK$10,1))","v":1},{"$f":"PRODUCT(IF(($CL$13:$EK$13<=DH$13*TRANSPOSE($CK$14:$CK$65>=$CK62)),$CL$10:$EK$10,1))","v":1},{"$f":"PRODUCT(IF(($CL$13:$EK$13<=DI$13*TRANSPOSE($CK$14:$CK$65>=$CK62)),$CL$10:$EK$10,1))","v":1},{"$f":"PRODUCT(IF(($CL$13:$EK$13<=DJ$13*TRANSPOSE($CK$14:$CK$65>=$CK62)),$CL$10:$EK$10,1))","v":1},{"$f":"PRODUCT(IF(($CL$13:$EK$13<=DK$13*TRANSPOSE($CK$14:$CK$65>=$CK62)),$CL$10:$EK$10,1))","v":1},{"$f":"PRODUCT(IF(($CL$13:$EK$13<=DL$13*TRANSPOSE($CK$14:$CK$65>=$CK62)),$CL$10:$EK$10,1))","v":1},{"$f":"PRODUCT(IF(($CL$13:$EK$13<=DM$13*TRANSPOSE($CK$14:$CK$65>=$CK62)),$CL$10:$EK$10,1))","v":1},{"$f":"PRODUCT(IF(($CL$13:$EK$13<=DN$13*TRANSPOSE($CK$14:$CK$65>=$CK62)),$CL$10:$EK$10,1))","v":1},{"$f":"PRODUCT(IF(($CL$13:$EK$13<=DO$13*TRANSPOSE($CK$14:$CK$65>=$CK62)),$CL$10:$EK$10,1))","v":1},{"$f":"PRODUCT(IF(($CL$13:$EK$13<=DP$13*TRANSPOSE($CK$14:$CK$65>=$CK62)),$CL$10:$EK$10,1))","v":1},{"$f":"PRODUCT(IF(($CL$13:$EK$13<=DQ$13*TRANSPOSE($CK$14:$CK$65>=$CK62)),$CL$10:$EK$10,1))","v":1},{"$f":"PRODUCT(IF(($CL$13:$EK$13<=DR$13*TRANSPOSE($CK$14:$CK$65>=$CK62)),$CL$10:$EK$10,1))","v":1},{"$f":"PRODUCT(IF(($CL$13:$EK$13<=DS$13*TRANSPOSE($CK$14:$CK$65>=$CK62)),$CL$10:$EK$10,1))","v":1},{"$f":"PRODUCT(IF(($CL$13:$EK$13<=DT$13*TRANSPOSE($CK$14:$CK$65>=$CK62)),$CL$10:$EK$10,1))","v":1},{"$f":"PRODUCT(IF(($CL$13:$EK$13<=DU$13*TRANSPOSE($CK$14:$CK$65>=$CK62)),$CL$10:$EK$10,1))","v":1},{"$f":"PRODUCT(IF(($CL$13:$EK$13<=DV$13*TRANSPOSE($CK$14:$CK$65>=$CK62)),$CL$10:$EK$10,1))","v":1},{"$f":"PRODUCT(IF(($CL$13:$EK$13<=DW$13*TRANSPOSE($CK$14:$CK$65>=$CK62)),$CL$10:$EK$10,1))","v":1},{"$f":"PRODUCT(IF(($CL$13:$EK$13<=DX$13*TRANSPOSE($CK$14:$CK$65>=$CK62)),$CL$10:$EK$10,1))","v":1},{"$f":"PRODUCT(IF(($CL$13:$EK$13<=DY$13*TRANSPOSE($CK$14:$CK$65>=$CK62)),$CL$10:$EK$10,1))","v":1},{"$f":"PRODUCT(IF(($CL$13:$EK$13<=DZ$13*TRANSPOSE($CK$14:$CK$65>=$CK62)),$CL$10:$EK$10,1))","v":1},{"$f":"PRODUCT(IF(($CL$13:$EK$13<=EA$13*TRANSPOSE($CK$14:$CK$65>=$CK62)),$CL$10:$EK$10,1))","v":1},{"$f":"PRODUCT(IF(($CL$13:$EK$13<=EB$13*TRANSPOSE($CK$14:$CK$65>=$CK62)),$CL$10:$EK$10,1))","v":1},{"$f":"PRODUCT(IF(($CL$13:$EK$13<=EC$13*TRANSPOSE($CK$14:$CK$65>=$CK62)),$CL$10:$EK$10,1))","v":1},{"$f":"PRODUCT(IF(($CL$13:$EK$13<=ED$13*TRANSPOSE($CK$14:$CK$65>=$CK62)),$CL$10:$EK$10,1))","v":1},{"$f":"PRODUCT(IF(($CL$13:$EK$13<=EE$13*TRANSPOSE($CK$14:$CK$65>=$CK62)),$CL$10:$EK$10,1))","v":1},{"$f":"PRODUCT(IF(($CL$13:$EK$13<=EF$13*TRANSPOSE($CK$14:$CK$65>=$CK62)),$CL$10:$EK$10,1))","v":1},{"$f":"PRODUCT(IF(($CL$13:$EK$13<=EG$13*TRANSPOSE($CK$14:$CK$65>=$CK62)),$CL$10:$EK$10,1))","v":1},{"$f":"PRODUCT(IF(($CL$13:$EK$13<=EH$13*TRANSPOSE($CK$14:$CK$65>=$CK62)),$CL$10:$EK$10,1))","v":1.0389769282950789},{"$f":"PRODUCT(IF(($CL$13:$EK$13<=EI$13*TRANSPOSE($CK$14:$CK$65>=$CK62)),$CL$10:$EK$10,1))","v":1.1320654281053883},{"$f":"PRODUCT(IF(($CL$13:$EK$13<=EJ$13*TRANSPOSE($CK$14:$CK$65>=$CK62)),$CL$10:$EK$10,1))","v":1.2996686233194235},{"$f":"PRODUCT(IF(($CL$13:$EK$13<=EK$13*TRANSPOSE($CK$14:$CK$65>=$CK62)),$CL$10:$EK$10,1))","v":1.3855560775226432}]
[null,null,2022,null,null,null,null,null,null,null,null,null,null,null,null,null,null,null,null,null,null,null,null,null,null,null,null,null,null,null,null,null,null,null,null,null,null,null,null,null,null,null,null,null,null,null,null,null,null,null,null,null,null,0.14805080258879899,0.10630860382162211,null,2021,8.9596310827675607E-2,6.3985633411179244E-2,5.0511459781299228E-2,4.8964968632365435E-2,4.0759327064354034E-2,3.5625718511129056E-2,3.3453323229497345E-2,3.9228871087087613E-2,5.3157364791947659E-2,6.5388127041323241E-2,7.4631816346904412E-2,7.6078034976336362E-2,7.0769256484370713E-2,7.6983421045188072E-2,8.1641144233573382E-2,8.5736561500561415E-2,9.6700660945062911E-2,9.6569244009210742E-2,9.5440901295702707E-2,9.4074976370397856E-2,9.2212783134958176E-2,9.0753629917289969E-2,9.0375408705570148E-2,9.1479531280351578E-2,9.1272678252657835E-2,9.1179533076658048E-2,null,2021,{"$f":"HLOOKUP($W$7,dat,MATCH(CG63,Data!$B$3:$B$60,0),0)+1","v":1.0895963108276756},null,null,2021,{"$f":"PRODUCT(IF(($CL$13:$EK$13<=CL$13*TRANSPOSE($CK$14:$CK$65>=$CK63)),$CL$10:$EK$10,1))","v":1},{"$f":"PRODUCT(IF(($CL$13:$EK$13<=CM$13*TRANSPOSE($CK$14:$CK$65>=$CK63)),$CL$10:$EK$10,1))","v":1},{"$f":"PRODUCT(IF(($CL$13:$EK$13<=CN$13*TRANSPOSE($CK$14:$CK$65>=$CK63)),$CL$10:$EK$10,1))","v":1},{"$f":"PRODUCT(IF(($CL$13:$EK$13<=CO$13*TRANSPOSE($CK$14:$CK$65>=$CK63)),$CL$10:$EK$10,1))","v":1},{"$f":"PRODUCT(IF(($CL$13:$EK$13<=CP$13*TRANSPOSE($CK$14:$CK$65>=$CK63)),$CL$10:$EK$10,1))","v":1},{"$f":"PRODUCT(IF(($CL$13:$EK$13<=CQ$13*TRANSPOSE($CK$14:$CK$65>=$CK63)),$CL$10:$EK$10,1))","v":1},{"$f":"PRODUCT(IF(($CL$13:$EK$13<=CR$13*TRANSPOSE($CK$14:$CK$65>=$CK63)),$CL$10:$EK$10,1))","v":1},{"$f":"PRODUCT(IF(($CL$13:$EK$13<=CS$13*TRANSPOSE($CK$14:$CK$65>=$CK63)),$CL$10:$EK$10,1))","v":1},{"$f":"PRODUCT(IF(($CL$13:$EK$13<=CT$13*TRANSPOSE($CK$14:$CK$65>=$CK63)),$CL$10:$EK$10,1))","v":1},{"$f":"PRODUCT(IF(($CL$13:$EK$13<=CU$13*TRANSPOSE($CK$14:$CK$65>=$CK63)),$CL$10:$EK$10,1))","v":1},{"$f":"PRODUCT(IF(($CL$13:$EK$13<=CV$13*TRANSPOSE($CK$14:$CK$65>=$CK63)),$CL$10:$EK$10,1))","v":1},{"$f":"PRODUCT(IF(($CL$13:$EK$13<=CW$13*TRANSPOSE($CK$14:$CK$65>=$CK63)),$CL$10:$EK$10,1))","v":1},{"$f":"PRODUCT(IF(($CL$13:$EK$13<=CX$13*TRANSPOSE($CK$14:$CK$65>=$CK63)),$CL$10:$EK$10,1))","v":1},{"$f":"PRODUCT(IF(($CL$13:$EK$13<=CY$13*TRANSPOSE($CK$14:$CK$65>=$CK63)),$CL$10:$EK$10,1))","v":1},{"$f":"PRODUCT(IF(($CL$13:$EK$13<=CZ$13*TRANSPOSE($CK$14:$CK$65>=$CK63)),$CL$10:$EK$10,1))","v":1},{"$f":"PRODUCT(IF(($CL$13:$EK$13<=DA$13*TRANSPOSE($CK$14:$CK$65>=$CK63)),$CL$10:$EK$10,1))","v":1},{"$f":"PRODUCT(IF(($CL$13:$EK$13<=DB$13*TRANSPOSE($CK$14:$CK$65>=$CK63)),$CL$10:$EK$10,1))","v":1},{"$f":"PRODUCT(IF(($CL$13:$EK$13<=DC$13*TRANSPOSE($CK$14:$CK$65>=$CK63)),$CL$10:$EK$10,1))","v":1},{"$f":"PRODUCT(IF(($CL$13:$EK$13<=DD$13*TRANSPOSE($CK$14:$CK$65>=$CK63)),$CL$10:$EK$10,1))","v":1},{"$f":"PRODUCT(IF(($CL$13:$EK$13<=DE$13*TRANSPOSE($CK$14:$CK$65>=$CK63)),$CL$10:$EK$10,1))","v":1},{"$f":"PRODUCT(IF(($CL$13:$EK$13<=DF$13*TRANSPOSE($CK$14:$CK$65>=$CK63)),$CL$10:$EK$10,1))","v":1},{"$f":"PRODUCT(IF(($CL$13:$EK$13<=DG$13*TRANSPOSE($CK$14:$CK$65>=$CK63)),$CL$10:$EK$10,1))","v":1},{"$f":"PRODUCT(IF(($CL$13:$EK$13<=DH$13*TRANSPOSE($CK$14:$CK$65>=$CK63)),$CL$10:$EK$10,1))","v":1},{"$f":"PRODUCT(IF(($CL$13:$EK$13<=DI$13*TRANSPOSE($CK$14:$CK$65>=$CK63)),$CL$10:$EK$10,1))","v":1},{"$f":"PRODUCT(IF(($CL$13:$EK$13<=DJ$13*TRANSPOSE($CK$14:$CK$65>=$CK63)),$CL$10:$EK$10,1))","v":1},{"$f":"PRODUCT(IF(($CL$13:$EK$13<=DK$13*TRANSPOSE($CK$14:$CK$65>=$CK63)),$CL$10:$EK$10,1))","v":1},{"$f":"PRODUCT(IF(($CL$13:$EK$13<=DL$13*TRANSPOSE($CK$14:$CK$65>=$CK63)),$CL$10:$EK$10,1))","v":1},{"$f":"PRODUCT(IF(($CL$13:$EK$13<=DM$13*TRANSPOSE($CK$14:$CK$65>=$CK63)),$CL$10:$EK$10,1))","v":1},{"$f":"PRODUCT(IF(($CL$13:$EK$13<=DN$13*TRANSPOSE($CK$14:$CK$65>=$CK63)),$CL$10:$EK$10,1))","v":1},{"$f":"PRODUCT(IF(($CL$13:$EK$13<=DO$13*TRANSPOSE($CK$14:$CK$65>=$CK63)),$CL$10:$EK$10,1))","v":1},{"$f":"PRODUCT(IF(($CL$13:$EK$13<=DP$13*TRANSPOSE($CK$14:$CK$65>=$CK63)),$CL$10:$EK$10,1))","v":1},{"$f":"PRODUCT(IF(($CL$13:$EK$13<=DQ$13*TRANSPOSE($CK$14:$CK$65>=$CK63)),$CL$10:$EK$10,1))","v":1},{"$f":"PRODUCT(IF(($CL$13:$EK$13<=DR$13*TRANSPOSE($CK$14:$CK$65>=$CK63)),$CL$10:$EK$10,1))","v":1},{"$f":"PRODUCT(IF(($CL$13:$EK$13<=DS$13*TRANSPOSE($CK$14:$CK$65>=$CK63)),$CL$10:$EK$10,1))","v":1},{"$f":"PRODUCT(IF(($CL$13:$EK$13<=DT$13*TRANSPOSE($CK$14:$CK$65>=$CK63)),$CL$10:$EK$10,1))","v":1},{"$f":"PRODUCT(IF(($CL$13:$EK$13<=DU$13*TRANSPOSE($CK$14:$CK$65>=$CK63)),$CL$10:$EK$10,1))","v":1},{"$f":"PRODUCT(IF(($CL$13:$EK$13<=DV$13*TRANSPOSE($CK$14:$CK$65>=$CK63)),$CL$10:$EK$10,1))","v":1},{"$f":"PRODUCT(IF(($CL$13:$EK$13<=DW$13*TRANSPOSE($CK$14:$CK$65>=$CK63)),$CL$10:$EK$10,1))","v":1},{"$f":"PRODUCT(IF(($CL$13:$EK$13<=DX$13*TRANSPOSE($CK$14:$CK$65>=$CK63)),$CL$10:$EK$10,1))","v":1},{"$f":"PRODUCT(IF(($CL$13:$EK$13<=DY$13*TRANSPOSE($CK$14:$CK$65>=$CK63)),$CL$10:$EK$10,1))","v":1},{"$f":"PRODUCT(IF(($CL$13:$EK$13<=DZ$13*TRANSPOSE($CK$14:$CK$65>=$CK63)),$CL$10:$EK$10,1))","v":1},{"$f":"PRODUCT(IF(($CL$13:$EK$13<=EA$13*TRANSPOSE($CK$14:$CK$65>=$CK63)),$CL$10:$EK$10,1))","v":1},{"$f":"PRODUCT(IF(($CL$13:$EK$13<=EB$13*TRANSPOSE($CK$14:$CK$65>=$CK63)),$CL$10:$EK$10,1))","v":1},{"$f":"PRODUCT(IF(($CL$13:$EK$13<=EC$13*TRANSPOSE($CK$14:$CK$65>=$CK63)),$CL$10:$EK$10,1))","v":1},{"$f":"PRODUCT(IF(($CL$13:$EK$13<=ED$13*TRANSPOSE($CK$14:$CK$65>=$CK63)),$CL$10:$EK$10,1))","v":1},{"$f":"PRODUCT(IF(($CL$13:$EK$13<=EE$13*TRANSPOSE($CK$14:$CK$65>=$CK63)),$CL$10:$EK$10,1))","v":1},{"$f":"PRODUCT(IF(($CL$13:$EK$13<=EF$13*TRANSPOSE($CK$14:$CK$65>=$CK63)),$CL$10:$EK$10,1))","v":1},{"$f":"PRODUCT(IF(($CL$13:$EK$13<=EG$13*TRANSPOSE($CK$14:$CK$65>=$CK63)),$CL$10:$EK$10,1))","v":1},{"$f":"PRODUCT(IF(($CL$13:$EK$13<=EH$13*TRANSPOSE($CK$14:$CK$65>=$CK63)),$CL$10:$EK$10,1))","v":1},{"$f":"PRODUCT(IF(($CL$13:$EK$13<=EI$13*TRANSPOSE($CK$14:$CK$65>=$CK63)),$CL$10:$EK$10,1))","v":1.0895963108276756},{"$f":"PRODUCT(IF(($CL$13:$EK$13<=EJ$13*TRANSPOSE($CK$14:$CK$65>=$CK63)),$CL$10:$EK$10,1))","v":1.2509119191435074},{"$f":"PRODUCT(IF(($CL$13:$EK$13<=EK$13*TRANSPOSE($CK$14:$CK$65>=$CK63)),$CL$10:$EK$10,1))","v":1.3335773295719735}]
[null,null,2023,null,null,null,null,null,null,null,null,null,null,null,null,null,null,null,null,null,null,null,null,null,null,null,null,null,null,null,null,null,null,null,null,null,null,null,null,null,null,null,null,null,null,null,null,null,null,null,null,null,null,null,6.6084117645202944E-2,null,2022,0.14805080258879899,0.11844173703573291,9.1300141295723058E-2,7.4090492628560156E-2,6.8073178178550631E-2,5.7918253972651934E-2,5.0985845338351155E-2,4.7127694970997114E-2,5.0791977142210953E-2,6.2282563349414843E-2,7.2650274902940959E-2,8.0566449001338025E-2,8.1450482956257675E-2,7.6112545084701999E-2,8.1581268091003079E-2,8.5676826798555261E-2,8.9306631640587941E-2,9.9492220483694993E-2,9.9220318451293865E-2,9.8013197639939653E-2,9.6586741795404718E-2,9.4690933420604084E-2,9.318428958147873E-2,9.2719665389970451E-2,9.3687922205971663E-2,9.3403616724560434E-2,null,2022,{"$f":"HLOOKUP($W$7,dat,MATCH(CG64,Data!$B$3:$B$60,0),0)+1","v":1.148050802588799},null,null,2022,{"$f":"PRODUCT(IF(($CL$13:$EK$13<=CL$13*TRANSPOSE($CK$14:$CK$65>=$CK64)),$CL$10:$EK$10,1))","v":1},{"$f":"PRODUCT(IF(($CL$13:$EK$13<=CM$13*TRANSPOSE($CK$14:$CK$65>=$CK64)),$CL$10:$EK$10,1))","v":1},{"$f":"PRODUCT(IF(($CL$13:$EK$13<=CN$13*TRANSPOSE($CK$14:$CK$65>=$CK64)),$CL$10:$EK$10,1))","v":1},{"$f":"PRODUCT(IF(($CL$13:$EK$13<=CO$13*TRANSPOSE($CK$14:$CK$65>=$CK64)),$CL$10:$EK$10,1))","v":1},{"$f":"PRODUCT(IF(($CL$13:$EK$13<=CP$13*TRANSPOSE($CK$14:$CK$65>=$CK64)),$CL$10:$EK$10,1))","v":1},{"$f":"PRODUCT(IF(($CL$13:$EK$13<=CQ$13*TRANSPOSE($CK$14:$CK$65>=$CK64)),$CL$10:$EK$10,1))","v":1},{"$f":"PRODUCT(IF(($CL$13:$EK$13<=CR$13*TRANSPOSE($CK$14:$CK$65>=$CK64)),$CL$10:$EK$10,1))","v":1},{"$f":"PRODUCT(IF(($CL$13:$EK$13<=CS$13*TRANSPOSE($CK$14:$CK$65>=$CK64)),$CL$10:$EK$10,1))","v":1},{"$f":"PRODUCT(IF(($CL$13:$EK$13<=CT$13*TRANSPOSE($CK$14:$CK$65>=$CK64)),$CL$10:$EK$10,1))","v":1},{"$f":"PRODUCT(IF(($CL$13:$EK$13<=CU$13*TRANSPOSE($CK$14:$CK$65>=$CK64)),$CL$10:$EK$10,1))","v":1},{"$f":"PRODUCT(IF(($CL$13:$EK$13<=CV$13*TRANSPOSE($CK$14:$CK$65>=$CK64)),$CL$10:$EK$10,1))","v":1},{"$f":"PRODUCT(IF(($CL$13:$EK$13<=CW$13*TRANSPOSE($CK$14:$CK$65>=$CK64)),$CL$10:$EK$10,1))","v":1},{"$f":"PRODUCT(IF(($CL$13:$EK$13<=CX$13*TRANSPOSE($CK$14:$CK$65>=$CK64)),$CL$10:$EK$10,1))","v":1},{"$f":"PRODUCT(IF(($CL$13:$EK$13<=CY$13*TRANSPOSE($CK$14:$CK$65>=$CK64)),$CL$10:$EK$10,1))","v":1},{"$f":"PRODUCT(IF(($CL$13:$EK$13<=CZ$13*TRANSPOSE($CK$14:$CK$65>=$CK64)),$CL$10:$EK$10,1))","v":1},{"$f":"PRODUCT(IF(($CL$13:$EK$13<=DA$13*TRANSPOSE($CK$14:$CK$65>=$CK64)),$CL$10:$EK$10,1))","v":1},{"$f":"PRODUCT(IF(($CL$13:$EK$13<=DB$13*TRANSPOSE($CK$14:$CK$65>=$CK64)),$CL$10:$EK$10,1))","v":1},{"$f":"PRODUCT(IF(($CL$13:$EK$13<=DC$13*TRANSPOSE($CK$14:$CK$65>=$CK64)),$CL$10:$EK$10,1))","v":1},{"$f":"PRODUCT(IF(($CL$13:$EK$13<=DD$13*TRANSPOSE($CK$14:$CK$65>=$CK64)),$CL$10:$EK$10,1))","v":1},{"$f":"PRODUCT(IF(($CL$13:$EK$13<=DE$13*TRANSPOSE($CK$14:$CK$65>=$CK64)),$CL$10:$EK$10,1))","v":1},{"$f":"PRODUCT(IF(($CL$13:$EK$13<=DF$13*TRANSPOSE($CK$14:$CK$65>=$CK64)),$CL$10:$EK$10,1))","v":1},{"$f":"PRODUCT(IF(($CL$13:$EK$13<=DG$13*TRANSPOSE($CK$14:$CK$65>=$CK64)),$CL$10:$EK$10,1))","v":1},{"$f":"PRODUCT(IF(($CL$13:$EK$13<=DH$13*TRANSPOSE($CK$14:$CK$65>=$CK64)),$CL$10:$EK$10,1))","v":1},{"$f":"PRODUCT(IF(($CL$13:$EK$13<=DI$13*TRANSPOSE($CK$14:$CK$65>=$CK64)),$CL$10:$EK$10,1))","v":1},{"$f":"PRODUCT(IF(($CL$13:$EK$13<=DJ$13*TRANSPOSE($CK$14:$CK$65>=$CK64)),$CL$10:$EK$10,1))","v":1},{"$f":"PRODUCT(IF(($CL$13:$EK$13<=DK$13*TRANSPOSE($CK$14:$CK$65>=$CK64)),$CL$10:$EK$10,1))","v":1},{"$f":"PRODUCT(IF(($CL$13:$EK$13<=DL$13*TRANSPOSE($CK$14:$CK$65>=$CK64)),$CL$10:$EK$10,1))","v":1},{"$f":"PRODUCT(IF(($CL$13:$EK$13<=DM$13*TRANSPOSE($CK$14:$CK$65>=$CK64)),$CL$10:$EK$10,1))","v":1},{"$f":"PRODUCT(IF(($CL$13:$EK$13<=DN$13*TRANSPOSE($CK$14:$CK$65>=$CK64)),$CL$10:$EK$10,1))","v":1},{"$f":"PRODUCT(IF(($CL$13:$EK$13<=DO$13*TRANSPOSE($CK$14:$CK$65>=$CK64)),$CL$10:$EK$10,1))","v":1},{"$f":"PRODUCT(IF(($CL$13:$EK$13<=DP$13*TRANSPOSE($CK$14:$CK$65>=$CK64)),$CL$10:$EK$10,1))","v":1},{"$f":"PRODUCT(IF(($CL$13:$EK$13<=DQ$13*TRANSPOSE($CK$14:$CK$65>=$CK64)),$CL$10:$EK$10,1))","v":1},{"$f":"PRODUCT(IF(($CL$13:$EK$13<=DR$13*TRANSPOSE($CK$14:$CK$65>=$CK64)),$CL$10:$EK$10,1))","v":1},{"$f":"PRODUCT(IF(($CL$13:$EK$13<=DS$13*TRANSPOSE($CK$14:$CK$65>=$CK64)),$CL$10:$EK$10,1))","v":1},{"$f":"PRODUCT(IF(($CL$13:$EK$13<=DT$13*TRANSPOSE($CK$14:$CK$65>=$CK64)),$CL$10:$EK$10,1))","v":1},{"$f":"PRODUCT(IF(($CL$13:$EK$13<=DU$13*TRANSPOSE($CK$14:$CK$65>=$CK64)),$CL$10:$EK$10,1))","v":1},{"$f":"PRODUCT(IF(($CL$13:$EK$13<=DV$13*TRANSPOSE($CK$14:$CK$65>=$CK64)),$CL$10:$EK$10,1))","v":1},{"$f":"PRODUCT(IF(($CL$13:$EK$13<=DW$13*TRANSPOSE($CK$14:$CK$65>=$CK64)),$CL$10:$EK$10,1))","v":1},{"$f":"PRODUCT(IF(($CL$13:$EK$13<=DX$13*TRANSPOSE($CK$14:$CK$65>=$CK64)),$CL$10:$EK$10,1))","v":1},{"$f":"PRODUCT(IF(($CL$13:$EK$13<=DY$13*TRANSPOSE($CK$14:$CK$65>=$CK64)),$CL$10:$EK$10,1))","v":1},{"$f":"PRODUCT(IF(($CL$13:$EK$13<=DZ$13*TRANSPOSE($CK$14:$CK$65>=$CK64)),$CL$10:$EK$10,1))","v":1},{"$f":"PRODUCT(IF(($CL$13:$EK$13<=EA$13*TRANSPOSE($CK$14:$CK$65>=$CK64)),$CL$10:$EK$10,1))","v":1},{"$f":"PRODUCT(IF(($CL$13:$EK$13<=EB$13*TRANSPOSE($CK$14:$CK$65>=$CK64)),$CL$10:$EK$10,1))","v":1},{"$f":"PRODUCT(IF(($CL$13:$EK$13<=EC$13*TRANSPOSE($CK$14:$CK$65>=$CK64)),$CL$10:$EK$10,1))","v":1},{"$f":"PRODUCT(IF(($CL$13:$EK$13<=ED$13*TRANSPOSE($CK$14:$CK$65>=$CK64)),$CL$10:$EK$10,1))","v":1},{"$f":"PRODUCT(IF(($CL$13:$EK$13<=EE$13*TRANSPOSE($CK$14:$CK$65>=$CK64)),$CL$10:$EK$10,1))","v":1},{"$f":"PRODUCT(IF(($CL$13:$EK$13<=EF$13*TRANSPOSE($CK$14:$CK$65>=$CK64)),$CL$10:$EK$10,1))","v":1},{"$f":"PRODUCT(IF(($CL$13:$EK$13<=EG$13*TRANSPOSE($CK$14:$CK$65>=$CK64)),$CL$10:$EK$10,1))","v":1},{"$f":"PRODUCT(IF(($CL$13:$EK$13<=EH$13*TRANSPOSE($CK$14:$CK$65>=$CK64)),$CL$10:$EK$10,1))","v":1},{"$f":"PRODUCT(IF(($CL$13:$EK$13<=EI$13*TRANSPOSE($CK$14:$CK$65>=$CK64)),$CL$10:$EK$10,1))","v":1},{"$f":"PRODUCT(IF(($CL$13:$EK$13<=EJ$13*TRANSPOSE($CK$14:$CK$65>=$CK64)),$CL$10:$EK$10,1))","v":1.148050802588799},{"$f":"PRODUCT(IF(($CL$13:$EK$13<=EK$13*TRANSPOSE($CK$14:$CK$65>=$CK64)),$CL$10:$EK$10,1))","v":1.2239187268897469}]
[null,null,null,null,null,null,null,null,null,null,null,null,null,null,null,null,null,null,null,null,null,null,null,null,null,null,null,null,null,null,null,null,null,null,null,null,null,null,null,null,null,null,null,null,null,null,null,null,null,null,null,null,null,null,null,null,2023,{"$f":"CH65-1","v":6.6084117645202944E-2},{"$f":"PRODUCT(CH64:CH65)^(1/BG$13)-1","v":0.10630860382162211},{"$f":"PRODUCT(CH63:CH65)^(1/BH$13)-1","v":0.10070955035567719},{"$f":"PRODUCT($CH62:$CH65)^(1/BI$13)-1","v":8.4940763629695049E-2},{"$f":"PRODUCT($CH61:$CH65)^(1/BJ$13)-1","v":7.2484421742605498E-2},{"$f":"PRODUCT($CH60:$CH65)^(1/BK$13)-1","v":6.7741410560075543E-2},{"$f":"PRODUCT($CH59:$CH65)^(1/BL$13)-1","v":5.908096524187334E-2},{"$f":"PRODUCT($CH58:$CH65)^(1/BM$13)-1","v":5.2861373124181599E-2},{"$f":"PRODUCT($CH57:$CH65)^(1/BN$13)-1","v":4.9217208016995473E-2},{"$f":"PRODUCT($CH56:$CH65)^(1/BO$13)-1","v":5.231126796221619E-2},{"$f":"PRODUCT($CH55:$CH65)^(1/BP$13)-1","v":6.2627598302302356E-2},{"$f":"PRODUCT($CH54:$CH65)^(1/BQ$13)-1","v":7.2101553901749771E-2},{"$f":"PRODUCT($CH53:$CH65)^(1/BR$13)-1","v":7.944547259879764E-2},{"$f":"PRODUCT($CH52:$CH65)^(1/BS$13)-1","v":8.0345577690282388E-2},{"$f":"PRODUCT($CH51:$CH65)^(1/BT$13)-1","v":7.5441058148296047E-2},{"$f":"PRODUCT($CH50:$CH65)^(1/BU$13)-1","v":8.0606130072237381E-2},{"$f":"PRODUCT($CH49:$CH65)^(1/BV$13)-1","v":8.4514410966307185E-2},{"$f":"PRODUCT($CH48:$CH65)^(1/BW$13)-1","v":8.8003321647749821E-2},{"$f":"PRODUCT($CH47:$CH65)^(1/BX$13)-1","v":9.7708081322629203E-2},{"$f":"PRODUCT($CH46:$CH65)^(1/BY$13)-1","v":9.7539309168830135E-2},{"$f":"PRODUCT($CH45:$CH65)^(1/BZ$13)-1","v":9.6471304465138186E-2},{"$f":"PRODUCT($CH44:$CH65)^(1/CA$13)-1","v":9.5181511620706871E-2},{"$f":"PRODUCT($CH43:$CH65)^(1/CB$13)-1","v":9.3431343891351215E-2},{"$f":"PRODUCT($CH42:$CH65)^(1/CC$13)-1","v":9.2041481631927269E-2},{"$f":"PRODUCT($CH41:$CH65)^(1/CD$13)-1","v":9.1641575636036254E-2},{"$f":"PRODUCT($CH40:$CH65)^(1/CE$13)-1","v":9.2613138036864218E-2},null,2023,{"$f":"HLOOKUP($W$7,dat,MATCH(CG65,Data!$B$3:$B$60,0),0)+1","v":1.0660841176452029},null,null,2023,{"$f":"PRODUCT(IF(($CL$13:$EK$13<=CL$13*TRANSPOSE($CK$14:$CK$65>=$CK65)),$CL$10:$EK$10,1))","v":1},{"$f":"PRODUCT(IF(($CL$13:$EK$13<=CM$13*TRANSPOSE($CK$14:$CK$65>=$CK65)),$CL$10:$EK$10,1))","v":1},{"$f":"PRODUCT(IF(($CL$13:$EK$13<=CN$13*TRANSPOSE($CK$14:$CK$65>=$CK65)),$CL$10:$EK$10,1))","v":1},{"$f":"PRODUCT(IF(($CL$13:$EK$13<=CO$13*TRANSPOSE($CK$14:$CK$65>=$CK65)),$CL$10:$EK$10,1))","v":1},{"$f":"PRODUCT(IF(($CL$13:$EK$13<=CP$13*TRANSPOSE($CK$14:$CK$65>=$CK65)),$CL$10:$EK$10,1))","v":1},{"$f":"PRODUCT(IF(($CL$13:$EK$13<=CQ$13*TRANSPOSE($CK$14:$CK$65>=$CK65)),$CL$10:$EK$10,1))","v":1},{"$f":"PRODUCT(IF(($CL$13:$EK$13<=CR$13*TRANSPOSE($CK$14:$CK$65>=$CK65)),$CL$10:$EK$10,1))","v":1},{"$f":"PRODUCT(IF(($CL$13:$EK$13<=CS$13*TRANSPOSE($CK$14:$CK$65>=$CK65)),$CL$10:$EK$10,1))","v":1},{"$f":"PRODUCT(IF(($CL$13:$EK$13<=CT$13*TRANSPOSE($CK$14:$CK$65>=$CK65)),$CL$10:$EK$10,1))","v":1},{"$f":"PRODUCT(IF(($CL$13:$EK$13<=CU$13*TRANSPOSE($CK$14:$CK$65>=$CK65)),$CL$10:$EK$10,1))","v":1},{"$f":"PRODUCT(IF(($CL$13:$EK$13<=CV$13*TRANSPOSE($CK$14:$CK$65>=$CK65)),$CL$10:$EK$10,1))","v":1},{"$f":"PRODUCT(IF(($CL$13:$EK$13<=CW$13*TRANSPOSE($CK$14:$CK$65>=$CK65)),$CL$10:$EK$10,1))","v":1},{"$f":"PRODUCT(IF(($CL$13:$EK$13<=CX$13*TRANSPOSE($CK$14:$CK$65>=$CK65)),$CL$10:$EK$10,1))","v":1},{"$f":"PRODUCT(IF(($CL$13:$EK$13<=CY$13*TRANSPOSE($CK$14:$CK$65>=$CK65)),$CL$10:$EK$10,1))","v":1},{"$f":"PRODUCT(IF(($CL$13:$EK$13<=CZ$13*TRANSPOSE($CK$14:$CK$65>=$CK65)),$CL$10:$EK$10,1))","v":1},{"$f":"PRODUCT(IF(($CL$13:$EK$13<=DA$13*TRANSPOSE($CK$14:$CK$65>=$CK65)),$CL$10:$EK$10,1))","v":1},{"$f":"PRODUCT(IF(($CL$13:$EK$13<=DB$13*TRANSPOSE($CK$14:$CK$65>=$CK65)),$CL$10:$EK$10,1))","v":1},{"$f":"PRODUCT(IF(($CL$13:$EK$13<=DC$13*TRANSPOSE($CK$14:$CK$65>=$CK65)),$CL$10:$EK$10,1))","v":1},{"$f":"PRODUCT(IF(($CL$13:$EK$13<=DD$13*TRANSPOSE($CK$14:$CK$65>=$CK65)),$CL$10:$EK$10,1))","v":1},{"$f":"PRODUCT(IF(($CL$13:$EK$13<=DE$13*TRANSPOSE($CK$14:$CK$65>=$CK65)),$CL$10:$EK$10,1))","v":1},{"$f":"PRODUCT(IF(($CL$13:$EK$13<=DF$13*TRANSPOSE($CK$14:$CK$65>=$CK65)),$CL$10:$EK$10,1))","v":1},{"$f":"PRODUCT(IF(($CL$13:$EK$13<=DG$13*TRANSPOSE($CK$14:$CK$65>=$CK65)),$CL$10:$EK$10,1))","v":1},{"$f":"PRODUCT(IF(($CL$13:$EK$13<=DH$13*TRANSPOSE($CK$14:$CK$65>=$CK65)),$CL$10:$EK$10,1))","v":1},{"$f":"PRODUCT(IF(($CL$13:$EK$13<=DI$13*TRANSPOSE($CK$14:$CK$65>=$CK65)),$CL$10:$EK$10,1))","v":1},{"$f":"PRODUCT(IF(($CL$13:$EK$13<=DJ$13*TRANSPOSE($CK$14:$CK$65>=$CK65)),$CL$10:$EK$10,1))","v":1},{"$f":"PRODUCT(IF(($CL$13:$EK$13<=DK$13*TRANSPOSE($CK$14:$CK$65>=$CK65)),$CL$10:$EK$10,1))","v":1},{"$f":"PRODUCT(IF(($CL$13:$EK$13<=DL$13*TRANSPOSE($CK$14:$CK$65>=$CK65)),$CL$10:$EK$10,1))","v":1},{"$f":"PRODUCT(IF(($CL$13:$EK$13<=DM$13*TRANSPOSE($CK$14:$CK$65>=$CK65)),$CL$10:$EK$10,1))","v":1},{"$f":"PRODUCT(IF(($CL$13:$EK$13<=DN$13*TRANSPOSE($CK$14:$CK$65>=$CK65)),$CL$10:$EK$10,1))","v":1},{"$f":"PRODUCT(IF(($CL$13:$EK$13<=DO$13*TRANSPOSE($CK$14:$CK$65>=$CK65)),$CL$10:$EK$10,1))","v":1},{"$f":"PRODUCT(IF(($CL$13:$EK$13<=DP$13*TRANSPOSE($CK$14:$CK$65>=$CK65)),$CL$10:$EK$10,1))","v":1},{"$f":"PRODUCT(IF(($CL$13:$EK$13<=DQ$13*TRANSPOSE($CK$14:$CK$65>=$CK65)),$CL$10:$EK$10,1))","v":1},{"$f":"PRODUCT(IF(($CL$13:$EK$13<=DR$13*TRANSPOSE($CK$14:$CK$65>=$CK65)),$CL$10:$EK$10,1))","v":1},{"$f":"PRODUCT(IF(($CL$13:$EK$13<=DS$13*TRANSPOSE($CK$14:$CK$65>=$CK65)),$CL$10:$EK$10,1))","v":1},{"$f":"PRODUCT(IF(($CL$13:$EK$13<=DT$13*TRANSPOSE($CK$14:$CK$65>=$CK65)),$CL$10:$EK$10,1))","v":1},{"$f":"PRODUCT(IF(($CL$13:$EK$13<=DU$13*TRANSPOSE($CK$14:$CK$65>=$CK65)),$CL$10:$EK$10,1))","v":1},{"$f":"PRODUCT(IF(($CL$13:$EK$13<=DV$13*TRANSPOSE($CK$14:$CK$65>=$CK65)),$CL$10:$EK$10,1))","v":1},{"$f":"PRODUCT(IF(($CL$13:$EK$13<=DW$13*TRANSPOSE($CK$14:$CK$65>=$CK65)),$CL$10:$EK$10,1))","v":1},{"$f":"PRODUCT(IF(($CL$13:$EK$13<=DX$13*TRANSPOSE($CK$14:$CK$65>=$CK65)),$CL$10:$EK$10,1))","v":1},{"$f":"PRODUCT(IF(($CL$13:$EK$13<=DY$13*TRANSPOSE($CK$14:$CK$65>=$CK65)),$CL$10:$EK$10,1))","v":1},{"$f":"PRODUCT(IF(($CL$13:$EK$13<=DZ$13*TRANSPOSE($CK$14:$CK$65>=$CK65)),$CL$10:$EK$10,1))","v":1},{"$f":"PRODUCT(IF(($CL$13:$EK$13<=EA$13*TRANSPOSE($CK$14:$CK$65>=$CK65)),$CL$10:$EK$10,1))","v":1},{"$f":"PRODUCT(IF(($CL$13:$EK$13<=EB$13*TRANSPOSE($CK$14:$CK$65>=$CK65)),$CL$10:$EK$10,1))","v":1},{"$f":"PRODUCT(IF(($CL$13:$EK$13<=EC$13*TRANSPOSE($CK$14:$CK$65>=$CK65)),$CL$10:$EK$10,1))","v":1},{"$f":"PRODUCT(IF(($CL$13:$EK$13<=ED$13*TRANSPOSE($CK$14:$CK$65>=$CK65)),$CL$10:$EK$10,1))","v":1},{"$f":"PRODUCT(IF(($CL$13:$EK$13<=EE$13*TRANSPOSE($CK$14:$CK$65>=$CK65)),$CL$10:$EK$10,1))","v":1},{"$f":"PRODUCT(IF(($CL$13:$EK$13<=EF$13*TRANSPOSE($CK$14:$CK$65>=$CK65)),$CL$10:$EK$10,1))","v":1},{"$f":"PRODUCT(IF(($CL$13:$EK$13<=EG$13*TRANSPOSE($CK$14:$CK$65>=$CK65)),$CL$10:$EK$10,1))","v":1},{"$f":"PRODUCT(IF(($CL$13:$EK$13<=EH$13*TRANSPOSE($CK$14:$CK$65>=$CK65)),$CL$10:$EK$10,1))","v":1},{"$f":"PRODUCT(IF(($CL$13:$EK$13<=EI$13*TRANSPOSE($CK$14:$CK$65>=$CK65)),$CL$10:$EK$10,1))","v":1},{"$f":"PRODUCT(IF(($CL$13:$EK$13<=EJ$13*TRANSPOSE($CK$14:$CK$65>=$CK65)),$CL$10:$EK$10,1))","v":1},{"$f":"PRODUCT(IF(($CL$13:$EK$13<=EK$13*TRANSPOSE($CK$14:$CK$65>=$CK65)),$CL$10:$EK$10,1))","v":1.0660841176452029}]
[null,null,null,null,null,null,null,null,null,null,null,null,null,null,null,null,null,null,null,null,null,null,null,null,null,null,null,null,null,null,null,null,null,null,null,null,null,null,null,null,null,null,null,null,null,null,null,null,null,null,0,{"$f":"-BC66","v":-8.573654266393671E-3},{"$f":"-MAX(W32:BC64)","v":-0.28797189333324447},{"$f":"MAX(W32:BC64)","v":0.28797189333324447},{"$f":"MIN(W32:BC64)","v":8.573654266393671E-3}]
[]
[null,null,null,null,null,null,null,null,null,null,null,null,null,null,null,null,null,null,null,null,null,null,null,null,null,null,null,null,null,null,null,null,null,null,null,null,null,null,null,null,null,null,null,null,null,null,null,null,null,null,null,null,null,null,null,null,null,{"$f":"BF13&\" yr\"","v":"1 yr"},"2 yr","3 yr","4 yr","5 yr","6 yr","7 yr","8 yr","9 yr","10 yr","11 yr","12 yr","13 yr","14 yr","15 yr","16 yr","17 yr","18 yr","19 yr","20 yr","21 yr","22 yr","23 yr","24 yr","25 yr","26 yr"]
[null,null,null,null,null,null,null,null,null,null,null,null,null,null,null,null,null,null,null,null,null,null,null,null,null,null,null,null,null,null,null,null,null,null,null,null,null,null,null,null,null,null,null,null,null,null,null,null,null,null,null,null,null,null,null,null,"StDev",{"$f":"STDEV(BF33:BF63)","v":6.1631168760032745E-2},5.2420773369580682E-2,4.6208564566218677E-2,4.1356901372125346E-2,3.595149443114519E-2,3.1620099033948725E-2,3.0468327015351144E-2,2.9243811716626846E-2,2.9089433865231603E-2,2.9555467307403223E-2,2.9444415349402411E-2,2.8761198837492469E-2,2.7355511550713064E-2,2.5665855245416546E-2,2.3687398431590078E-2,2.1952848984288419E-2,2.0720504721751194E-2,2.0117288848099518E-2,1.9755476644371921E-2,1.941546337375874E-2,1.8883048379083941E-2,1.8235965945123733E-2,1.7504760605531407E-2,1.6589438065909165E-2,1.5656477318180376E-2,1.4590563002838777E-2]
[null,null,null,null,null,null,null,null,null,null,null,null,null,null,null,null,null,null,null,null,null,null,null,null,null,null,null,null,null,null,null,null,null,null,null,null,null,null,null,null,null,null,null,null,null,null,null,null,null,null,null,null,null,null,null,null,"Ave",{"$f":"AVERAGE(BF33:BF63)","v":9.5114715937659106E-2},9.431209309728926E-2,9.5190454795959667E-2,9.664049159543682E-2,9.7072314686000444E-2,9.7063103538784196E-2,9.6041450758157704E-2,9.5432815295676071E-2,9.452525736434772E-2,9.3169321762121407E-2,9.1861763276066433E-2,9.0683281211976371E-2,8.989291919766168E-2,8.9560123874384431E-2,8.9740447426816403E-2,9.0196115255741158E-2,9.0755687348157893E-2,9.1322535306414376E-2,9.190983813491492E-2,9.2494785212929476E-2,9.2483116412645047E-2,9.2504026350507348E-2,9.2621231907000584E-2,9.2691886304135704E-2,9.2662817176175832E-2,9.2648242921806026E-2]

{"sheet":"Data","index":1,"n_rows":71,"n_cols":98,"rows_kept":71,"cut":false,"hidden":true,"merged":[]}
["(from returns assessment utility - note different start date) "]
[]
[null,"Year","S&P500","Dow Jones","NASDAQ","NYSE","Wilshire5000","EAFE","EUROPE","PACIFIC","North America","MSCIUSA","All REITS","Equity REITS","Mortgage\nREITS","Composite\nREITS","BBALibor","ED3M","TCM1Y","TCM3Y","TCM5Y","TCM7Y","TCM10Y","TCM20Y","TCM30Y","TBSM3M","TBSM6M","CD3M","CD6M","AAA","BAA","CP3M","Muni20","Mort30F","SPGSI","FedFunds","CPI","PPI","Gold","US Ag 32 States","US Ave Farm (all)","Alabama","Arizona","Arkansas","California","Colorado","Delaware","Florida","Georgia","Idaho","Illinois","Indiana","Iowa","Kansas","Kentucky","Louisiana","Maryland","Michigan","Minnesota","Mississippi","Missouri","Montana","Nebraska","New Jersey","New Mexico","New York","North Carolina ","North Dakota","Ohio","Oklahoma","Oregon","Pennsylvania","South Carolina","South Dakota","Tennessee","Texas","Utah","Virginia","Washington","West Virginia","Wisconsin","Wyoming","NCRIEF Ann Crop","NCREIF Perm Crop","NCREIF Total Farmland","Corn Belt Annual Cropland","Delta States Annual Cropland","Pacific Northwest Annual Cropland","Annual - Commodity","Annual - Fresh Produce","Leased Permanent Cropland","Permanent Cropland Operated","Permanent - Citrus","Pacific West Permanent Cropland","Leased Permanent and Annual Cropland","NCREIF Timber","Pasture / Ranchland"]
[null,1969,-0.12060330002707749,-0.16480267658270875,null,-0.20538512322858959,null,0,0,0,0,0,null,null,null,null,null,null,7.1224999999999997E-2,7.0166666666666655E-2,6.933333333333333E-2,7.145E-2,6.6708333333333328E-2,6.3266666666666665E-2,null,6.6666666666666666E-2,6.8608333333333341E-2,7.7608333333333335E-2,7.8925000000000009E-2,7.0291666666666655E-2,7.8133333333333332E-2,null,5.7149999999999992E-2,null,null,8.2041666666666652E-2,6.0127397972595101E-2,4.7964059207126424E-2,-0.15581467501629784,0.12909085589390359,0.12645565731910713,0.19466238859180046,5.8567740962518787E-2,0.17064698118777788,1.7617175898729555E-2,8.5192291800528341E-2,0.1023934450607546,5.5221929010154477E-2,0.26528969847779355,7.2899109138604881E-2,0.10529992832182791,7.0185649874882183E-2,0.12106603512659947,5.8493338773177042E-2,0.14204393148248756,9.9934082357843387E-2,9.36390931055818E-2,0.1250556826351383,0.15637957497258256,0.20597194560226018,0.17445994115348953,6.0068340748629809E-2,8.1198706163197729E-2,0.11405670870258024,null,0.15342819682458142,0.14382309364703105,0.18332532403812857,8.8247239453269746E-2,5.4057424741864216E-2,0.10893471890950025,0.14130938151549446,0.19263871085482809,0.11686250961044883,0.18300806606719036,0.2370730827267202,5.6695942621804982E-2,0.11734711869449524,0.14916665354599909,0.18287160553219395,0.19263784751268606]
[null,1970,9.7714572673684649E-4,4.6979907142670543E-2,null,0.10189303515126928,null,-0.13843955611158673,-0.12907928853483919,-0.14706049661812406,8.5081288464231686E-2,8.6246062790812358E-2,null,null,null,null,null,null,6.8974999999999995E-2,7.2866666666666663E-2,7.3758333333333329E-2,7.3750000000000024E-2,7.3483333333333331E-2,6.8624999999999992E-2,null,6.3916666666666677E-2,6.5083333333333326E-2,7.5641666666666663E-2,7.657499999999999E-2,8.0399999999999985E-2,9.1050000000000006E-2,null,6.3274999999999998E-2,null,null,7.1833333333333332E-2,5.4206817836426738E-2,2.1799228342584579E-2,6.254620512350012E-2,0.11159403453658973,0.11025257550892192,0.16528853639736002,7.25272101731535E-2,0.1395065441533706,-4.30277992049799E-3,5.9957085518527367E-2,0.13445059828460146,0.12831535966625804,0.19198174987421845,8.9474466281368195E-2,5.0387657075891629E-2,4.1432985039058706E-2,0.10186539879862812,1.5027911215835972E-3,0.15615452941767416,0.12699339836040482,0.12619142301245265,7.8652054814205064E-2,0.12394471970036876,0.17415453470781331,0.12355645174636865,9.4191566969466886E-2,5.8957822382479867E-2,0.13070238610143758,null,0.14402918988108065,5.7845463468326412E-2,0.12970099768612695,0.11031583164550643,8.3657844621458879E-2,9.1184879796820092E-2,0.16930906082296121,7.377879418452972E-2,9.0027625097321123E-2,0.13987896017746759,0.19134581272701606,5.4594734809784717E-2,0.1684740202521014,0.11035137027684527,0.13659619311112389,0.18287317661329097]
[null,1971,0.1024370930650918,5.9354646729505189E-2,null,9.195639029808006E-2,0.11672427430814139,0.23225528447957131,0.20749559366161402,0.28880543556397414,9.267711452530708E-2,9.5373227815406025E-2,0,0,0,0,null,6.6249999999999989E-2,4.8799999999999996E-2,5.6541666666666678E-2,5.9874999999999998E-2,6.1783333333333336E-2,6.159166666666667E-2,6.1200000000000004E-2,null,4.3324999999999995E-2,4.5116666666666666E-2,5.0049999999999997E-2,5.2166666666666674E-2,7.3866666666666664E-2,8.5633333333333339E-2,null,5.4741666666666682E-2,7.5457777777777763E-2,null,4.6625000000000007E-2,3.2141209211796987E-2,3.963530685739565E-2,0.14956141064361747,0.1108518763901834,0.1135274293969987,0.2142125699837456,0.11373262615733283,6.8983500278687437E-2,-6.4595968761907534E-3,0.11162748368420318,0.15228330437298901,7.1150755709715754E-2,0.19047602743125791,9.7720022924508626E-2,6.3547925595163354E-2,0.10333010136060855,7.5336007949691475E-2,3.8662084429576964E-2,0.1430699344622158,0.15129891626292152,9.3959787076422996E-2,6.7081835686303368E-2,9.7698579705728442E-2,0.10477830285829016,0.14260039818938128,7.2570625319724996E-2,0.15519808158249504,3.9706864534343321E-2,null,0.10454068599979646,0.1797741659764944,0.10299363578178589,9.8103911922733017E-2,6.7869576703005863E-2,0.14969209501321873,7.5638682258464804E-2,0.12248373757292311,9.066184238877735E-2,0.10957116468968338,0.20867087562941072,0.19503505632776241,0.1475007132834803,6.70093637351242E-2,0.16310832595530694,0.18234977456586507]
[null,1972,0.14525348635059787,0.1361117496965627,null,8.3725657501329029E-2,0.16378930866502697,0.28728963947775837,0.11073855142798338,0.70464789116324777,0.13274640161160875,0.12489290920016581,0.10609240440610015,7.7056056283294219E-2,0.11484249831646158,0.10609240440610015,null,5.4666666666666662E-2,4.9599999999999984E-2,5.7208333333333326E-2,5.9816666666666657E-2,6.1449999999999998E-2,6.2100000000000002E-2,6.0099999999999987E-2,null,4.0725000000000004E-2,4.4841666666666669E-2,4.6658333333333336E-2,5.015E-2,7.2133333333333341E-2,8.1550000000000011E-2,null,5.2575000000000004E-2,7.3832916666666651E-2,null,4.4341666666666661E-2,3.3495954428182186E-2,6.2755845031403759E-2,0.38517478140918171,0.14227603207761544,0.14175382613283108,0.12676471741481427,0.15947809730868157,0.23964230297211592,5.9368436647958239E-2,0.15442221396192818,5.7071208007603812E-2,8.118804805977349E-2,0.23109018210482804,0.12634585571568213,0.1101885211424052,9.7244756537847921E-2,0.13429223449214045,9.4863696669856792E-2,0.18401849012886443,0.14615535168234808,8.3616571159164474E-2,0.15819558127036829,0.11702800873901685,0.12635838083817164,0.19613848137857365,0.10202369502653376,0.22328108033573824,8.1085498490857513E-2,null,0.17832241773096766,0.12738100092632654,0.12251944244412255,0.11151274860624617,8.0827372338946546E-2,0.16403884092904686,9.4344124623326309E-2,0.19092633942320389,0.10090212404939632,0.16823963611061729,0.2357730651062811,0.18572511509831952,0.17443052290329616,0.12840403058190725,0.21766336320888696,0.1575276650142472]
[null,1973,-0.19074319646240165,-0.18126329342280512,null,-0.19485488137120277,-0.20708611441835126,-0.18413798696913125,-0.11758436050528583,-0.25717730193060345,-0.19356721341905966,-0.20746816749741737,-0.3176831069919786,-0.16864536577925257,-0.45033118702769842,-0.3176831069919786,null,9.4208333333333324E-2,7.3116666666666663E-2,6.9549999999999987E-2,6.8666666666666668E-2,6.8583333333333329E-2,6.8425E-2,7.116666666666667E-2,null,7.0316666666666666E-2,7.1991666666666662E-2,8.4158333333333335E-2,8.3108333333333326E-2,7.4408333333333326E-2,8.2408333333333333E-2,null,5.1891666666666662E-2,8.042916666666669E-2,null,8.7275000000000005E-2,8.3475722157322102E-2,0.14261410719884182,0.5129862560622962,0.18773474962832182,0.17960814052440843,0.20939639532312038,8.671774192850587E-2,0.21517632405100673,4.1219131599617466E-2,0.21061349450484709,0.17219423934182973,0.16567255019337085,0.21496725912502615,0.15320143312913781,0.14038098860532358,0.19851927192130878,0.2022336914043911,0.16617244123820568,0.18459405389317413,0.11614217406041889,0.16660506955219428,0.24124981231231227,0.18757419493837835,0.21969829390810752,0.2090422917814663,0.14050289940537622,0.27118590773269213,9.2246580854057889E-2,null,0.14703841938390044,0.21415452822537326,0.18789360704234973,0.20042113112243407,0.14439277586445456,0.14709730004619506,0.19325121754874972,0.12855018178082006,0.15880153697070717,0.21011157493898666,0.24833706415754186,0.11272331015442162,0.1813749379350402,0.21427752162935806,0.23816836873380173,0.27281776411392544]
[null,1974,-0.35265579277959586,-0.322723026692944,null,-0.23292979323204233,-0.33293866403990163,-0.295680220067155,-0.31274174214247541,-0.26636113588194249,-0.3546484354349892,-0.369062529317427,-0.54872911220207643,-0.24083700312635012,-0.60376133127433584,-0.54872911220207643,null,0.11255833333333336,8.1816666666666663E-2,7.8224999999999989E-2,7.8016666666666665E-2,7.7141666666666664E-2,7.5575000000000017E-2,8.0516666666666681E-2,null,7.8299999999999995E-2,7.9358333333333309E-2,0.10244166666666667,9.9750000000000019E-2,8.5658333333333322E-2,9.4966666666666658E-2,null,6.1733333333333328E-2,9.1870416666666663E-2,null,0.10502500000000001,0.11633899208414977,0.18967839501966308,0.54297041505430876,0.29502459935806408,0.28662809813421064,0.30974720922399535,0.23743242581871155,0.28561889593663531,0.13135311226198779,0.30746844597982964,0.2917137791964331,0.32083909615009332,0.36601892409630427,0.29023704250239674,0.32765415242680346,0.26975735936835998,0.36150656589456892,0.29448362246728932,0.25602864585112001,0.22705341111214966,0.17848569183384203,0.21764943520221819,0.33769761318075842,0.35942718303379623,0.39121899980237163,0.28794588298150298,0.38989703335232684,0.18644805071281637,null,0.29444505454155151,0.24507731393689858,0.43452472409270082,0.29146262049367266,0.21704277977468664,0.18458791315150189,0.28268313708655129,0.29280093763105919,0.34702837477483889,0.27006393779800331,0.36008843100729798,0.22332499311591708,0.32376304997070893,0.19717456484280996,0.32750276946738843,0.26124264716231976]
[null,1975,0.27420928188809235,0.32448431406189437,null,0.26923846487543679,0.32404971662265586,0.27157657547829989,0.31255352456239782,0.20568693495671736,0.24656281908057803,0.26623122850930786,0.30995716756562858,0.17646688430592811,0.34206467625434245,0.30995716756562858,null,6.9541666666666668E-2,6.7583333333333329E-2,7.4899999999999994E-2,7.7658333333333329E-2,7.8950000000000006E-2,7.9875000000000002E-2,8.1916666666666665E-2,null,5.7749999999999996E-2,6.0883333333333338E-2,6.4366666666666669E-2,6.889166666666667E-2,8.8258333333333341E-2,0.10610000000000001,null,7.0508333333333326E-2,9.0405416666666655E-2,null,5.8241666666666664E-2,6.7064230580545836E-2,4.1031396677862562E-2,-0.27669873641713666,0.1974237219274188,0.18698916722500011,0.16758926620342721,3.7265016772835384E-2,0.11551170276737814,0.15941048392943724,0.1044457345491388,0.22830310281026869,0.13588946076692537,0.19731976488071545,0.2187301956475152,0.23522480174940194,0.29550065416293486,0.29118092497414899,0.19442853916648398,0.18523781712306311,0.15476765979440593,9.8589024590003543E-2,0.10556406748016584,0.35301517467080373,0.21116678145348403,0.11829147961092408,0.19208090149242985,0.30514364098517593,0.14493014117519595,null,0.18624360340851587,0.11896533296975992,0.44146873862098851,0.17974483077189882,0.16538609313581626,0.11127090708574577,0.20090789826934946,0.16400306345530868,0.29677350538062941,0.19078522509920437,0.12710575979389149,0.11154289842200815,0.15790149436737438,0.20609032082151615,0.19038517287198267,0.19441634054475188]
[null,1976,0.17520012912305855,0.16438836824380657,null,3.541166188968755E-2,0.23732818630616595,-3.5891339161321944E-3,-0.11476406791708309,0.16837771159367459,0.14751523818054432,0.17134800821167478,0.39859982532700089,0.38925883998428595,0.41682482350419181,0.39859982532700089,null,5.635833333333333E-2,5.8741666666666671E-2,6.7708333333333329E-2,7.1791666666666656E-2,7.4233333333333332E-2,7.6116666666666666E-2,7.8633333333333333E-2,null,4.974166666666667E-2,5.2525000000000002E-2,5.2683333333333332E-2,5.6241666666666662E-2,8.4341666666666662E-2,9.7466666666666674E-2,null,6.6416666666666666E-2,8.8643333333333352E-2,null,5.0450000000000002E-2,4.750233398500326E-2,4.5834536343799324E-2,-3.9267182371041008E-2,0.22409465947738921,0.22028613346690193,0.22990422569497565,0.1276121486102425,0.2124739098828716,0.1033270855898851,0.19572883337265742,0.17646118111689524,0.12735482850685154,0.14627284765924137,0.17635047016693295,0.31403036677357909,0.30752720483641538,0.35436594975567909,0.29868234678129396,0.27107548256273872,0.17685811274682242,0.22310475357606044,0.14585805048048617,0.3137185249942977,0.16969917593859488,0.23318327241421624,0.22271593544074056,0.41174081976904381,0.16680712276165333,null,0.1248828138850476,0.1871661565925207,0.30060057827927372,0.25172691821590798,0.15987928692259135,0.21992847949990799,0.13639467870490557,0.15137492862101301,0.20456700027362656,0.19100854009331722,0.25865997343352476,0.21994015329490443,0.18147126381746481,0.32219992533254993,0.35482981395195146,0.22167604485849396]
[null,1977,-0.12218971574933084,-0.18957382868325098,null,-0.11586499748531651,-2.8573372444056114E-2,0.13639519317552098,0.16245558958410716,0.10086323856293064,-0.12007608871342169,-0.13014447330421011,0.17459583423786199,0.20232213856971373,0.16402510641021167,0.17459583423786199,null,6.1566666666666665E-2,6.0883333333333317E-2,6.6858333333333325E-2,6.9900000000000018E-2,7.2299999999999989E-2,7.4191666666666656E-2,7.6708333333333337E-2,7.7490909090909096E-2,5.2691666666666671E-2,5.5274999999999998E-2,5.6408333333333331E-2,5.9191666666666684E-2,8.0241666666666683E-2,8.969166666666667E-2,null,5.6825000000000001E-2,8.8416666666666671E-2,null,5.5375000000000008E-2,6.4860634202040926E-2,5.7513906200606847E-2,0.17976239758357249,0.2441042814099722,0.22553920454389223,0.18566656582706453,0.15993194227768978,0.20752007709826958,8.2188061010137717E-2,0.20022037338536466,0.15210016139767951,0.14846341795198847,0.21760289940123825,0.21415551681567666,0.42375304263431196,0.40563044521546554,0.43276348591267277,0.28299897199343788,0.27305434706334147,0.21968473551027326,7.5373699183848564E-2,0.32129232725240103,0.34159029595814228,0.21483743354692705,0.2795841959376883,0.19846681552516732,0.27760234086488184,5.4161617753364796E-2,null,0.10249948263263647,0.17033561614978379,0.23889992036597094,0.3475229092200996,0.1598395128298816,0.20831240757172428,0.22974122794651117,0.21083777545653373,0.26608853716695779,0.2266914484232955,0.20442251073505099,0.20705364699521778,0.15778623182257809,0.29292636357473811,0.12523312902835135,0.27919548777543163]
[null,1978,1.0564399283848343E-2,-3.2028162366454289E-2,null,0.12501114343094749,9.0026151657719822E-2,0.25397496320018598,0.16247406129810393,0.37201070775308365,5.9067746927672367E-2,4.0492190507765728E-3,-1.6541295225341566E-2,9.8355757910794608E-2,-0.10502055998913803,-1.6541295225341566E-2,null,8.7799999999999989E-2,8.3400000000000016E-2,8.2891666666666683E-2,8.3175000000000013E-2,8.3566666666666678E-2,8.4100000000000022E-2,8.4841666666666662E-2,8.4849999999999995E-2,7.1883333333333327E-2,7.5833333333333322E-2,8.221666666666666E-2,8.6141666666666672E-2,8.7249999999999994E-2,9.4883333333333333E-2,null,6.0241666666666666E-2,9.6324583333333338E-2,null,7.9308333333333328E-2,8.6340190978796194E-2,9.3660921596511071E-2,0.25884567612109605,0.18499227469604318,0.17499780712600774,0.16561831147390996,0.14544975715974981,0.18762631084507425,0.22652255936285326,9.7998468592218585E-2,0.11099069896964642,0.15526259979749446,0.23493845899346885,0.1729036767593414,0.16204768489844973,0.20076027579194547,0.11928758830379964,0.15167627743279821,0.21515386905370745,0.27852676229702045,0.18296094079210468,0.16251266525422223,0.19839246918215389,0.30172090597488299,0.24271570664703543,0.14810019192144069,0.10159311663081762,8.296181890618487E-2,null,6.0705124446144038E-2,0.13442560591998609,0.16435815931264974,0.16351834854588046,0.16019741508349261,0.25730208728441833,0.13947313736798392,0.13185522296708496,0.23555061319981768,0.24048286084445775,0.22837841064366013,0.15014399087657701,0.14816212377665877,0.19683783906780106,0.10079925796957269,0.26700316556779591]
[null,1979,0.11608214835530381,4.101079657180242E-2,null,0.15855678424794672,0.20846683689827697,1.7972979564267088E-2,8.0500268880329864E-2,-5.9671921055796988E-2,0.16424107998397178,7.8391456296222309E-2,0.26640255835981969,0.30643676358307709,0.15326123332243433,0.26640255835981969,null,0.12005,0.10665000000000001,9.7150000000000014E-2,9.5183333333333328E-2,9.4783333333333331E-2,9.4425000000000009E-2,9.3308333333333326E-2,9.292499999999998E-2,0.10069166666666667,0.100575,0.11225,0.11438333333333332,9.6291666666666664E-2,0.10689999999999998,null,6.5166666666666664E-2,0.11191749999999999,null,0.11194166666666666,0.12481552845498117,0.13730692482522749,0.90224995534422159,0.23092616980006112,0.23078659790681136,0.26727485114213273,0.32223731058658645,0.32887652784168608,0.3211291503505348,0.21141942373687461,0.14117684040404047,0.1879443098867378,0.19308787787531753,0.17535720241431257,0.18756079015827992,0.22363972656533379,0.22163572386603514,0.295619962030715,0.25604367923432153,0.27025166315139443,0.15993274268199251,0.14657805209453773,0.244071831376726,0.26692942980568252,0.20617659319254836,0.14058821200856267,0.37243094125480675,0.13641695749185756,null,0.15607966600819431,0.30074810006015756,0.22470783483627566,0.2581831392136969,0.15595197333879057,0.2654157243722462,0.15846069613487185,0.22729992164935503,0.18995423141358822,0.2147327863891825,0.2426063447868925,0.31295059437214856,0.23496613851265008,0.22177361425143943,0.31102551757770558,0.24944123629742662]
[null,1980,0.22931310373547412,0.13923822062017965,null,0.12398130561227982,0.31158759330533525,0.17406424905883816,7.2669217082436233E-2,0.28749695115473006,0.20098614577007798,0.20765732782825114,0.24701207626179683,0.21808378792672162,0.15527422039362601,0.24701207626179683,null,0.1406,0.12048333333333332,0.11548333333333333,0.11478333333333333,0.114325,0.11460000000000001,0.11386666666666664,0.11298333333333334,0.11434166666666667,0.11364166666666668,0.13066666666666668,0.12992499999999998,0.11938333333333334,0.13668333333333332,null,8.594166666666668E-2,0.13769499999999998,null,0.13355833333333333,0.11792788971617164,0.11751654664747782,0.14137409324827663,0.2171326162823142,0.22043616569674535,0.27044787528590353,0.37280381048772826,0.24702271505480067,0.22457738662813961,0.23423108915887828,0.22741529334588298,0.21468050495188326,0.2020898880475826,0.23283944328832087,0.14225998821934949,0.22234337059689371,0.23936914041428409,0.25764871927274957,0.18443518963908245,0.29788301783154209,0.26020473091127516,0.1757229872784849,0.25934877192136035,0.26148749750181044,0.31117418384493511,0.22618729020498315,0.29804328288042781,9.5123633830216756E-2,null,0.11305832803199962,0.19040520896308713,0.2309447768308146,0.20919429632002803,0.21774663141469658,0.21272287023304942,0.16662832857448587,0.20113037298129199,0.19977969238163903,0.17890200151578031,0.22571366847222701,0.33975856986439817,0.13920497446064975,0.13680390248948684,0.15233032971822208,0.22534669932469906]
[null,1981,-0.1023695109518493,-9.6867408252931192E-2,null,-6.7964656579471261E-2,-4.0166041725334757E-2,-4.9701495960842626E-2,-0.17187888953552152,5.8588006649542931E-2,-0.10644247410797807,-9.7632481952284494E-2,8.2276839440048058E-2,5.8276544524166855E-2,6.8319571139527135E-2,8.2276839440048058E-2,null,0.16825000000000004,0.14778333333333329,0.14439166666666667,0.14235833333333334,0.14060833333333334,0.13910833333333331,0.13718333333333332,0.13441666666666666,0.14024999999999999,0.13799166666666665,0.1591083333333333,0.157725,0.14170833333333333,0.1604416666666667,null,0.11326666666666668,0.16634624999999997,null,0.16378333333333334,8.5465184180621614E-2,5.1932748741643046E-2,-0.39450378419339788,0.16372245477504094,0.15072655286457604,0.20971268507402968,0.10623018937057464,0.19868338196269511,0.24082562537124119,0.15400831009227817,0.10310166468612315,0.14413647418657724,0.1286673579643379,0.14902623311603591,0.11533572285075758,0.13885653155931232,0.137376785080254,0.14004739154956178,0.11068352877390605,0.19450250936964303,0.14685734879586282,0.19148284751099745,0.22950675586257552,0.31289647793824882,0.1622296604924986,9.5699462889010503E-2,0.23185057056927735,3.6128678461408714E-2,null,0.11136512513453294,0.13159987301439563,0.13828402127129144,0.10172264063414613,0.12783469026504773,0.1861256669790296,8.6472914525426853E-2,0.11643492375115443,0.18384643473746104,0.13623362670162106,0.16657267050287936,8.4601562504039426E-2,0.12208776243758401,0.26534456633265868,4.5862641347993331E-2,0.19610024805199758]
[null,1982,0.13768432396274524,0.17898265552843995,null,0.18809502219121324,0.17271269768731792,-4.738906565996185E-2,2.3312740518220833E-4,-8.8076879500809169E-2,0.12259943067795358,0.14089564478039934,0.27493085989666549,0.19557419779782687,0.3963790202301482,0.27493085989666549,null,0.13131666666666666,0.12274999999999998,0.12921666666666667,0.13005833333333333,0.13056666666666666,0.13001666666666667,0.12916666666666665,0.12761666666666663,0.10614166666666663,0.11065833333333332,0.12270833333333331,0.12571666666666664,0.13787500000000003,0.16113333333333332,null,0.11659166666666666,0.16090208333333333,null,0.12258333333333332,3.7582711149042852E-2,1.7060122745308388E-2,0.13926961447483924,5.3710396951147717E-2,5.0224277386372383E-2,1.6428778027169286E-2,8.4613054222208703E-2,8.7319017052483072E-2,0.12158150725097955,7.2036462556945693E-2,-4.0776401524034799E-2,-1.8441664291739358E-2,-2.6344851421549586E-3,0.12348884469690387,-2.4863599270602835E-2,-5.889462496176804E-2,1.9544821272773167E-3,9.7640194292963584E-2,7.641027255638573E-2,9.9600006910789789E-3,-4.1609944670140335E-2,2.7071639615434073E-2,4.4767777853038114E-2,3.3067180683305991E-3,2.411366103032777E-2,0.10770375041927117,8.8123924987074595E-2,5.1262828523590057E-2,null,9.9128202834119827E-2,3.4881192991011419E-3,0.10537119491552105,-6.0794119668867323E-2,0.13597093233983559,0.10276684173025115,-1.7530973468270268E-2,4.1912175822871864E-2,0.11868061017173057,1.5918659434087861E-2,0.23237506274582193,5.3611184296397434E-2,1.593557340215376E-2,0.12501822087262313,9.1001218960903588E-2,4.5331720269220284E-2]
[null,1983,0.15931770752319407,0.18454872920677864,null,0.11885274507351384,0.21065206342018061,0.1899067954562719,0.15979572221284344,0.2151499620642853,0.16163738124245336,0.15365004870204582,0.22688747185629388,0.26724655559032495,0.1561192328931631,0.22688747185629388,null,9.6066666666666634E-2,9.5725000000000005E-2,0.10446666666666667,0.10795833333333332,0.11019999999999998,0.11105000000000002,0.11342500000000001,0.11178333333333335,8.6108333333333342E-2,8.7325E-2,9.0666666666666659E-2,9.2708333333333337E-2,0.12041666666666666,0.13554166666666664,null,9.5058333333333314E-2,0.13226874999999999,null,9.0866666666666679E-2,3.7208917835590972E-2,1.7751945458450321E-2,-0.17799736739197955,1.5210448028697516E-2,1.163386194771476E-2,-1.7384918315660563E-2,-1.1017421853291862E-2,-6.2394665841912049E-2,3.3567509882780552E-2,3.8759107127840468E-2,5.3793089139507151E-2,4.8362641690589431E-2,4.8877812836186446E-2,9.020671097838915E-3,-3.8258671812183842E-2,-5.1839294592521512E-2,-4.590210516994972E-2,4.2371978611480614E-2,4.2562119155948264E-2,-5.9448877727644803E-3,-8.66571433359834E-2,-5.2731227442499844E-3,-2.934767056214509E-2,-3.3451406760227807E-2,-1.8825420479918097E-2,-1.6700558507338061E-2,4.50443180547037E-2,-8.3140005069440477E-3,null,2.8255128427335924E-2,4.5269643271222751E-2,2.7478600659663559E-2,-2.2922865823555447E-2,3.5933281054477961E-2,4.679826635145784E-2,2.0499800504392068E-2,5.4633866765421701E-4,5.548663213441167E-2,1.3627736282212918E-2,8.5386848823591252E-2,-3.4944560441204517E-2,5.8042348345664359E-2,8.513133733386144E-2,-1.3140509907041121E-2,2.450414365508706E-2,7.8354349227573408E-2]
[null,1984,1.3908765028303472E-2,-3.8058191939750942E-2,null,9.5291057455556633E-2,3.026365763982693E-2,4.898313685194651E-2,-2.8072490132289084E-2,0.11034899604828448,1.1874135572878422E-3,1.0049696589728535E-2,0.13815473465501157,0.19001915173552938,7.0127555088068574E-2,0.13815473465501157,null,0.10784166666666666,0.10887500000000003,0.11892499999999999,0.12240833333333333,0.1240333333333333,0.12438333333333333,0.12476666666666665,0.12391666666666666,9.522499999999999E-2,9.755833333333333E-2,0.10365000000000001,0.10675833333333334,0.12709166666666666,0.1419,null,0.10100833333333332,0.13869375,null,0.10224999999999999,3.8727007885292021E-2,1.1661939747842957E-2,-0.2153938462851416,7.6881176407276902E-2,7.5475025501221926E-2,3.7008197688973114E-2,0.19472717574147985,4.623411847749824E-2,7.5747983929049092E-2,0.14659302473787358,4.0545611992701479E-2,6.1989135031736795E-2,3.4487961557778293E-2,8.4162827134892176E-2,5.9902386881446633E-2,7.9222519121369531E-2,-2.9049786954055388E-2,8.0826687568684774E-2,3.1674321674232828E-2,9.7029817289355613E-2,7.7351620427146051E-2,6.0775346374615659E-2,2.5001371347392672E-2,0.11557174552045055,9.4427565475224309E-2,0.17717053619264908,1.9919710440570722E-2,-5.332246784666906E-2,0.15435226845803166,7.3250671659219349E-2,0.11598672521722522,7.8946579418538651E-2,4.5559620133615447E-2,9.8673820331100628E-2,0.12158281407778351,6.4428085231513013E-2,1.4491108849746241E-2,9.7368967833570241E-2,5.0643236701166432E-2,0.19075835372875213,4.9177011245874383E-2,2.974853719018667E-2,0.14935576678585855,4.735102964708976E-2,4.5198997234592454E-2,0.10960504200183906]
[null,1985,0.23375436150051249,0.24418182889101206,0.27280543684203784,0.16310623556741713,0.28156584543434482,0.42506511921364076,0.54989700635220629,0.31813104610325837,0.23205490242358523,0.24089531117987548,5.7513210012705332E-2,0.17476267070881307,-5.3447822438548731E-2,5.7513210012705332E-2,null,8.3283333333333334E-2,8.4258333333333352E-2,9.6424999999999997E-2,0.10129166666666667,0.10509166666666667,0.10623333333333333,0.10971666666666666,0.10789166666666666,7.4791666666666645E-2,7.6516666666666663E-2,8.0474999999999977E-2,8.2458333333333342E-2,0.11373333333333333,0.12715000000000004,null,9.104166666666666E-2,0.12423250000000001,1.1595225084488604E-2,8.1008333333333321E-2,3.7282976042563025E-2,9.6571711995879132E-4,5.8275028093743159E-2,-4.689879738170312E-2,-4.0826552838096428E-2,6.7455044807997241E-3,6.7817281872640439E-2,1.9029854371408915E-4,-2.7047401972186903E-2,7.1477613373947049E-2,-9.3129767562719526E-2,-1.5565955570523661E-3,3.0451993840160986E-3,1.5207334437890626E-2,-0.18348380997673819,-0.12080353899062761,-0.19750465581190502,-7.995196209850719E-2,-3.1549242910216685E-2,2.1895042379355474E-2,8.286692341904163E-3,-8.0955333564944776E-2,-0.1442003106732703,-4.5113063308345851E-2,-0.1361667990935044,3.7466202858178171E-2,-0.14262320992747804,-1.3057670471757106E-4,2.3117435708710828E-2,9.6950453514969837E-4,-3.9943996498825317E-2,-9.501699798410769E-2,-0.13644422102699769,-0.10307121887169338,-1.8188490825900464E-2,-8.75054790862696E-2,5.0997231073356434E-3,-0.1391617018485416,-3.8816397486034687E-2,0.18351173400126289,-6.2177208179535946E-2,1.9212318751129821E-2,7.7582649169143245E-2,-0.10445083806823394,-8.8960490615938581E-2,-1.7559892662838025E-2]
[null,1986,0.13645569088353351,0.20362277477087298,7.0974922994804013E-2,0.24547762628800435,0.14799681425288003,0.51162283195275093,0.33835127746127297,0.65147215890919485,0.12378900009333026,0.12587971106229076,0.17542993908503066,0.17527785604998034,0.17575345027780528,0.17542993908503066,6.7708333333333329E-2,6.7641666666666683E-2,6.4624999999999988E-2,7.0641666666666658E-2,7.3108333333333345E-2,7.5533333333333313E-2,7.6824999999999977E-2,7.85E-2,7.7983333333333349E-2,5.9783333333333327E-2,6.0299999999999986E-2,6.5183333333333343E-2,6.5075000000000008E-2,9.0208333333333321E-2,0.10390833333333331,null,7.3183333333333336E-2,0.10177833333333335,-0.20771784477765687,6.8049999999999999E-2,1.0919125775314564E-2,-3.8371652857589901E-2,0.1735881005075961,-2.3969860123816938E-2,-1.8493051415790329E-2,4.714274462098255E-2,4.0494909234405456E-2,-7.6141240097641102E-2,-2.1276791981161287E-2,-4.6355679256065319E-2,9.0831282853809217E-2,-3.5000441784045055E-3,1.3649727962021232E-3,-5.2912918683670124E-2,-3.956934453134496E-2,-6.7777159585747287E-2,-0.11162686793051017,-3.6065451460228763E-2,3.3489018742377294E-2,-0.11372273993633358,-5.6233170949815413E-2,-5.0477414824750412E-2,-0.15860780344409278,-3.8967452381751505E-2,1.8341048689623839E-2,0.10710953627704219,-2.8061620035973317E-2,1.8340561040291872E-2,-5.0793568406163503E-2,5.2704688674583153E-2,-2.9154123239475693E-2,-3.1866279431429646E-2,-9.86834202144082E-3,-5.6361877406036487E-2,3.1912987670433525E-2,-5.161458933747607E-2,2.8343682281396733E-3,-1.4334672967551134E-2,3.1449661047809191E-2,-9.1889616426033882E-2,-2.9892569410169403E-2,8.9131224515189164E-2,7.5295777800325888E-3,4.0816759338924945E-2,-5.7058955619298794E-2,-4.7578156014684569E-2]
[null,1987,2.0072211955288202E-2,2.2322821156253853E-2,-5.4068813897050698E-2,-7.9849403752681666E-2,2.2668799812712893E-2,0.20851413858411008,1.4160956638706028E-2,0.32822773062050986,1.3058199316093482E-2,6.0774513186696863E-3,-0.11281665391448972,-3.7077292071575604E-2,-0.1703955315466745,-0.11281665391448972,7.2239583333333329E-2,7.1149999999999991E-2,6.7641666666666669E-2,7.6683333333333326E-2,7.934999999999999E-2,8.2175000000000012E-2,8.3841666666666634E-2,8.6202908465374234E-2,8.5800000000000001E-2,5.7749999999999996E-2,6.0299999999999999E-2,6.8608333333333327E-2,6.9975000000000009E-2,9.3758333333333346E-2,0.10575833333333334,null,7.6391666666666677E-2,0.10194416666666667,3.1275725929508842E-2,6.6574999999999995E-2,4.3388833116191738E-2,4.4146452351473901E-2,0.21935503345220486,6.7394510862476085E-3,1.9489914182798277E-2,1.7523951154254314E-2,0.20460621806073426,-6.7743551775580968E-3,-5.6429746651198397E-2,0.14011922886786302,2.9561444572727361E-2,7.8694145314670991E-2,7.645860903880429E-2,-2.8996264226451417E-2,-8.6292998067887851E-3,-2.7605361127804207E-2,-1.1039507868515057E-2,2.8723225495270802E-2,-1.6342849262525445E-2,-0.18557003915743595,1.3702426017598253E-2,-5.8981462707253268E-2,-8.4226374521942787E-2,-6.8420280968340769E-2,5.7458005324354114E-3,-1.4005188089438219E-2,7.0968383231715115E-2,0.246089155266667,3.9765827509142107E-2,0.16358068101202533,2.7257574065305431E-2,-1.664071718089314E-2,1.6177439242106732E-2,-1.009162546092598E-2,4.8945667786304457E-2,0.16983083468966223,-5.7207963611209514E-2,-4.172287313551535E-2,3.4045383926049229E-2,-2.3121086414854899E-2,-1.4728551983571741E-2,8.0721621300688905E-3,3.9523056838821641E-3,5.9310162319641015E-2,-1.5835925653053237E-2,6.2325328583077183E-2]
[null,1988,0.11690124105737434,0.1120125730668607,0.14328036979297198,0.14506089683469101,0.16492981408208537,0.2363505604636309,0.11987115117862775,0.29417682167120729,0.11172527478378329,0.11005719748123612,0.10755681110795254,0.12650425963570852,7.0488694545709399E-2,0.10755681110795254,8.0442708333333335E-2,7.9041666666666649E-2,7.6524999999999996E-2,8.2566666666666663E-2,8.4716666666666662E-2,8.7083333333333318E-2,8.8458333333333347E-2,9.0218962375157308E-2,8.9591666666666667E-2,6.6675000000000012E-2,6.9133333333333324E-2,7.7274999999999996E-2,7.9025000000000012E-2,9.7100000000000006E-2,0.10829999999999998,null,7.6799999999999993E-2,0.10334249999999999,0.11528493839382906,7.5683333333333325E-2,4.3245398856710353E-2,4.5035752909877103E-2,-0.16552476697544843,0.11872841377510999,0.11245470737053477,5.8852781878630751E-2,6.1579255693724778E-2,0.12038795712810801,6.0421952490287062E-2,0.12997419813234451,7.9025703426846228E-2,0.14881189609366338,7.5409561785743262E-2,0.14578915989427799,0.15498303271523794,0.14903892626066845,0.28444742015119984,0.21219347413161899,6.9628105735380905E-2,7.0452475615446028E-2,0.14372192880872259,7.7405663298363625E-2,0.25830602084854387,7.637335748336288E-2,0.13854196863934645,0.15021495430086343,0.2427285144918328,6.8401135639739152E-2,0.21919927635279488,5.7336831773623795E-2,2.6916963696168805E-2,0.12621067729888102,0.14119819474792811,7.8464353832654141E-2,9.3518948290743337E-2,4.0562101183307296E-2,0.13034401469060006,0.19287748363278764,0.1066412410904214,5.4547251751038174E-2,-1.766048604641858E-2,6.5190753006523272E-2,7.6172728553358424E-2,0.10490420908323364,0.11571029087116419,2.1818723739162126E-2]
[null,1989,0.24098714800052315,0.23868207348612752,0.1761054828768025,8.5479175116777023E-2,0.25649914501509302,8.8197179103121179E-2,0.22634848622795065,1.9279912618803716E-2,0.23489972801084186,0.2383494925564725,-1.830215167769959E-2,8.4729129091344127E-2,-0.17321442898536638,-1.830215167769959E-2,9.2552499999999996E-2,9.2508333333333331E-2,8.5349999999999981E-2,8.5574999999999998E-2,8.5041666666666668E-2,8.5208333333333344E-2,8.4983333333333327E-2,8.4836406508731518E-2,8.4491666666666687E-2,8.111666666666667E-2,8.0308333333333315E-2,9.0850000000000014E-2,9.0808333333333366E-2,9.2575000000000005E-2,0.101775,null,7.2300000000000003E-2,0.10323166666666667,0.11676425442837654,9.2166666666666675E-2,4.5425490040164246E-2,3.6039936483196873E-2,-2.880832219150592E-2,0.12478921239446901,0.12536706365708436,9.6402313381301452E-2,0.12535241421295068,0.12050715413518437,0.15290383087354859,0.15107394818149872,0.17951755883088052,8.3896895310621389E-2,0.15781418589242532,0.14794801928785997,0.15670894477778044,0.13595314713906495,0.2329078376834551,0.15600645777979777,7.2897248877882709E-2,8.1027929629753248E-2,0.1385959014877329,3.9040225291604364E-2,0.13740474915535161,9.2882585024401831E-2,0.14939591989843035,0.15140407243350329,0.22427246684293939,0.25005627547035381,8.7885331508749484E-2,8.0057685471737014E-2,0.10503747363107206,6.8771696627684648E-2,0.1307718347097222,0.14682562550103229,8.3716346343441647E-2,0.23942543719379364,0.16706211962011455,7.5963381237084959E-2,7.1735113582490267E-2,3.1746886116168674E-2,4.3537190445329943E-2,0.18983210388887831,0.14800988577424934,0.10276752198600303,8.0913394949248832E-2,5.2020499755334092E-2]
[null,1990,-6.7841460881909427E-2,-4.437416992393637E-2,-0.19607383789111257,3.3006139304816828E-2,-6.4236907502348575E-2,-0.28376429618894905,-6.6783018271306199E-2,-0.43009226334052558,-6.6011344680684744E-2,-5.7558456926846108E-2,-0.19049567780548024,-0.16666553788031885,-0.20294812888765795,-0.19049567780548024,8.2880000000000023E-2,8.2475000000000007E-2,7.8825000000000006E-2,8.2541666666666666E-2,8.3699999999999997E-2,8.5166666666666654E-2,8.5499999999999993E-2,8.6630372732278638E-2,8.6083333333333331E-2,7.4933333333333338E-2,7.453333333333334E-2,8.1475000000000006E-2,8.1708333333333341E-2,9.3216666666666656E-2,0.10354999999999999,null,7.2741666666666663E-2,0.10128833333333331,5.9565379402227552E-2,8.099166666666667E-2,5.9270904723254414E-2,4.9211482903281714E-2,-3.1603037784280398E-2,9.4940448358691226E-2,8.617338419166827E-2,9.1587750369958865E-2,9.4795393830567232E-2,5.8982034408743285E-2,0.11662571409801308,0.13681547444005734,0.10931823421179712,0.12792450607249697,7.6274173534924786E-2,0.20831443873431771,6.6908534260765845E-2,6.3234956396984746E-2,7.5249808351289929E-2,0.15822267744718471,0.11413172006893452,1.7054643327701687E-2,2.6446721207564548E-2,4.3388022773739168E-2,0.15037759631117056,7.7921120682226314E-2,0.10617904431558799,0.26643856387291048,0.12946691864849497,0.11292153578240033,5.2599059750804249E-2,-1.204962223746461E-2,1.3588772122567181E-2,7.4090619473411279E-2,2.8335131630272941E-2,3.2913837755468078E-2,0.16278478299170027,7.5135956160934988E-3,4.6930841959971104E-2,0.14401264837529071,6.2488781049565574E-2,3.8767757497171138E-2,-1.9223661448610135E-2,0.21161469629398505,0.1823393638253224,-6.3940353048976328E-2,6.5962849692322596E-3,0.13516663213476235]
[null,1991,0.23354292684587502,0.18496326570743432,0.45007192770928461,0.18715977048160223,0.29459419614025006,9.7004833991663167E-2,9.5008173741014723E-2,9.8161966613798543E-2,0.2291876437847026,0.24032602690865304,0.3051221698579869,0.30524835303270564,0.27637225016466949,0.3051221698579869,5.8310833333333333E-2,5.9491666666666665E-2,5.8583333333333334E-2,6.8125000000000005E-2,7.3700000000000002E-2,7.6749999999999999E-2,7.8583333333333338E-2,8.1066226986729634E-2,8.1358333333333324E-2,5.3749999999999999E-2,5.4408333333333336E-2,5.8349999999999999E-2,5.9099999999999993E-2,8.7691666666666668E-2,9.8016666666666682E-2,null,6.9200000000000012E-2,9.2477500000000018E-2,-0.21779352041750596,5.6875000000000009E-2,3.0182637105128102E-2,-2.3871551269916337E-2,-8.9462474139482689E-2,8.8266536735615131E-2,9.193676153851818E-2,5.8957106436819343E-3,0.21115622286010435,0.12610331098532995,0.13720563493509111,0.28776911134516042,9.7198853364049223E-3,5.1810257689106659E-2,4.3591065713427357E-2,9.029742833275925E-2,9.4726317202662072E-2,8.7007123679824841E-2,0.12249220729671784,0.1057283929181006,2.4617988951986632E-2,5.1427186821208615E-2,-4.781453149012381E-2,0.10442553958262712,0.15045065091576634,9.6735940588622171E-2,0.11068218262117409,0.108356940865175,8.8749942007514654E-2,0.15610765598307744,0.18799001903951065,9.9990164971162615E-2,4.10936424397286E-2,0.11795929067686037,8.5221188291238564E-2,5.8713370032458717E-2,0.12305531179836625,1.4785858472511636E-2,0.12215663063356176,8.7076164631856134E-2,6.3290186664165651E-2,4.8416531826261607E-2,9.3386512265011157E-2,-8.5229282102604206E-2,0.16371865716801237,8.6222403714702536E-2,0.11836515757372937,0.12595324919731243,0.10330470736505881,6.2087008809023736E-2,8.8786651308639275E-2,0.14197470615653329,7.0989264859725676E-2,4.7441695116910543E-2,0.12648597861636479,"",4.9576901073300483E-3,6.2920023013681048E-2,"",6.5055216877359046E-2,9.6919740216065753E-2,"",""]
[null,1992,4.3674858582634285E-2,4.0902778936985087E-2,0.14369758883966463,6.7187832417350032E-2,8.6037557668505307E-2,-0.14951429432281374,-7.6340413096865276E-2,-0.21468224948887282,2.9234274308327486E-2,4.0800467418401876E-2,0.11489360068768195,0.13618700536460601,1.9002019477990382E-2,0.11489360068768195,3.7019999999999997E-2,3.7691666666666665E-2,3.8891666666666665E-2,5.3066666666666665E-2,6.1883333333333332E-2,6.630833333333333E-2,7.010000000000001E-2,7.4913949869092999E-2,7.6666666666666675E-2,3.4316666666666669E-2,3.5466666666666667E-2,3.6816666666666664E-2,3.7641666666666664E-2,8.1399999999999986E-2,8.9766666666666689E-2,null,6.4416666666666664E-2,8.3990416666666651E-2,2.2854625358335514E-2,3.5216666666666667E-2,2.8593799366740807E-2,1.4561285118820376E-2,-5.9050751273952054E-2,7.6788203949247305E-2,7.7965736338554498E-2,0.11454673963602528,0.16899563380677873,3.0869669222982451E-2,7.3732944988566751E-2,4.9140793389444618E-2,-3.637020499856828E-2,-1.2469781020643233E-2,-3.2732466001243757E-2,0.15631354142249979,0.10802119694582614,8.1115818494012115E-2,9.1898893345424712E-2,0.13255350017892678,7.4486055829910941E-2,6.1135101095960376E-2,7.3926605719445385E-2,4.456340001946333E-2,6.4724119574984931E-2,4.5462277673702062E-2,8.8052127044509793E-2,0.14214694821638654,0.10423776439329317,5.8310932959718384E-2,7.5063209226857747E-2,6.174162287707443E-2,7.431186061064475E-2,1.5140163332900644E-2,9.9330019796751476E-2,9.0649902474552735E-2,0.14440746121537346,7.9698823822328152E-2,5.5536879754312284E-2,3.8331366922474637E-2,6.5343562472051933E-2,5.2122001431059405E-2,0.10811977753289415,0.11999557834667213,0.12279894486689037,0.219571971882915,7.55525737571065E-2,1.6217857620466992E-2,6.6491926528451373E-2,5.3120744757814364E-2,6.3392570085889721E-2,6.64434195221415E-2,7.6226355060710294E-2,4.3583496664587384E-2,6.58823524225296E-2,"",7.4240227680079318E-2,3.7844582882742284E-2,"",7.2790992158898282E-2,6.7321148255446328E-2,0.35034967332799982,""]
[null,1993,6.8173948974774176E-2,0.1285928297995009,0.13758550203599507,9.9013595158171652E-2,0.10700796248842503,0.26615278100791184,0.23396421227708103,0.2954271677081925,7.2057705699562519E-2,6.7814529858053668E-2,0.17014066035474434,0.17943848594327663,0.13583160955107629,0.17014066035474434,3.2331666666666661E-2,3.2433333333333335E-2,3.4341666666666659E-2,4.4433333333333332E-2,5.1475E-2,5.5449999999999992E-2,5.8733333333333325E-2,6.2833333333333338E-2,6.5983333333333338E-2,2.9975000000000002E-2,3.1224999999999999E-2,3.1741666666666668E-2,3.2799999999999996E-2,7.2191666666666696E-2,7.9299999999999995E-2,null,5.5975000000000004E-2,7.3265833333333349E-2,-0.10143352437406855,3.0225000000000005E-2,2.7113235408560886E-2,8.4674510990985965E-3,0.1627817366551508,0.10288514052520784,9.9440754995751543E-2,0.1011889017094017,0.12064236796783973,0.13957277527080894,6.2884480325836448E-2,0.19655084467587353,0.12231414307718184,2.705905838993497E-2,0.13423410780301057,0.10314358151230388,6.1953626731731937E-2,0.10653308209080603,0.12396623435525635,0.11997299082632788,0.13271700424320473,9.9682884628488941E-2,0.16579111471817221,4.5884509134691651E-2,8.9730816024933574E-2,8.7710959374495051E-2,0.13097297521826223,0.18476621281071517,0.10043999911856223,3.4223630986448123E-2,-1.9524871654799419E-2,0.10363031649424126,0.1041342905658619,0.12869086848143205,8.0406986503044897E-2,0.10634525363165033,0.21050643004710107,1.1453096287841625E-3,8.8678492377927912E-3,2.1942640659597119E-2,0.13382718326862564,9.9392739057397886E-2,0.13699458634228295,1.3527183890133567E-2,0.12727556532969075,2.9299047536538558E-2,0.11253468500444462,0.18613858980770581,7.8511591350095333E-2,0.10744976288290187,8.494684638325567E-2,8.3069149327405611E-2,7.9637363050295562E-2,6.8547069553986262E-2,7.6887287174657315E-2,"",0.12947247103806059,9.4968664903533284E-2,7.3961158756317591E-2,0.17738073921207853,8.3310980715731064E-2,0.22364725117048967,""]
[null,1994,-1.5512560994870606E-2,2.1164392801228678E-2,-3.2499785931354358E-2,-4.2719771565846512E-2,-7.4101522471921918E-4,6.0531887211366563E-2,1.1838447140646152E-3,0.1119269304816657,-1.1047008336217808E-2,-8.5888965376950382E-3,8.0231569679994896E-3,3.1214861896355563E-2,-0.2784222882548314,8.0231569679994896E-3,4.5639166666666668E-2,4.6783333333333336E-2,5.3099999999999994E-2,6.2641666666666665E-2,6.6833333333333342E-2,6.9016666666666671E-2,7.0799999999999988E-2,7.4866666666666651E-2,7.3700000000000002E-2,4.2466666666666673E-2,4.6324999999999991E-2,4.6291666666666662E-2,4.9558333333333336E-2,7.9625000000000015E-2,8.622500000000001E-2,null,6.1800000000000008E-2,8.3548333333333336E-2,0.10005143055868594,4.2016666666666674E-2,2.6397471851024725E-2,2.744454992360083E-2,-2.1936363484206651E-2,0.11866029094636885,0.15473241065273224,0.15507799976426223,1.6080779555031766,0.11040357710675457,4.2460691213550714E-2,0.23990422433605829,6.8339899502870616E-2,2.8728603969149689E-2,4.8664720796350702E-2,0.25511402188504262,0.13097686892951296,0.12623503018899207,0.12410862476711607,0.20357476497416971,0.10173913390818164,7.8498052616108149E-2,6.3896348361853844E-2,9.6364983657442616E-2,6.012286026475841E-2,0.13454503066688556,0.13833339993339983,0.2382658220173666,0.17413109381904451,3.2654881493219805E-3,9.1471285196982444E-2,3.8686341861962278E-2,4.4017881304529327E-2,0.12625621337685997,0.10713102622249347,0.12146268122083917,0.24207678381937772,5.3316510687113419E-2,7.6920855607781766E-2,0.11593523706586346,3.536078394270762E-2,9.9012537885061397E-2,0.42962866026775243,-7.4753418395815743E-3,0.25034666020840235,5.0566623235748578E-2,8.3752489714028155E-2,null,0.1010550943540427,6.844583871901766E-2,9.3484464720394733E-2,0.13404104594578081,8.0814324511223168E-2,0.12899067813715814,0.11239932847895284,9.4149386494969178E-2,6.5838896503813693E-2,7.0193706808499678E-2,0.14346403597302615,6.9537172166777905E-2,9.7661192514165274E-2,0.15449222838303189,1.1436782997788322E-2]
[null,1995,0.29349504830068318,0.28857490346951542,0.33588882876172554,0.28413291278530056,0.31040199439527533,9.0026662132340063E-2,0.1728904050283841,1.7435200125783291E-2,0.29005958361185946,0.29816007503973796,0.16812962469573212,0.14207997870964587,0.4911393893583888,0.16812962469573212,5.9899999999999995E-2,5.9683333333333331E-2,5.9483333333333333E-2,6.2633333333333346E-2,6.3908333333333345E-2,6.5033333333333332E-2,6.5799999999999997E-2,6.9608333333333328E-2,6.8841666666666662E-2,5.489999999999999E-2,5.565833333333333E-2,5.9166666666666673E-2,5.9808333333333324E-2,7.5899999999999995E-2,8.2008333333333322E-2,null,5.9533333333333334E-2,7.952833333333334E-2,0.11849582033957072,5.8366666666666657E-2,2.506727560166927E-2,3.0697079108975883E-2,9.737175277858244E-3,0.10028462196111773,9.2861506382608233E-2,0.15568378306878308,6.1496970595027081E-2,9.699501832503718E-2,2.5558078242230265E-2,0.11615080836052467,5.989593291280669E-2,3.4202102273533562E-2,0.12366506668920146,0.1127733025572948,0.1336310556502856,0.12574955224004941,0.11430213128012148,8.7950931381317016E-2,0.13110305664160407,0.10837682411674354,2.6817528003461395E-2,0.1231558283307712,0.1001260124365306,9.5562801359055677E-2,0.10073629802484668,0.11648127913800288,8.5449325915154584E-2,6.4197908228038969E-3,null,2.3769223446234979E-2,0.10237616079688114,0.12773322611228907,0.15172801886354853,7.4572446672816234E-2,0.17658822162946533,2.9003932730080603E-2,0.13570828119372258,8.2395211025178022E-2,9.6274558559660786E-2,3.6801001461681061E-2,4.338904311506326E-2,9.9355015477794101E-2,0.11912541566711952,7.8763299523068486E-2,0.10173221428193016,null,0.10226830718057345,7.8073340636304778E-2,9.6574650218259617E-2,0.14028820763406857,7.4616947222487573E-2,5.0632673232425152E-2,0.10684630837183473,7.1650652639392076E-2,8.663536260840532E-2,7.7750462224946748E-2,9.2357618971270483E-2,0.10734730891036071,9.9672552260819058E-2,0.1384090796377373,1.0088406538097124E-2]
[null,1996,0.1845163658185163,0.23122865784381452,0.20462366856931763,0.19194077349921659,0.19268434382950131,4.3036108575351797E-2,0.16973328238127397,-9.9103605385270896E-2,0.19560657902896633,0.19355349589528506,0.30567093380749599,0.30207795509061663,0.41120713446289575,0.30567093380749599,5.4470833333333343E-2,5.4400000000000004E-2,5.5125E-2,5.9899999999999995E-2,6.1766666666666664E-2,6.3391666666666679E-2,6.438333333333332E-2,6.8225000000000008E-2,6.700833333333335E-2,5.0058333333333344E-2,5.0808333333333337E-2,5.3900000000000003E-2,5.4649999999999997E-2,7.3700000000000002E-2,8.0541666666666678E-2,null,5.7575000000000001E-2,7.804291666666667E-2,5.6180594953502382E-2,5.2983333333333327E-2,3.2684742173495825E-2,2.6689182256394977E-2,-4.6950771618292635E-2,8.79870457255921E-2,8.0981230596036805E-2,7.9045789262284158E-2,7.2927037869175731E-2,6.460078990396674E-2,0.10183110370124189,0.10379496632399854,6.6652578047279032E-2,2.8812721038249063E-2,0.10723701742601797,0.10741593166192094,8.8853485784083031E-2,0.12037006078045108,0.13325964294739154,5.8380510479629992E-2,8.0896923076923116E-2,0.12126576898688854,1.4305358495162582E-2,9.2336526107988592E-2,0.14298446566942696,7.1043990390945597E-2,0.11397070672100575,6.9175379430785167E-2,8.3349406057133119E-2,1.3274444707460399E-2,null,-4.2146538102420458E-3,0.1024276893802254,9.8008024713625241E-2,7.0522418494122704E-2,1.6193071423340595E-2,0.14695389886302618,3.6262983405309736E-2,3.3631702060394245E-2,5.3266135854460918E-2,0.16592166372679629,4.585792047458704E-2,5.671062186498671E-2,8.6100751892823971E-2,0.11604426464140871,8.5180786982029286E-2,0.11361610840912996,null,0.1041539427852658,7.9064267880318395E-2,9.8028887544981957E-2,0.13841757291715751,8.4206980009901455E-2,6.8792121777669024E-2,0.10818478642824347,0.11897328488262726,7.9949045786036343E-2,7.9650347842221247E-2,8.1379683180051732E-2,9.4381070825095836E-2,9.9679676899002256E-2,0.10732754597667471,1.0109543214778699E-2]
[null,1997,0.27008958570724206,0.20409631067926537,0.19585817505666975,0.21466865076999236,0.27221115239520099,2.3757782999004715E-3,0.19537555772000303,-0.30520199889442284,0.26688381846422543,0.27558712833945198,0.1727837401458486,0.18448747058302817,3.7519460298543909E-2,0.1727837401458486,5.6689166666666672E-2,5.660833333333333E-2,5.6299999999999996E-2,6.1016666666666677E-2,6.2225000000000003E-2,6.3241666666666668E-2,6.3524999999999998E-2,6.6841666666666674E-2,6.605833333333333E-2,5.0608333333333338E-2,5.1766666666666669E-2,5.6158333333333345E-2,5.7241666666666663E-2,7.2616666666666677E-2,7.8625000000000014E-2,5.515833333333333E-2,5.522500000000001E-2,7.5957916666666667E-2,-0.20352402990430266,5.4600000000000003E-2,1.6880675930415711E-2,-1.7976255849471299E-2,-0.24090358096140177,7.4422556635962187E-2,6.9688272313729885E-2,5.7428413268716554E-2,7.4316650107977458E-2,9.6322252757766236E-2,6.2562601297720996E-2,8.8301566072588572E-2,3.1232141117229995E-2,3.3440312238222546E-2,7.9677849278386892E-2,0.10287007157976825,8.6319949116637526E-2,0.11908524321484712,0.16010073018470708,4.6385173218304564E-2,8.1780270142860156E-2,3.6892356811149586E-2,2.5170730254874568E-2,0.10519939154787943,0.11542881988284864,0.10439852241542537,9.7811138027643948E-2,3.2549316876538469E-2,4.7682865707199699E-2,-6.9537537057925199E-4,null,3.7934045823457864E-3,6.979474132138852E-2,8.9953463342199697E-2,6.8502306914434749E-2,5.8292960205948818E-2,8.252656814449924E-2,1.8692751949239458E-2,4.7751399044021176E-2,7.5268052485149228E-2,0.10513897231719309,4.3189461943741209E-2,6.8667972453861872E-2,3.7826292607716153E-2,0.10528012748159087,8.9877290277290259E-2,6.9025865416130969E-2,null,0.10276792532337509,5.2888393290263735E-2,8.7972839273065651E-2,0.13925748431401219,8.8039083866983336E-2,7.8900541842105376E-2,0.11425170722280376,0.10931491806309634,6.2207630738496444E-2,3.4241208342720819E-2,6.1607363834428774E-2,8.9308234028331768E-2,9.3909700273148822E-2,0.18909906533059972,1.0164069118080477E-2]
[null,1998,0.23640396383776424,0.14927012506557916,0.33383057612317901,0.16201815225023197,0.21043078776513166,0.16746632223562458,0.23529286952046238,1.1498693316068776E-2,0.23988815841492675,0.25301031928986834,-0.20853439853536512,-0.19239850498860941,-0.34557207023923903,-0.20853439853536512,5.5508333333333333E-2,5.5E-2,5.0516666666666668E-2,5.1375000000000004E-2,5.1500000000000004E-2,5.2791666666666667E-2,5.2641666666666663E-2,5.7183333333333329E-2,5.5783333333333331E-2,4.7766666666666666E-2,4.8283333333333338E-2,5.4666666666666662E-2,5.4441666666666666E-2,6.5316666666666662E-2,7.2208333333333347E-2,5.3716666666666663E-2,5.0908333333333333E-2,6.9462916666666666E-2,-0.27782307707557435,5.3533333333333329E-2,1.5990500618620819E-2,-3.2054026290083484E-2,-8.3045459968199217E-3,9.1348451013536891E-2,8.3622488394716615E-2,8.4566954352663065E-2,0.10470329012621199,0.13986534923339194,6.5374117867858572E-2,0.11259510396439978,4.8941760096047518E-2,2.8793746134817458E-2,9.1669204421013936E-2,0.12203738490530032,0.1171852340660305,0.14179001992201587,0.11524793222711185,6.9759241669773223E-2,0.11112491717104421,6.514755666579207E-2,2.2252581014760815E-2,0.11924243949003058,0.12011215358510524,0.13027534979232555,9.4019443432188307E-2,5.1405279594663567E-2,0.11301838390632139,-1.3938164529344724E-2,null,3.8990500930521116E-2,5.720867125419845E-2,9.7883288959743298E-2,0.10710123889515791,8.5707190823121074E-2,4.8433401798105555E-2,4.4132055997585379E-2,7.271144106015405E-2,9.8400786713286642E-2,0.12218027520777903,0.10174585349743984,4.9293242467399627E-2,3.6258200354609846E-2,9.601706886477715E-2,5.4162464725538206E-2,9.5862086735007235E-2,null,7.7297904385842386E-2,6.2179695283886449E-2,7.2384927560367407E-2,4.0837804855879511E-2,9.8460196403302946E-2,6.9791084502090595E-2,6.7898262008180721E-2,0.12456022735058525,7.6675590605484567E-2,4.4147104888645483E-2,-5.1974128928962138E-3,8.7077931521753138E-2,7.7280026737828633E-2,5.8772245037695736E-2,1.0008015694885599E-2]
[null,1999,0.17836410941645447,0.22491186373351438,0.61834435133808263,3.4843944736339533E-2,0.21162518675925365,0.22527076393318396,0.13209334109056969,0.44574786424125329,0.1980890405544706,0.18943740417409172,-6.6951510340938644E-2,-4.7301090562876597E-2,-0.4037286312663485,-6.6951510340938644E-2,5.3027500000000005E-2,5.3575000000000012E-2,5.0775000000000008E-2,5.4850000000000003E-2,5.5408333333333323E-2,5.7766666666666661E-2,5.6366666666666669E-2,6.1900000000000004E-2,5.8658333333333319E-2,4.6383333333333339E-2,4.7449999999999999E-2,5.33E-2,5.4575000000000005E-2,7.0416666666666669E-2,7.8708333333333338E-2,5.2158333333333334E-2,5.427499999999999E-2,7.4285000000000004E-2,0.38013830458501907,4.9699999999999994E-2,2.6491615446976285E-2,3.9909526230392359E-2,8.4768261247334178E-3,9.7715321738158153E-2,9.4302104774631024E-2,6.24196296296297E-2,0.11604745611344733,0.12070022975550586,9.3332948346756803E-2,8.1803851115485257E-2,0.10557160141733644,5.9972218154186172E-2,0.10815124978407509,0.1293897926142934,8.2087642354434956E-2,9.2444482994133687E-2,8.6154439920661449E-2,8.648971864591376E-2,0.10701622881633178,9.8410726761937545E-2,4.8549751974673351E-2,0.1565255310579774,0.12024499227360382,0.12455094281114205,0.10948196701963023,0.1020234287196629,0.11502709866931583,4.2057129573134858E-2,null,5.6939134056816554E-2,9.2822923536515944E-2,6.8208547519641186E-2,9.9781037646086521E-2,4.0052528666496293E-2,9.3178073217726476E-2,9.1174789675474252E-2,9.4555321971769399E-2,6.2139062039493147E-2,0.10397951452491275,0.10664743972227085,7.4248821163811013E-2,9.7738537235959849E-2,7.7054795602323561E-2,6.9861708375376377E-2,0.200946792732666,null,6.4044359450454058E-2,7.7242419961208952E-2,6.9505531357993755E-2,1.4025206808498281E-2,8.0808245937193712E-2,3.1843248243203393E-2,4.754011454749274E-2,0.16472901114344984,9.3888419165768067E-2,6.2954555378842647E-2,0.11265266629556292,0.10002054144035277,7.0991682316681626E-2,0.12694563636237111,1.0101644999285887E-2]
[null,2000,-0.10690823119474545,-6.3660424377489741E-2,-0.49904479711447797,6.5233177942523965E-2,-0.11543522307363542,-0.16494427310565363,-0.10157579443236113,-0.30668393134006544,-0.13679693623466868,-0.14567275519707618,0.23024000991244689,0.23400731336517419,0.148079916262533,0.23024000991244689,6.4390833333333342E-2,6.4825000000000008E-2,6.1083333333333337E-2,6.2166666666666676E-2,6.1524999999999996E-2,6.1975000000000009E-2,6.029166666666666E-2,6.2300000000000001E-2,5.9424999999999992E-2,5.8166666666666665E-2,5.8983333333333332E-2,6.4558333333333343E-2,6.5833333333333327E-2,7.6225000000000001E-2,8.3641666666666656E-2,6.3266666666666652E-2,5.7091666666666673E-2,8.0616250000000014E-2,0.23842660008440084,6.2358333333333328E-2,3.3307198017768547E-2,6.3657851771977414E-2,-5.5973525582102709E-2,9.6744900660810998E-2,9.3686895580432944E-2,6.7205612904800219E-2,0.10675894075535604,0.11736464897566894,9.2612896593888133E-2,8.6753049743822516E-2,0.10096460630229109,7.5286129891385181E-2,9.9557652871696337E-2,0.11590808079115161,6.0557731819562019E-2,7.9762048286693449E-2,7.3690717259830646E-2,8.8318343050418913E-2,0.10255238944662061,7.6887405614018814E-2,0.10094618756308889,0.12760360000287405,0.1152922793119365,0.12880598214123265,0.10450577618995487,0.10858961270945164,0.11817087149251074,4.049055931212743E-2,null,7.8417723474058565E-2,0.10800478828304487,8.3179499450226985E-2,8.8560169945474443E-2,3.9700103175935697E-2,0.10337043410315838,8.0652193277030687E-2,7.6224895615634808E-2,8.337774148366256E-2,0.10169094434506964,9.2372913513158794E-2,6.7430842174762501E-2,8.5631285381414929E-2,0.11111422604216342,6.5136074767671984E-2,0.20033996957403641,null,8.5513246698176948E-2,4.6693533002727383E-2,6.979519749648655E-2,5.660585209719371E-2,9.9729516638853877E-2,6.329091534822795E-2,7.8200225700214121E-2,5.3291076927656E-2,8.2593433932112825E-2,1.9243014696101124E-2,-2.5758259363639624E-3,0.11138487201955449,8.4887512723091252E-2,4.4177926188319949E-2,9.2429691640809313E-3]
[null,2001,-0.13975285343533808,-7.3695633116226261E-2,-0.23639417505325025,-0.13730172250991796,-0.11630799341301135,-0.25632655161945134,-0.23864320361785465,-0.30394703665541656,-0.14613218486855542,-0.14187561108073815,0.14411784890348153,0.13043956810206137,0.57291527241851803,0.14411784890348153,3.7191666666666665E-2,3.7266666666666663E-2,3.4808333333333337E-2,4.0808333333333335E-2,4.5508333333333331E-2,4.8766666666666666E-2,5.0175000000000011E-2,5.6308333333333342E-2,5.4933333333333334E-2,3.3883333333333321E-2,3.3341666666666672E-2,3.6866666666666673E-2,3.6408333333333334E-2,7.0824999999999999E-2,7.947499999999999E-2,3.635833333333334E-2,5.1524999999999987E-2,6.9710416666666677E-2,-0.37821938492140722,3.8875E-2,1.5398080111121662E-2,-6.1313184812723451E-2,7.4417259664912713E-3,9.1869354033115469E-2,9.0150354840178554E-2,6.5822510563259884E-2,0.1190592697692701,0.10297305544843322,8.8001868651955986E-2,0.10124274139965092,9.3388403100167744E-2,5.1699006212234402E-2,0.11147573791310453,0.10007138843132436,5.5627410756848371E-2,7.6905307662874595E-2,7.8645849030848924E-2,8.1526253626586595E-2,9.5656283990608881E-2,0.10348363954597331,6.5153675856307464E-2,0.11086172075445523,0.11080467790269943,0.11360018132711643,9.200454373956965E-2,0.10529293232304172,9.9843138404927978E-2,6.4774845567657557E-2,null,7.4251691217947904E-2,0.10834694649658766,8.3301878680428071E-2,8.4485522983155592E-2,3.9335241181830252E-2,9.9332049733212566E-2,7.5552417776938705E-2,7.3343008401777904E-2,9.3932692862737324E-2,7.1350365030449822E-2,0.10229540831535944,9.8310271184953751E-2,7.9771956491045778E-2,0.10950474335550385,6.2015035827133233E-2,0.17282016724898328,null,6.0816264457168145E-2,-3.50457251676356E-2,2.013451434850122E-2,3.5761137656652897E-2,7.0849841149438264E-2,5.9180355500017878E-2,5.3246028251030086E-2,2.7050545216366295E-2,-7.4661041193894273E-2,-1.0296095483771195E-2,-1.502086900550581E-2,-3.6752969916167277E-2,3.038804872838341E-2,-5.2971894586000268E-2,9.5511336657167559E-3]
[null,2002,-0.26612891976724418,-0.18348013124213911,-0.37872123837275273,-0.22823252694660193,-0.23392685671099137,-0.19257341540446568,-0.22447760832352825,-0.11015862374493446,-0.26943944619981547,-0.27403704714832477,5.084111280478857E-2,3.7496045586108175E-2,0.27060315814762376,5.084111280478857E-2,1.7561666666666663E-2,1.7575E-2,2.0016666666666665E-2,3.0999999999999993E-2,3.8149999999999996E-2,4.3041666666666673E-2,4.6108333333333328E-2,5.4299999999999994E-2,5.4250000000000007E-2,1.6041666666666666E-2,1.675833333333333E-2,1.7258333333333337E-2,1.8058333333333332E-2,6.4916666666666664E-2,7.8016666666666665E-2,1.7008333333333334E-2,5.0375000000000003E-2,6.536708333333334E-2,0.3293785957867692,1.6666666666666666E-2,2.3491013075598737E-2,3.6785756816511125E-2,0.22769016182380564,8.8949296522050067E-2,8.8030891197223807E-2,5.7059985814002255E-2,0.15214113746681338,9.9867272121842737E-2,8.4949028337890115E-2,9.7322864619327584E-2,0.10086004744240029,5.877755143913773E-2,0.10256082042697712,8.758182977947887E-2,6.8443601797306297E-2,8.2269847516350136E-2,8.8210830037862564E-2,7.9650138510767715E-2,7.6663521478917168E-2,9.1534357886431023E-2,6.2253093370445281E-2,0.10211691456426411,0.11995991368343883,9.809606690347554E-2,9.6497484493823837E-2,9.9651928719004537E-2,9.7899799685956287E-2,6.1588025111517321E-2,null,7.3458434913794474E-2,9.544491411830569E-2,8.332733268926476E-2,7.5815584701739741E-2,5.4139899744167719E-2,9.9323983515641728E-2,8.796290257006667E-2,6.934363884367277E-2,9.0020477302520469E-2,6.8566542697762731E-2,8.7972579983930946E-2,8.1633812299012162E-2,7.3951442469570944E-2,0.14022154754234173,5.900751345226575E-2,0.12705808864023951,null,7.2507014235102529E-2,6.2651023700690311E-2,6.8631552975656485E-2,8.7870620204049343E-2,6.5314699752539784E-2,4.8060065698457999E-2,7.2577014411014273E-2,9.5821771794738053E-2,3.0837473236236868E-2,6.9457016847179087E-2,2.6815110411451348E-2,8.8103309870539714E-2,6.4993280019145949E-2,1.88217705797602E-2,9.3606566879697976E-3]
[null,2003,0.23412618868107046,0.22571838676915318,0.40551752116801332,0.29689096651551977,0.27512134746826217,0.3021959792073351,0.29855137080617289,0.31003161783600081,0.24508206913716768,0.23729026615472701,0.32545711109477432,0.31578622949971968,0.45355499906219354,0.32545711109477432,1.2030333333333336E-2,1.1708333333333331E-2,1.2441666666666669E-2,2.1066666666666668E-2,2.9683333333333336E-2,3.5225000000000006E-2,4.0149999999999998E-2,4.9575000000000008E-2,5.42740905471817E-2,1.0108333333333332E-2,1.0541666666666664E-2,1.1508333333333332E-2,1.1674999999999998E-2,5.6666666666666671E-2,6.765833333333332E-2,1.1283333333333334E-2,4.7483333333333343E-2,5.8195416666666666E-2,0.10253279187836099,1.1275E-2,1.8620472274528281E-2,4.8467635542220604E-2,0.18138505850845857,8.6216413500652858E-2,8.4322743695951705E-2,5.4200661021984647E-2,0.10369989148123952,0.10506678535707133,8.1309418231415562E-2,9.5719552482050885E-2,9.3115049471181613E-2,7.8219727810131395E-2,9.4642537948018718E-2,8.5009864733037802E-2,7.5328116857345043E-2,7.9778343316827496E-2,9.7373473419860329E-2,8.0843904371894162E-2,6.8346456363813216E-2,8.8478902953586569E-2,4.6574204585331708E-2,0.10204750286549055,0.11474245447177725,0.10260683312303223,9.9106129971993459E-2,9.5680324411667586E-2,8.6797435271704068E-2,5.7654701119317371E-2,null,7.0345335609149101E-2,8.3285308275932432E-2,9.1691270452654683E-2,7.5016559532857935E-2,5.2552888196134837E-2,9.7377464800883828E-2,6.5863852089939057E-2,9.2124280137259776E-2,9.7148888386938345E-2,6.6128196114708576E-2,6.9436699670710617E-2,7.2836267889398815E-2,7.6682244205543496E-2,0.13543711877264442,6.3657377437496124E-2,9.266098093009105E-2,null,8.7073645691690293E-2,0.10604738600280639,9.6822545457439402E-2,0.10705717902212464,8.3148304388961813E-2,1.5792873254687922E-2,9.3269211843340916E-2,7.8407765668450979E-2,9.063726712494069E-2,0.10683902178431492,-1.2583280461090696E-2,9.3108132374372099E-2,8.7784119020342111E-2,7.6748096685564926E-2,9.2383670943716589E-3]
[null,2004,8.6117628073565614E-2,3.0994719596933645E-2,8.2400180391438205E-2,7.8947518033661568E-2,0.11886587279521535,0.16204394532165037,0.16424292236655,0.15860042775947319,8.9465731747476171E-2,8.4362178520455647E-2,0.26550935803678327,0.27442581799320231,0.16917750804674445,0.26550935803678327,1.5436083333333333E-2,1.5800000000000002E-2,1.8866666666666667E-2,2.7799999999999998E-2,3.4291666666666672E-2,3.8683333333333333E-2,4.2741666666666671E-2,5.0466666666666667E-2,4.9981564051324728E-2,1.3716666666666669E-2,1.575E-2,1.5633333333333336E-2,1.7358333333333337E-2,5.6283333333333331E-2,6.3933333333333342E-2,1.5191666666666668E-2,4.6775000000000011E-2,5.8384999999999999E-2,0.1753308780787734,1.3491666666666664E-2,3.2036909626326174E-2,7.3903138068613872E-2,4.5438349764151793E-2,9.1613524468455151E-2,0.10877891481851122,6.8126758846983465E-2,9.896045468233583E-2,0.16388955134067423,7.7937913530168282E-2,0.10189593429577454,0.53370159028125885,1.8514740019176006E-2,8.0659056330730144E-2,9.2515410515410512E-2,9.433756394447565E-2,0.10348561833939002,0.14157578530336148,7.3751150935109588E-2,7.1486461613363098E-2,8.1441155913978602E-2,0.35654753992644383,9.9757936811253264E-2,0.16277723924867413,9.2982599994687082E-2,9.527855826450457E-2,7.0041039053925627E-2,0.1116374191859002,0.18598027562822569,null,5.6389198566793371E-2,6.2049272677143594E-2,0.14775769820177015,8.3640558205110974E-2,7.9942094018281215E-2,0.10816507055652454,3.0501097935880617E-2,5.6127258111804877E-2,9.331410607033859E-2,5.3553739188373285E-2,6.3434985754985698E-2,-3.1675291340009307E-3,0.15711994154292538,9.7347575481927739E-2,8.2595305435305411E-2,9.6325551302969409E-2,null,0.17364476621476155,0.23510595672969248,0.20495172553929319,0.21566151687500357,0.12487268145682595,0.10911454116799857,0.16801615297687889,0.2062327777621582,0.28011765462072802,0.22731779562396581,0.29344254608656795,0.26199385282700405,0.18665562626188503,0.11305482965809999,9.7309058539982122E-3]
[null,2005,2.9568735880032684E-2,-6.0938277952099018E-3,1.3641680154220783E-2,0.13401097899906469,6.1105506653785738E-2,0.1031389509098551,6.3365348752055684E-2,0.18719566092762652,4.8756962394909793E-2,3.7285332840058361E-2,7.9625648727419659E-2,0.11478151325192043,-0.26380437918488908,7.9625648727419659E-2,3.4587333333333331E-2,3.5299999999999991E-2,3.6183333333333338E-2,3.925E-2,4.0458333333333332E-2,4.1516666666666667E-2,4.2900000000000001E-2,4.6458333333333331E-2,4.2200315328826676E-2,3.1466666666666671E-2,3.3925000000000004E-2,3.5116666666666671E-2,3.7233333333333334E-2,5.2350000000000001E-2,6.0641666666666677E-2,3.4391666666666668E-2,4.3975E-2,5.8648750000000006E-2,0.32968995160895415,3.2133333333333333E-2,3.3586210316049248E-2,8.1782461476728088E-2,0.16355145411196409,0.2073905269805715,0.22021444431042839,0.12549951609036974,0.48865887665690994,0.17744715209885245,0.35187145595942138,0.24065790037795443,0.39978978512053087,0.65343368604049401,0.36588494050609638,0.30286866454601263,0.28797189333324458,0.12197965019320717,0.24058173868703756,0.20106080067971421,0.26406076361280456,0.13829055257475617,0.34453747264601625,7.461862945595886E-2,0.19021993723724778,0.16810440606419441,0.15559639812052034,0.2379832815551963,0.18116595675428041,0.15546388514020096,null,8.6790437959305147E-2,0.18702110467187738,0.16881759268985183,9.8982521605490523E-2,0.21686807444948278,0.14660756578317122,0.1273229426773857,0.11832870879090161,0.23356897175644578,0.15151657170332883,0.21487364578458126,0.17222706385924197,0.23283131881925428,0.14231227885197381,0.27286067251461982,0.14968651273877659,null,0.23600068555563314,0.43148220043311558,0.33899027354349154,0.20262560003500996,0.12404087114532669,4.9078987149587361E-2,0.16341315022408209,0.37340817744057109,0.12539830671677077,0.48127983805383101,0.33307404559179754,0.59191257180266699,0.22193124164903733,0.19620392122039987,1.0044472296458372E-2]
[null,2006,0.1276843565704609,0.15089837090726838,9.0946739625117054E-2,0.1324624700326156,0.14740529168772665,0.21083934849319499,0.26407773974620213,9.9249289168561169E-2,0.12526624198844105,0.12384793647695851,0.2952882035704007,0.30055391430329564,0.17667255960741374,0.29281382159986713,5.1300083333333336E-2,5.1650000000000001E-2,4.9324999999999994E-2,4.769166666666666E-2,4.7449999999999999E-2,4.7550000000000002E-2,4.791666666666667E-2,4.9924999999999997E-2,4.8981818181818182E-2,4.7266666666666672E-2,4.8025000000000005E-2,5.1533333333333334E-2,5.2333333333333336E-2,5.5874999999999994E-2,6.4791666666666664E-2,5.0641666666666668E-2,4.4008333333333337E-2,6.4108333333333337E-2,4.4605271733191478E-3,4.9641666666666674E-2,2.5089123301355518E-2,1.5825041144396892E-2,0.20861354897608783,0.14841525905111491,0.15286039288749453,3.9328788113479597E-2,0.34146143129565332,0.12649798200274012,8.4011941319906996E-2,0.18054632427231559,0.22864253393665168,0.10510080348606517,0.22394664929915087,0.37335371990488975,0.14906188474397089,0.11176639476854233,0.1384557382191382,0.11753246804877254,0.11439397363887772,9.0275090879048309E-2,0.124242552123857,0.11268329996985037,0.17145476949447194,0.11848618345505497,0.12493487289556095,0.5334038590399609,0.18491919330342135,0.14954020925287695,null,7.0623518190521706E-2,7.3251849669270272E-2,0.19080039067935248,0.10807001644344129,9.4662120811181652E-2,0.11022700590088159,0.10211886310724679,8.6648012066714325E-2,0.18268339852238161,8.4279786951944297E-2,0.20909014986102378,0.22273550070702502,0.17083568484609638,0.12383971788399516,5.8996793593833009E-2,0.12865184991312065,null,0.14160467133815779,0.27367473726259472,0.21148821687842223,0.10202052813624007,0.22936040157708004,0.14731391933447702,0.14831888081699374,0.13014490333826689,0.29048775726743292,0.27174963486254144,0.39256040165910489,0.27552285977913837,0.16039218675045874,0.1368723849251392,1.0251609371677685E-2]
[null,2007,3.4687160417172881E-2,6.2339127556459768E-2,9.3600284733276237E-2,-1.3989791086459763E-2,5.5812547832640315E-2,8.271191576927249E-2,0.10397027579553875,3.4587393491898558E-2,5.5227517487371251E-2,4.0053608389698771E-2,-0.19639557446480219,-0.17069038135858902,-0.55076266802134077,-0.19640165021723199,5.2498000000000003E-2,5.2808333333333325E-2,4.5216666666666662E-2,4.3375000000000004E-2,4.4250000000000018E-2,4.5041666666666667E-2,4.6291666666666662E-2,4.9083333333333333E-2,4.8341666666666672E-2,4.3533333333333341E-2,4.4299999999999999E-2,5.2683333333333332E-2,5.2266666666666663E-2,5.5558333333333321E-2,6.4825000000000021E-2,5.1299999999999998E-2,4.3958333333333328E-2,6.3404583333333348E-2,0.34149984973504899,5.0191666666666662E-2,4.0001836677190108E-2,7.5573426491239271E-2,0.27704420308297606,0.13973479129675706,0.13130511121917474,6.2659562976705885E-2,8.1444004969335348E-2,0.16027301730044546,0.13436423547864429,0.13161966761941646,3.4401220732721456E-2,6.3783359729098779E-2,0.15517972474432914,0.15645658722786668,0.14900451037279186,0.14681125631125641,0.19299827019931651,0.16759931239273723,5.0645677734314588E-2,0.13168679020827287,1.5977724293600892E-2,0.13161980265599435,0.18660529317227514,0.14846111517965427,0.16915531372966311,0.17824971337378592,0.15366091056736308,8.7236401043635808E-2,null,8.4815309868746483E-2,7.5142822913205148E-2,0.17204852573800067,0.1007095121642133,0.13073420858999818,0.20565070563482277,0.13641785326917777,0.11458436355892508,0.16325247375678117,0.11107127259777261,0.17665887957610368,0.16010814555834421,0.11113615355347053,0.1443784091130543,0.15563415589502538,0.18866307374694688,null,0.17124025790126662,0.15024259312628852,0.15903460497635069,0.18562406308073465,0.15511101992005827,0.17548878872852569,0.16393892694330714,9.5358768295001672E-2,0.15893207247939278,0.15252712279123792,0.2064640938139275,0.1176483748788224,0.16986157122199641,0.18652460240623348,1.0756325512034218E-2]
[null,2008,-0.48589096961924627,-0.41305025658806666,-0.51987631618195529,-0.56329634197715772,-0.46734836879793923,-0.59939386872987555,-0.65775517383121551,-0.4766637862700232,-0.49828269991861451,-0.48737254228243149,-0.46737887011410051,-0.47365246120573795,-0.37555795327224217,-0.4754556674796751,2.6652666666666661E-2,3.203333333333333E-2,1.8225000000000002E-2,2.2358333333333334E-2,2.7983333333333339E-2,3.1699999999999999E-2,3.6666666666666667E-2,4.3624999999999997E-2,4.2791666666666665E-2,1.3650000000000004E-2,1.6183333333333334E-2,2.9650000000000003E-2,3.1358333333333328E-2,5.6316666666666668E-2,7.4466666666666681E-2,2.6391666666666667E-2,4.860833333333333E-2,6.0361250000000012E-2,-0.55855107805015947,1.9274999999999997E-2,9.1371144498648027E-4,-4.4070078320853384E-2,4.227221680221796E-2,0.10183094708331929,9.2245934869606305E-2,5.9478811061830818E-2,0.1261112174447504,0.12232725396351705,0.10467935319561032,4.3300729703442266E-2,-3.1793714522738603E-2,3.8341160686001657E-2,-9.207841556716145E-4,3.9099991905429766E-2,0.16112676497198775,0.15308214227349567,0.20655109668620417,7.9087589581287102E-2,6.1652878276471146E-2,8.7029651908467412E-2,-5.4513376191001744E-2,5.323930236445544E-2,0.13450401255664421,9.4761934106845191E-2,8.8920337849508507E-2,0.11132672512924485,0.21535841211175896,-2.9308308766755768E-2,0.11449118102667309,8.1441660172672237E-2,3.5882187165953865E-2,0.22790548985245956,0.10581439988581245,8.7860583937975315E-2,0.1432188650669585,3.0067322891092325E-2,5.5621160771699749E-2,0.23457311605426878,7.734338500764977E-2,0.13986156177664522,8.276762895317806E-2,2.4275856723250069E-2,0.14223069688313034,9.1828942791761958E-2,7.5167817071817092E-2,0.16828829148007476,0.15726816281084965,0.16046472581931837,0.15836714793033346,0.17653749642322203,0.13972432671049684,0.21963257345772136,0.16358722516211532,0.13650200915627586,5.4448218370602319E-2,0.1907597558552967,-5.219415642558678E-3,0.13036714607671884,0.13357731954927421,9.6831019278994734E-2,1.261130379894005E-2]
[null,2009,0.21069132880745073,0.17243412947737938,0.36386198076821707,0.28131919864861554,0.25777553739519504,0.24488350319220417,0.27185917522796887,0.19184404568907268,0.23335531539539148,0.21674871113295788,0.24253343160917268,0.24678362762175293,0.22017814019833645,0.24530358985955028,3.3421666666666665E-3,9.3749999999999997E-3,4.7083333333333335E-3,1.4266666666666667E-2,2.1908333333333339E-2,2.8058333333333338E-2,3.256666666666666E-2,4.1075000000000007E-2,4.0691666666666668E-2,1.5E-3,2.7916666666666667E-3,5.5583333333333327E-3,8.7500000000000008E-3,5.3133333333333324E-2,7.2958333333333347E-2,4.2166666666666672E-3,4.6208333333333337E-2,5.0413749999999993E-2,0.40748766217587662,1.6000000000000001E-3,2.6849612652751799E-2,4.12666001740708E-2,0.22343094893078772,-1.0117544690649535E-2,-1.7520600378350168E-2,-5.5391189986960226E-3,1.5276424372273147E-2,8.485779208831196E-3,4.591005019280215E-2,-8.0273192566563453E-4,-0.12851905499214991,-5.0601514695151534E-2,-4.7802690845316881E-2,-7.444836930019838E-2,9.0702790423058312E-3,-4.0021679793724764E-3,-4.7295183332337351E-3,2.8773546302986376E-2,9.2812040484165654E-3,-8.6997578366778718E-4,-7.1892767077872274E-2,-4.1512225236012418E-2,-1.6024439011045319E-2,1.0801590778035341E-2,-2.7213041553290438E-2,-0.18980434353422815,4.0799486661848912E-2,-0.10091529401615716,-3.9074663430463751E-2,2.7670785885525843E-2,-4.3579004261564254E-2,4.4765773271038978E-2,-3.1180339299133539E-2,2.2822305522433216E-2,-1.3318812184785592E-2,1.5677232923326685E-3,3.8231056438167836E-3,1.030917988104901E-3,-3.6446319723629508E-2,5.9721008908111871E-3,-1.0521537433583644E-2,-4.4541321991848348E-2,7.3358389451513129E-2,-5.0147340975188873E-2,-2.1655427980931348E-2,-1.2612057502246211E-2,6.647676571245964E-2,6.0500594162824495E-2,6.3246360537620339E-2,5.8435221643388324E-2,9.4785436029175996E-2,5.860226101529542E-2,6.9587598371521064E-2,1.5596016725582418E-2,9.7758653027170128E-2,4.6400601260028207E-2,1.983773445390824E-2,6.4845336953121224E-2,6.9346082056046532E-2,-4.8576017164744245E-2,1.214848098118306E-2]
[null,2010,0.12029045787895962,0.10456513227369264,0.15623676079376786,0.16751911131105277,0.16444103371253488,4.7880911139322663E-2,1.0148589146478591E-2,0.12290437459503321,0.12794863670481327,0.12382016505274331,0.24357482922842852,0.2464456724238232,0.2037277838514811,0.24344665060059878,2.7340000000000003E-3,5.275000000000001E-3,3.1833333333333332E-3,1.1049999999999999E-2,1.9275E-2,2.6166666666666668E-2,3.2141666666666666E-2,4.0300000000000002E-2,4.2508333333333335E-2,1.3666666666666669E-3,1.9416666666666662E-3,3.116666666666666E-3,4.4083333333333327E-3,4.9433333333333322E-2,6.0383333333333331E-2,2.8999999999999998E-3,4.293333333333333E-2,4.6905833333333334E-2,0.1859461796302706,1.7499999999999996E-3,1.484647887032238E-2,6.3098686645352606E-2,0.25651162738374744,5.110627815467228E-2,3.776410525620915E-2,3.8411814707561907E-2,5.2198978948276636E-3,6.735254428410016E-2,3.5978121364033333E-2,2.4623349776838145E-2,-8.1187774510937089E-2,-2.7981729493050601E-2,-4.490483939520315E-2,7.7338595771397674E-3,9.2115473225493003E-2,8.0731303717751279E-2,0.18526991313982211,8.4939708028863692E-2,2.28463461563733E-2,7.8095402843023645E-2,-4.889879869238109E-2,-3.1013283450169314E-2,5.9717833905574114E-2,6.9378796573200049E-2,8.4666394815583482E-2,3.5929285511533002E-2,0.1586266789989256,-5.4019038073064893E-2,5.3757284388494721E-3,4.2187793427230034E-3,-9.3161384121052716E-3,0.11655590013330662,3.1131109673631693E-2,6.5944205799984376E-2,8.9656981142468131E-2,-1.2170819077986658E-2,1.6778335812315713E-2,0.11583452987547868,8.1051797366982953E-2,6.4711766537905446E-2,2.1700544033116324E-2,-4.6396910631120093E-2,0.10649434904503513,-5.448132668798962E-3,5.1683758658153224E-3,5.340665232113536E-2,9.3626291988994303E-2,8.3749815258033156E-2,8.8059882167749182E-2,0.14320939336844041,9.5162285723200624E-2,9.0217828927346977E-2,0.11695769861628347,1.8077181255048647E-2,1.149979950362412E-2,0.13479787990124503,2.4208050525932334E-2,0.13652405759636133,7.435797233625574E-2,-2.2763266781605784E-3,1.1650372532089958E-2]
[null,2011,-3.1806109956569349E-5,5.3809838021721658E-2,-1.8151817702741109E-2,-3.7642064289874815E-2,5.9701669865037544E-3,-0.16039639959587118,-0.14869708337515586,-0.17716404645836703,-1.5736505286652436E-2,-1.1246955135531423E-3,7.0248555238169919E-2,7.9584616508334732E-2,-2.4453035510574154E-2,7.0502388367206126E-2,2.3274166666666664E-3,4.1916666666666665E-3,1.8166666666666667E-3,7.4999999999999997E-3,1.5224999999999999E-2,2.1625000000000002E-2,2.7858333333333329E-2,3.6208333333333328E-2,3.9108333333333328E-2,5.2500000000000008E-4,9.5833333333333339E-4,3.0333333333333341E-3,4.2166666666666663E-3,4.6391666666666664E-2,5.6641666666666667E-2,2.1166666666666664E-3,4.5099999999999987E-2,4.4558333333333339E-2,2.0490401554652416E-2,1.0166666666666668E-3,2.9193870078125943E-2,5.187298927348475E-2,8.5528005311097166E-2,9.1216103117271144E-2,7.7468017524236987E-2,3.4034763084107134E-2,1.7365215805504376E-3,5.6862912945325673E-2,2.4979243661791065E-2,6.1298133103819943E-2,8.4136449669489285E-3,1.6304576751939168E-2,-2.14985381534256E-2,2.7348645705252059E-2,0.17159662859391561,0.24080829856100627,0.27420238379414907,0.20044869611986171,1.9023398933745519E-2,0.10639648805837337,-1.0382590808893401E-2,5.0765161651395239E-2,0.13920325470395647,9.6668224130609465E-2,0.10013267475977954,4.7561759016249094E-2,0.2907511816572132,-2.6867890801446623E-2,5.8283876425809511E-2,2.3852776180894819E-2,6.6138016182107254E-2,0.17630504650451587,0.10189862628313708,7.2388863571771614E-2,9.3495409374804286E-2,4.4652820410035366E-3,2.0098783847467789E-2,0.19115526017020579,3.4307454415151449E-2,6.3066747070906037E-2,1.4081289411397151E-2,-2.728289879450518E-2,9.938262307783341E-2,0.11460531742848927,8.2854206595786253E-2,7.7304466690716639E-2,0.15103380470189975,0.15526690054729131,0.1515721656959883,0.2487601438098539,0.17021418905788144,6.5134946156693907E-2,0.19459148623029043,9.8780493937576042E-2,0.13008610134607812,0.16545151667066227,0.1324333885110196,0.19948956370004578,0.14981088672895959,1.6258795101770307E-2,1.1609699976500042E-2]
[null,2012,0.12580141025535829,7.0053949675876095E-2,0.14760431144545397,0.12641177815287272,0.14936637638480768,0.12711016219680901,0.1410693759326512,0.10406792209061479,0.12137716415196967,0.12683625053461747,0.18352638270681021,0.17982519287253565,0.18137911518261135,0.18004728840850881,2.3617500000000001E-3,4.1999999999999997E-3,1.7499999999999996E-3,3.8166666666666666E-3,7.6083333333333324E-3,1.219166666666667E-2,1.8024999999999999E-2,2.5441666666666661E-2,2.9208333333333329E-2,8.5833333333333313E-4,1.3416666666666668E-3,2.8250000000000003E-3,4.3666666666666671E-3,3.6733333333333333E-2,4.9349999999999998E-2,2.0416666666666665E-3,3.729166666666666E-2,3.6559166666666663E-2,2.5861616129880271E-3,1.3999999999999998E-3,1.7260402193737968E-2,8.4725151722843933E-3,7.9389326402333718E-2,0.1157852506021818,9.7033009512583646E-2,3.8200640295981296E-2,3.6091045820144746E-2,0.1136342998582819,5.4385515370446058E-2,0.10796452589556046,1.0177952667081356E-2,1.7192796681240529E-2,-7.0675085210999064E-2,8.8946125089652481E-2,0.18205886267958815,0.17738474014068636,0.23791120090958648,0.24755791763228624,6.9534572082956311E-2,0.12321509361588169,-7.5928496215425974E-3,0.10253464142698775,0.2185142235835647,6.3589780372532642E-2,0.15034458611436827,0.10125630850466871,0.3507171019064223,-4.0872215301454087E-2,0.15208712040385644,8.690088322807249E-2,1.0625352590215239E-2,0.28571296944367958,0.13564071144372872,0.10925881814100327,8.0943505052435444E-2,4.9959097221316022E-2,2.1419136093829335E-2,0.25639232662629557,2.7202802602887793E-2,3.0911065732158641E-2,1.9373727047425935E-2,-1.3731870984017056E-2,0.18897066525642908,-3.8682266269499301E-3,8.2073845965918879E-2,8.6409680263720159E-2,0.17405703110809378,0.20795152730346467,0.1857541377053038,0.24817025052988684,0.21044961181215016,0.11345239702559096,0.2182049591821229,7.2435046803317249E-2,0.15901043230225254,0.21865337737586232,0.15761461402075438,0.21253183461411251,0.17444497324335972,7.7903784578600144E-2,1.1828350262666112E-2]
[null,2013,0.25929220649406615,0.23506747107240289,0.32440055755873926,0.11388817468001979,0.29254866348942288,0.1775241456474633,0.1962240254009677,0.1419068042062176,0.24366702452275898,0.2612203944455348,3.1582084594545839E-2,2.8157193162819436E-2,-1.9795068780808337E-2,2.3135556260503023E-2,1.885083333333333E-3,3.3583333333333325E-3,1.3166666666666667E-3,5.4333333333333343E-3,1.1725000000000001E-2,1.7375000000000002E-2,2.3508333333333332E-2,3.1191666666666666E-2,3.4483333333333331E-2,5.8333333333333327E-4,8.833333333333333E-4,1.858733005875462E-3,2.0243503223579913E-3,4.2350000000000006E-2,5.1016666666666675E-2,1.4083333333333337E-3,4.2708333333333327E-2,3.9819166666666669E-2,-2.2348784127195351E-2,1.0750000000000002E-3,1.4905712048226272E-2,2.4783160144670005E-3,-0.31924590000509157,9.8817647653562338E-2,8.5279066570871934E-2,6.3907016757770885E-2,6.4834816819222582E-2,6.7377095070305579E-2,2.5646673954404474E-2,0.13040651516610766,1.1356015945601813E-2,1.7743290343326883E-2,3.9526120012803825E-2,8.1670796812886665E-2,0.17152023546280387,0.12116606781117456,0.20804864165026526,0.18498382323781931,0.10356017361197754,9.4383750450486525E-2,3.4793705380024104E-2,0.12777925999252179,0.18474376020774369,4.6593715559696422E-2,8.3050205616426565E-2,7.1669923787970755E-2,0.19069799886553507,3.929984832415559E-2,3.2097393530798733E-2,-1.0149692217164441E-2,1.6645293235568358E-2,0.36696355981786788,0.12087223544989044,7.8867153464697068E-2,5.0609731940768878E-2,2.9786444693807687E-2,4.1410166281098896E-3,0.30191178849547029,3.8452202788093567E-2,1.3433335999536992E-2,7.1389422710072883E-2,1.9772942304321396E-2,9.848297312079364E-2,1.5709305511019261E-2,2.2041691448315585E-2,6.0655479642749408E-2,0.16721363331300032,0.29770823097411525,0.20910508605622269,0.13049918597467114,0.15401527821432515,0.23229702806100905,0.15725067193793629,0.20319876106540136,0.16780255774937913,0.32417941873717715,0.15166032409093,0.36197738438290061,0.15678029422953288,9.6803807420464238E-2,1.238264987769391E-2]
[null,2014,0.10787310015833211,7.2498003656670112E-2,0.12570833083274319,5.5568837003287533E-2,0.11418348789526048,-7.6292440310257142E-2,-8.9774710270192903E-2,-5.3250621819913913E-2,9.7732301667074986E-2,0.10526833873575202,0.24017656768675213,0.24707562101444955,0.16451818857540565,0.24081678290251521,1.5507499999999998E-3,2.7916666666666667E-3,1.2083333333333334E-3,8.9583333333333355E-3,1.6408333333333334E-2,2.1425E-2,2.5408333333333335E-2,3.0741666666666667E-2,3.3399999999999999E-2,3.2500000000000009E-4,6.416666666666668E-4,1.858733005875462E-3,2.0243503223579913E-3,4.1625000000000002E-2,4.8541666666666664E-2,1.2416666666666665E-3,4.2325000000000008E-2,4.1728333333333339E-2,-0.41357967699744019,8.9166666666666658E-4,7.5364620885402635E-3,-2.2022912087437341E-2,1.2445552322047017E-3,0.10010640337109958,9.0633781153333912E-2,7.1398019128338763E-2,7.177581500375628E-2,8.5013578192296629E-2,9.1960932225218034E-2,0.1128377017403747,6.0548855705656931E-3,2.9185043548389415E-2,3.0815266648245368E-2,0.12059080828712411,8.0571639353420099E-2,9.2249088762866166E-2,0.10743342029903866,0.19970301317314748,9.9403501790937293E-2,7.5608366961253823E-2,2.3389899109395991E-2,0.11970317856720557,0.14426263627102248,8.6822015482734508E-2,0.10164360228052179,0.11689411335853733,0.13994874872496171,1.2645290798611111E-2,0.11519492684894475,6.1128268862767024E-2,6.0134459106114049E-2,0.18415655130974964,0.12513096674661961,8.7523500289933193E-2,9.8835136604509918E-2,5.6734691112582877E-2,4.4609826352242275E-2,0.24278625594235975,3.9574284841894222E-2,9.7059065255552995E-2,0.10781741219006656,2.4163284848467831E-2,0.13971839875752834,2.1606370137754134E-2,8.0415369401473327E-2,0.10948569340016714,6.3041904932445103E-2,0.21121609025737409,0.12631347275819471,2.7485708536668652E-2,5.896963135102995E-2,0.11131483443018197,4.7660470730312765E-2,0.12347597259293397,0.14104394133343567,0.2199092281235826,0.10569251020382642,0.24731281222467394,7.0928274390441581E-2,0.10480187202963198,1.2221559030657109E-2]
[null,2015,-7.2925418973831596E-3,-2.2586047578282538E-2,5.5715360397472158E-2,-8.9750144711321631E-2,-2.3149434358357562E-3,-3.3579291257922507E-2,-5.4632212071808711E-2,4.351626383995384E-3,-2.4019489056244351E-2,-7.6793167139218889E-3,2.2638503178311259E-2,2.7860574060171745E-2,-9.2950009063997696E-2,2.02983610484113E-2,2.0117500000000001E-3,4.6583333333333329E-3,3.2166666666666672E-3,1.0258333333333331E-2,1.5291666666666665E-2,1.8891666666666664E-2,2.1358333333333337E-2,2.5466666666666669E-2,2.8408333333333338E-2,5.2499999999999997E-4,1.6333333333333336E-3,null,null,3.8866666666666674E-2,4.9991666666666677E-2,2.2666666666666668E-3,3.6575000000000003E-2,3.8490000000000003E-2,-0.29388770940964687,1.325E-3,7.2687166171179962E-3,-7.4030117819142496E-2,-0.12904019018101792,6.2350055367208959E-2,5.6687765037967859E-2,4.4010759912474141E-2,1.3485261604011312E-2,0.10441627788721347,8.7452173184115051E-2,0.12128312933018764,6.7321742172082024E-3,4.8564651540364379E-2,2.0290708473083226E-2,0.10264918820523877,2.0514313761508321E-2,3.7947935755724291E-2,-4.9771290462467886E-2,1.8404708657945718E-2,8.4774694131053652E-2,7.9374638211001269E-2,4.5252095850658716E-2,6.7777613459445232E-2,2.7755097896261981E-2,8.8876640464152154E-2,9.1943705810940204E-2,6.3190988742670068E-2,3.6026738675549123E-3,2.0387346246222061E-2,5.2505056500546925E-2,0.13714343448736244,2.0842429653694802E-2,7.4451477903883317E-2,7.0886942840296979E-2,6.9702887561253715E-2,8.934476919072655E-2,6.3449395420681872E-3,3.2332845080878206E-2,0.14267084550805553,4.4844970386186803E-2,4.6061970235668513E-2,4.5592634374015215E-2,2.2146430702375194E-2,0.13380716657380368,2.8593666465895926E-2,7.3894898336844012E-2,8.4115514466559002E-2,5.1801136893617095E-2,0.16997280328038156,0.10354030630917022,1.4328494635091893E-3,3.3057416887926072E-2,2.8129561060214359E-2,3.4254190200386114E-2,7.2440415644806411E-2,9.3757264207582347E-2,0.18355320116321172,0.19570892468966949,0.20225167339468331,5.8150245674809531E-2,4.9732446829385157E-2,1.4469011630100441E-2]
[null,2016,9.1074090277842745E-2,0.12588362464622282,7.2349316376474807E-2,0.15279809585537268,0.12251742380043493,-1.8987242098002562E-2,-3.4455413003646719E-2,1.4812989036254552E-2,9.3857640502311671E-2,8.8145950501490336E-2,8.8768871590968634E-2,8.2770284182020024E-2,0.20579150589627887,8.961122226394308E-2,4.9656666666666668E-3,8.5583333333333327E-3,6.1416666666666668E-3,1.0058333333333334E-2,1.3383333333333332E-2,1.6366666666666668E-2,1.8416666666666668E-2,2.2250000000000002E-2,2.5975000000000002E-2,3.1750000000000007E-3,4.5583333333333335E-3,null,null,3.6658333333333334E-2,4.7175000000000002E-2,6.4416666666666667E-3,3.1444444444444442E-2,3.6477083333333341E-2,0.24507362837523636,3.9500000000000004E-3,2.0533949353894038E-2,2.5290559656654343E-2,7.7921446326289695E-2,3.1080836140782466E-2,3.1631064731993348E-2,5.5966600878472612E-2,1.2189036378827964E-2,2.8556378883747523E-2,5.5993863274414246E-2,3.3432321579161067E-2,3.3989488542559274E-2,1.6699994969013858E-2,6.9869734404212569E-2,6.9003279952364702E-2,1.0335014475071088E-2,1.0558962984805581E-2,-1.1440231926869965E-2,-4.3753978689983736E-2,8.3291136279563832E-2,6.2771447456405366E-2,3.8517594104763721E-2,6.0804648875615085E-3,3.6063777551282789E-2,7.2694229431697691E-2,3.0785512098592017E-2,3.9419097312585631E-2,-6.7317564303183454E-3,-1.7754317300099562E-3,9.5607276957237017E-2,1.6426983015286032E-2,1.3349033904780722E-2,-3.2190431879950694E-2,2.6784278863575373E-2,5.3943818044290708E-2,9.1413593261113646E-2,2.4756496606051705E-2,2.8885116453015978E-2,-8.182131826702365E-3,4.5097788269453765E-2,6.7883952443744122E-3,3.0293177620966574E-2,1.5334532339517058E-2,0.10426005384001114,5.8353036463773631E-3,1.720849745145735E-2,5.8745335532950853E-2,4.7131032370891113E-2,0.10128736747262979,7.0885585761407466E-2,-4.5562423155405152E-2,2.7300564812355876E-2,5.548436732559292E-2,5.8926480912140367E-3,0.18026104205221816,7.5229135029635463E-2,0.10750555553255881,7.7322040873549103E-2,0.10333070582037895,4.9990822900380483E-2,2.5886875837551004E-2,1.2958770811775069E-2]
[null,2017,0.1774762111462605,0.22378984452168138,0.2487444635682198,0.17489911970763491,0.19055419007420901,0.19705316894949082,0.19992142892932555,0.19530950760178498,0.17530753397015358,0.17814414182631055,8.8626841940454754E-2,8.3181535277241564E-2,0.18055983419129717,8.8871300527647759E-2,1.1137416666666667E-2,1.2766666666666666E-2,1.2008333333333334E-2,1.5775000000000004E-2,1.9099999999999999E-2,2.1591666666666665E-2,2.3299999999999998E-2,2.6525000000000003E-2,2.895E-2,9.3083333333333351E-3,1.0491666666666668E-2,null,null,3.7433333333333339E-2,4.4400000000000002E-2,1.1525000000000001E-2,null,3.9910000000000001E-2,0.10535047040395748,1.0016666666666667E-2,2.0871491882029952E-2,4.2138874131136143E-2,0.11922675741423988,4.8631939981468718E-2,4.6832526374334313E-2,4.7358150988975889E-2,8.6634702702900343E-2,7.2325961230238406E-2,0.13318888666348419,5.9313870570228189E-2,7.1466755170488915E-3,7.8635720363424144E-2,7.4514001524010193E-2,9.5369554876342105E-2,8.5736542663937456E-3,-9.5672535049346023E-3,2.4911353558799993E-2,1.4566849288501594E-2,7.1297135382221946E-2,6.172880024514929E-2,3.0911707056068161E-2,2.8753317323252085E-2,4.5669450324338202E-2,6.3622383122836787E-2,2.4183171524592055E-3,4.9330500399705129E-2,9.8118804374788468E-3,5.704892101144228E-3,8.415713913773705E-2,2.6868792058447475E-2,2.2834428419332999E-2,2.4642663552508288E-2,2.5493021361772967E-2,5.1361284583570074E-2,0.1012689932190952,4.2295873260304331E-2,3.1256616411674619E-2,-9.4922859136044625E-3,4.1655693551450421E-2,6.1243196560669677E-2,4.6500724544670663E-2,3.5795919454831085E-2,9.9511769945862236E-2,1.7205313357985016E-2,0.10092019513985322,5.439373111147864E-2,4.7533021475684611E-2,8.1356195724438196E-2,6.1925208680139177E-2,2.1326001456030586E-2,4.0158578121450628E-2,0.19989746364942462,3.0028457442416778E-2,6.3547627700237808E-2,0.10715835554167707,7.7656056536681062E-2,0.10504882707943208,8.8344327967529335E-2,5.2709948899055004E-2,3.6256384211840187E-2,1.2959491120190377E-2]
[null,2018,-6.4402595117360809E-2,-5.7949859512723384E-2,-3.9612180083393733E-2,-8.3340398670965404E-2,-5.4304857996580622E-2,-0.17597056381998566,-0.18956116476465443,-0.1540246245518532,-7.3197643445146496E-2,-6.5374633917341898E-2,-4.1870173391162106E-2,-4.1286080745918954E-2,-2.5555456370449189E-2,-4.0145937663215787E-2,2.0224166666666668E-2,2.3666666666666666E-2,2.3316666666666666E-2,2.6275E-2,2.7483333333333335E-2,2.8508333333333337E-2,2.9099999999999997E-2,3.0183333333333329E-2,3.1125000000000003E-2,1.9391666666666668E-2,2.0958333333333332E-2,null,null,3.9299999999999995E-2,4.8000000000000001E-2,2.1883333333333334E-2,null,4.5390416666666669E-2,-0.16716710072286864,1.8316666666666662E-2,1.8921443566155969E-2,2.3660806776660274E-2,-9.3385892677997628E-3,4.3479627356382194E-2,4.2591230643279916E-2,4.0348788222886733E-2,3.4246756350279933E-2,5.2749468022960502E-2,6.5381146111578539E-2,4.5786598883296885E-2,3.129810409417836E-2,1.9873799073597941E-2,1.4478537817017297E-2,9.0877169763727964E-2,4.4339141615677855E-2,2.7054787454297166E-2,1.6823724075871849E-2,5.5857725267315283E-3,5.5913120441778423E-2,5.7128231104087907E-2,4.2922175874154839E-2,2.4664566522793162E-2,2.3945172046265287E-2,6.6494018683007361E-2,0.11816701522575201,2.741499838204145E-2,1.038701654610814E-2,5.0439665527457784E-3,7.1316263063630619E-2,3.2103641902840457E-2,2.8587610013442712E-2,1.3939954187865247E-2,4.9496612401752106E-2,4.5281412646020772E-2,7.8649288554090729E-2,4.161529691371238E-2,3.5138689990627435E-2,1.8918135653039091E-2,4.2784988114344044E-2,8.6303613598096907E-2,4.9812921799796059E-2,1.562247393129744E-2,0.1004983975521804,1.3797240181202555E-2,3.0133577416069701E-2,7.1316263063630619E-2,5.9179903361765041E-2,8.2349285114198034E-2,6.7377864090770734E-2,2.6447742547565545E-2,7.0162895164465278E-2,0.20764636058325414,4.9445758073639157E-2,4.4077334284010616E-2,7.6837897949650014E-2,8.3272765530133075E-2,8.4157195318747435E-2,9.527519072906232E-2,6.049447004335673E-2,3.2070316010240241E-2,1.4327631022035653E-2]
[null,2019,0.25369657911584897,0.20162068364120431,0.30177563117804523,0.10158562289853899,0.26419113170270547,-0.17597056381998566,-0.18956116476465443,0.1476793134793879,0.2533517983736,0.25519803870365104,0.24739587135009461,0.25202540602970508,0.19335108842314072,0.24848140288953516,2.0216888272224533E-2,2.3375E-2,2.0533333333333334E-2,1.9408333333333333E-2,1.9575000000000002E-2,2.0491666666666668E-2,2.1441666666666664E-2,2.403333333333333E-2,2.5825000000000004E-2,2.0608333333333329E-2,2.0533333333333334E-2,null,null,3.3875000000000009E-2,4.374999999999999E-2,2.2075000000000001E-2,null,3.9337499999999997E-2,0.15300894193252168,2.1583333333333333E-2,2.2594117069698962E-2,-1.0000083334583311E-2,0.16917188624625573,4.5240322616570967E-2,4.484506390969905E-2,5.5839135178701968E-2,3.7024645113453034E-2,8.2139703967649594E-2,9.737436845441054E-2,4.0307046993653152E-2,7.626739459927992E-2,2.0749362897765126E-2,2.3520025114744127E-2,8.5164067536947427E-2,2.4072857089762759E-2,2.9215109894851224E-2,1.6774485249374756E-2,8.3431922332281888E-2,4.4815056955595199E-2,5.6892512230094547E-2,3.6230886252077349E-2,2.1768696053690292E-2,2.6417849078585624E-2,6.0445353841170148E-2,3.3691889859506843E-2,2.7019178797386356E-2,6.9345887151708668E-2,2.0788625217165639E-3,5.8475386989524203E-2,2.5579702605367877E-2,2.8298297523801225E-2,5.0512707445326543E-2,3.2710716028423674E-2,5.5607498771474258E-2,7.3838474219118364E-2,4.2225941957196866E-2,3.9016182158266362E-2,3.3119701624654087E-2,4.0585865179193062E-2,5.2364434291794951E-2,6.3735099274457849E-2,1.4861331141976361E-2,6.4546698271205807E-2,2.3912138277987747E-2,3.445444599285799E-2,5.4216701380626557E-2,4.3963916743680498E-2,5.4809201218863013E-2,4.8113938902765163E-2,3.7834590423623915E-2,3.6725023024585468E-2,3.4009366501506433E-2,4.3655773250973695E-2,3.4483831067184889E-2,5.6969092326522031E-2,5.552212332692541E-2,7.6936227291081405E-2,5.7887187565039078E-2,4.4682024182712832E-2,1.2926827727763213E-2,1.319283106838098E-2]
[null,2020,0.15064959489429303,6.9959819983735114E-2,0.36214232487969988,0.10158557198144264,0.20030190028799813,-0.17597056381998566,-0.18956116476465443,8.8581750581473384E-2,0.2533517983736,0.17583627747318201,-6.0393062961143537E-2,-5.2573790130777169E-2,-0.20785448319192079,-6.1616330316036284E-2,2.0216888272224533E-2,6.033333333333335E-3,3.7916666666666667E-3,4.2833333333333343E-3,5.3999999999999994E-3,7.2666666666666669E-3,8.9416666666666655E-3,1.3533333333333335E-2,1.5616666666666668E-2,3.65E-3,3.7166666666666663E-3,null,null,2.4766666666666666E-2,3.6024999999999995E-2,5.541666666666667E-3,null,3.1136666666666667E-2,-6.3307484819274035E-2,3.7583333333333323E-3,1.352813568855866E-2,7.5094220221315683E-3,0.22005577202713397,2.9130330266532427E-2,2.9188607916100145E-2,3.2927617073516782E-2,4.7991811845974244E-2,4.2794934935876508E-2,2.8862053019427698E-2,4.142169652938836E-2,1.0810776893211499E-2,7.0046054351912759E-3,4.182114989393549E-2,7.8047669942669887E-2,3.8976928295078921E-2,3.2283295028300844E-2,1.1164707372603791E-2,-5.0568205054681422E-3,5.5040535819609909E-2,4.3750761340839384E-2,1.2012460307187806E-2,2.0377934047519246E-2,2.8854544912257866E-2,4.6200667734542469E-2,2.5623601632179326E-2,2.9582970467654922E-2,1.3092034820994853E-2,8.3113613036326951E-3,5.1483141579794924E-2,-1.1820322127130224E-2,1.7172751099466199E-2,2.1581836109229108E-2,2.7987186984649283E-2,2.7592630981153072E-2,5.8623498222562624E-2,2.5314180812255883E-2,4.1977228907463943E-2,5.6837171076506137E-3,4.8758667671889813E-2,4.1423144166755119E-2,3.0057740141737482E-2,1.6236729220600009E-3,5.0906292263369894E-2,1.8731286160137087E-2,4.5524245190068785E-3,4.3186548891928286E-2,4.2040500551529858E-2,1.2730026635204839E-2,3.082974717740905E-2,4.3616173592748275E-2,4.1115361850271981E-2,7.7184373879577439E-3,3.5310880366586916E-2,6.0538760575610029E-2,5.3390220564644819E-2,3.1500671037962835E-3,2.9344169007731846E-2,1.5959266620682033E-2,4.3542609688864919E-2,8.1149898660415332E-3,1.3253941786240614E-2]
[null,2021,0.23817194746324549,0.17166053022128611,0.1938310882985394,0.10158557198144264,0.21928088556736983,-0.17597056381998566,-0.18956116476465443,2.3774482312953031E-3,0.2533517983736,0.2250376527395862,0.33559849444683576,0.3457036042072803,0.1452723277203456,0.33661056592491828,2.0216888272224533E-2,1.7833333333333334E-3,1.0416666666666667E-3,4.5999999999999999E-3,8.5500000000000003E-3,1.1925000000000002E-2,1.4424999999999999E-2,1.9774999999999997E-2,2.0525000000000002E-2,4.416666666666666E-4,6.416666666666668E-4,null,null,2.7033333333333336E-2,3.3916666666666671E-2,1.1416666666666665E-3,null,2.9557083333333335E-2,0.31520249125008198,7.9999999999999993E-4,6.7998804310941394E-2,0.18538419380059967,-4.4274785803087351E-2,8.1692791522219685E-2,7.799414029682647E-2,3.1939251702627632E-2,5.384526874305625E-2,4.390141880712789E-2,0.10853887685384773,4.2933808449548805E-2,5.0401926743939493E-2,3.4276384435208015E-2,8.2706039739958659E-2,0.11689198935448199,8.9596310827675565E-2,0.10314708858901403,0.12008776315327481,0.12758337716157006,4.9771734055453792E-2,4.9368067573560978E-2,8.2703625944309189E-2,9.4461731403102198E-2,0.10985941449866098,5.3954291629015057E-2,0.11339959307328451,4.6538146267403775E-2,0.14251792274705588,5.9688411497564341E-2,8.498406603411382E-2,5.7319930089584699E-2,3.7621913865517206E-2,9.0379082781165618E-2,5.7584720583426702E-2,8.4358932352819105E-2,0.15223687554884108,3.576059317677386E-2,4.1811899915617484E-2,0.1207651138420763,6.1021516621153259E-2,0.11295900569029804,8.523563458270568E-2,2.5310428452786284E-2,0.12711066489743633,3.6467116550728033E-2,9.026734048727901E-2,8.8452473446820806E-2,0.11062940777484154,3.0616146576885273E-2,7.8347020237479859E-2,0.18770337376808088,0.10206116066486848,0.17823078941186798,0.12979038961850642,9.852971528594634E-2,5.8406481826121626E-2,2.1245774672672191E-2,6.0579669442826223E-3,3.1126488295146526E-2,0.10203445117169108,9.2542663279231885E-2,1.3606984441904372E-2]
[null,2022,-0.2162029956948473,-9.1912524535139178E-2,-0.40197168988130638,5.5927765116724426E-2,-0.22508049370392441,0.16919465171257445,0.18259286910635886,-0.16945252693162793,0.16873051339279857,-0.2326262396920982,-0.28907481465890161,-0.28699480832254498,-0.30938610819775697,-0.28798592415241098,2.2256764592116826E-2,8.7500000000000008E-3,2.7933333333333331E-2,3.0466666666666663E-2,2.999166666666666E-2,3.0066666666666665E-2,2.9516666666666667E-2,3.2991666666666669E-2,3.1149999999999997E-2,2.0216666666666671E-2,2.4366666666666665E-2,null,null,4.0741666666666669E-2,5.071666666666666E-2,2.2275000000000003E-2,null,5.3275000000000003E-2,8.3531995007455173E-2,1.6833333333333336E-2,6.2546550963643005E-2,6.7067299054654403E-2,4.3651301492524568E-3,0.13488992048333739,0.12462862723321108,7.719151050007482E-2,0.11544358924527845,7.9984065091807624E-2,0.11734018773058436,0.13057500152532381,6.4546678454922457E-2,0.10901310751133837,0.10946885872542422,0.14279603341740707,0.1480508025887991,0.15205358883604489,0.23825595567334226,0.27107905934363508,0.11514224165368396,8.7999664201827033E-2,0.12789369612587617,0.12482696860917025,0.19810564139108516,8.7964113831186019E-2,0.14716382057233476,0.1365649075629847,0.23560880565174469,6.9694516084411476E-2,5.5734741730098063E-2,7.4096598157205887E-2,0.10311644462001952,0.15634154627377025,0.1076348922406848,0.12816642459181141,0.13541722403532802,8.6822015423823187E-2,6.8314941041716856E-2,0.21468119928110097,0.1247018802126733,0.12807297274845494,8.8887290459495061E-2,9.2771824032632594E-2,0.13759772716675708,9.3105962046708665E-2,0.11787237226473539,0.10967484590635157,0.14430070474765433,2.6055865382278665E-2,9.6367624606244595E-2,0.27994486319744505,0.13128441846126737,4.8409152838171376E-2,0.1861141573611329,5.3232544243618563E-2,7.1469761876551186E-2,1.0009299655248993E-2,2.6402368476501792E-2,1.6776715791829266E-2,0.13373969812402042,0.12636965130016664,1.4002421009328404E-2]
["Aves as prelims",2023,7.2193520491495702E-2,6.8881382663327786E-2,0.11208379461842929,6.2201765080629967E-2,0.10588853120589559,4.3977811842940362E-2,4.0396534800575097E-2,6.5238508982301033E-2,7.6462981766131172E-2,7.366485049877991E-2,9.3133956033832649E-2,0.11091923384175202,5.0838398234649328E-2,9.2788826401819097E-2,3.5376670087500187E-2,5.3487091503267976E-2,5.0206603773584907E-2,5.4645754716981146E-2,5.7563836477987428E-2,5.9870125786163547E-2,6.1363364779874217E-2,6.4547210571145236E-2,6.3619711789630967E-2,4.5159276729559758E-2,4.6389622641509427E-2,5.779566955098011E-2,5.9033486245899602E-2,7.2673270440251569E-2,8.3394811320754714E-2,2.2066666666666665E-2,6.0878009259259257E-2,7.8012954793028305E-2,2.8738330127504208E-2,5.0280817610062881E-2,3.8886210490196534E-2,3.6648014311010287E-2,7.1373180236735015E-2,9.6346224950374357E-2,8.7814311415800483E-2,4.3940420157037335E-2,3.8576354348872098E-2,4.6178598919271494E-2,4.9968470959841936E-2,0.13186000505742773,1.1033267963739135E-2,5.8180935605858103E-2,0.12904747420969342,6.7111113395848049E-2,6.6084117645202875E-2,0.16261528778385961,7.9485064795495011E-2,0.17994334143360002,0.10751580571972869,5.6741143035902143E-2,9.4853957846321203E-3,0.11310494171586905,9.6837854879712443E-2,6.1184920461511805E-2,0.10768779032472328,6.6775403725734039E-2,0.15361838277460377,0.14908854382200587,4.128817544895045E-2,6.3002425958416583E-2,9.5808586390695574E-2,0.15968939866378484,9.9211367050541233E-2,0.10029093775092936,9.029126138924698E-2,4.1735964235421127E-2,6.4576384918230423E-2,0.14735152739751517,0.10487720860166046,0.10807665216813114,6.1023025578050193E-2,8.564443328162602E-2,0.10335006189310948,7.7162564264935465E-2,0.10586830102998113,6.5073857506425012E-2,0.10010622014693127,0.11681877702116265,0.1086569007638401,0.10314441299905711,9.5487995366938458E-2,9.2181008717605623E-2,9.882496528103954E-2,0.10589419554155279,9.4890529338566801E-2,0.11983372023390537,0.10148978943606746,0.13913042537798045,9.7886795537353841E-2,8.8925060021090893E-2,1.1403785019627912E-2,"Prelim only"]
[]
[]
[null,"StDev",{"$f":"STDEV(C4:C56)","v":0.16552100676830803},0.15364709975112414,0.24586597974400257,0.15749297996220329,0.17065201524495696,0.20590733948714723,0.20363237682247698,0.24230720050060184,0.16644009508297331,0.1663962593524709,0.19928032086873948,0.17096465883150869,0.26689439029759099,0.19981452906891634,2.7020741299471088E-2,4.0177847382804159E-2,3.6115170836171905E-2,3.4982447660094375E-2,3.3508740924297946E-2,3.2363132392148546E-2,3.1143060756433475E-2,2.9328540845263432E-2,3.0456962768784856E-2,3.3731608935842032E-2,3.376224694326907E-2,3.6400095257936915E-2,3.6232761084661086E-2,2.7554926080068102E-2,2.9576351660200034E-2,2.1152767472821594E-2,1.8914265406111182E-2,3.2778394842544745E-2,{"$f":"STDEV(AI4:AI56)","v":0.23360346759672185},3.8809846761125963E-2,2.8112058897329636E-2,5.2668580254013324E-2,0.22133240729606857,6.862364522020864E-2,6.7559557100870735E-2,7.7205590366044699E-2,0.226864358712799,7.8801145195476374E-2,7.6985465786126001E-2,7.2232878315240404E-2,0.11314130972127605,0.10499958531035634,9.7632622239148661E-2,8.3174399866462856E-2,9.896251149328486E-2,9.7386140525977646E-2,0.11949572734211739,9.0156940310072708E-2,7.2979391369833377E-2,8.2156546606650782E-2,9.3713098938122033E-2,7.5441939297581237E-2,0.10760082222853949,8.7527798030804183E-2,8.5877129213122835E-2,0.10010414564285205,0.11412111091221472,7.535866599052958E-2,6.4647752132465042E-2,5.9465879786177477E-2,{"$f":"STDEV(BO4:BO56)","v":7.2162068150281297E-2},0.1064323951375096,8.3340333436075581E-2,6.1240747123196243E-2,6.2504208484362486E-2,7.5237666490028624E-2,6.9832209303183138E-2,9.6374979754272089E-2,6.9462874295622493E-2,8.9554930226328516E-2,9.6319092966139913E-2,8.39638397484153E-2,6.2574207001323962E-2,9.538068212081792E-2,8.7604454129293824E-2,5.4069617237246313E-2,4.8783440667908712E-2,9.5918537565425913E-2,6.6439146945199992E-2,7.6152226758281871E-2,4.876568497312242E-2,6.3656081708109435E-2,5.4224570972417743E-2,{"$f":"STDEV(CL4:CL56)","v":7.3206728118944631E-2},7.0620044377978891E-2,0.10612657847244437,0.10362624890568167,0.1184241421168474,4.7989267306987535E-2,8.5887342528789601E-2,1.6116294718869716E-3]
[null,"Ave",{"$f":"AVERAGE(C4:C56)","v":7.2193520491495702E-2},6.8881382663327786E-2,0.11208379461842929,6.2201765080629967E-2,0.10588853120589559,4.3977811842940362E-2,4.0396534800575097E-2,6.5238508982301033E-2,7.6462981766131172E-2,7.366485049877991E-2,9.3133956033832649E-2,0.11091923384175202,5.0838398234649328E-2,9.2788826401819097E-2,3.5376670087500187E-2,5.3487091503267976E-2,5.0206603773584907E-2,5.4645754716981146E-2,5.7563836477987428E-2,5.9870125786163547E-2,6.1363364779874217E-2,6.4547210571145236E-2,6.3619711789630967E-2,4.5159276729559758E-2,4.6389622641509427E-2,5.779566955098011E-2,5.9033486245899602E-2,7.2673270440251569E-2,8.3394811320754714E-2,2.2066666666666665E-2,6.0878009259259257E-2,7.8012954793028305E-2,{"$f":"AVERAGE(AI4:AI56)","v":2.8738330127504208E-2},5.0280817610062881E-2,3.8886210490196534E-2,3.6648014311010287E-2,7.1373180236735015E-2,0.1045045743403018,0.1018309568638734,9.4993061671401383E-2,0.14150877570434739,0.11004433088916479,8.8173641628710817E-2,0.11591891748470504,8.6238712104978382E-2,7.7612313893508436E-2,0.10190010395156594,0.11779864453553036,0.10320614976899152,0.10510200343358353,0.12184937819244082,0.11250153180096774,0.10328276996135126,9.3396634469785744E-2,7.1239766273770877E-2,8.64769222227766E-2,0.12186245123004778,0.11116155644602449,0.11492147462986629,0.11319503095641438,0.13968054006724698,5.7495032878399827E-2,7.1924366647906968E-2,7.5414626580320027E-2,{"$f":"AVERAGE(BO4:BO56)","v":8.0304153015399449E-2},0.12781145264017921,9.450839838762734E-2,8.3516574284853984E-2,0.12088771311438989,7.3840594366423304E-2,8.1275511468331271E-2,0.11866481512386785,9.4210423790237363E-2,0.11525115121426113,9.0795829211268261E-2,8.2910583082077341E-2,0.13348204015227397,8.9117594607565742E-2,0.11026639590366198,6.879307990320091E-2,0.10010622014693127,0.11681877702116265,0.1086569007638401,0.10314441299905711,9.5487995366938458E-2,9.2181008717605623E-2,9.882496528103954E-2,{"$f":"AVERAGE(CL4:CL56)","v":0.10589419554155279},9.4890529338566801E-2,0.11983372023390537,0.10148978943606746,0.13913042537798045,9.7886795537353841E-2,8.8925060021090893E-2,1.1403785019627912E-2]
[null,"Min",{"$f":"MIN(C4:C56)","v":-0.48589096961924627},-0.41305025658806666,-0.51987631618195529,-0.56329634197715772,-0.46734836879793923,-0.59939386872987555,-0.65775517383121551,-0.4766637862700232,-0.49828269991861451,-0.48737254228243149,-0.54872911220207643,-0.47365246120573795,-0.60376133127433584,-0.54872911220207643,1.5507499999999998E-3,1.7833333333333334E-3,1.0416666666666667E-3,3.8166666666666666E-3,5.3999999999999994E-3,7.2666666666666669E-3,8.9416666666666655E-3,1.3533333333333335E-2,1.5616666666666668E-2,3.2500000000000009E-4,6.416666666666668E-4,1.858733005875462E-3,2.0243503223579913E-3,2.4766666666666666E-2,3.3916666666666671E-2,1.1416666666666665E-3,3.1444444444444442E-2,2.9557083333333335E-2,{"$f":"MIN(AI4:AI56)","v":-0.55855107805015947},7.9999999999999993E-4,9.1371144498648027E-4,-7.4030117819142496E-2,-0.39450378419339788,-4.689879738170312E-2,-4.0826552838096428E-2,-1.7384918315660563E-2,-1.1017421853291862E-2,-7.6141240097641102E-2,-5.6429746651198397E-2,-4.6355679256065319E-2,-0.12851905499214991,-5.0601514695151534E-2,-7.0675085210999064E-2,-7.444836930019838E-2,-0.18348380997673819,-0.12080353899062761,-0.19750465581190502,-7.995196209850719E-2,-3.1549242910216685E-2,-0.18557003915743595,-8.66571433359834E-2,-8.0955333564944776E-2,-0.15860780344409278,-6.8420280968340769E-2,-0.1361667990935044,-0.18980434353422815,-0.14262320992747804,-0.10091529401615716,-5.0793568406163503E-2,-1.204962223746461E-2,{"$f":"MIN(BO4:BO56)","v":-4.3579004261564254E-2},-9.501699798410769E-2,-0.13644422102699769,-0.10307121887169338,-1.8188490825900464E-2,-8.75054790862696E-2,-5.7207963611209514E-2,-0.1391617018485416,-3.8816397486034687E-2,-9.1889616426033882E-2,-6.2177208179535946E-2,-8.5229282102604206E-2,3.9523056838821641E-3,-0.10445083806823394,-8.8960490615938581E-2,-4.7578156014684569E-2,4.2040500551529858E-2,-3.50457251676356E-2,2.013451434850122E-2,-4.5562423155405152E-2,2.7300564812355876E-2,7.7184373879577439E-3,5.8926480912140367E-3,{"$f":"MIN(CL4:CL56)","v":1.5596016725582418E-2},-7.4661041193894273E-2,-1.0296095483771195E-2,-1.502086900550581E-2,-3.6752969916167277E-2,3.038804872838341E-2,-5.2971894586000268E-2,9.2383670943716589E-3]
[null,"Max",{"$f":"MAX(C4:C56)","v":0.29349504830068318},0.32448431406189437,0.61834435133808263,0.29689096651551977,0.32404971662265586,0.51162283195275093,0.54989700635220629,0.70464789116324777,0.29005958361185946,0.29816007503973796,0.39859982532700089,0.38925883998428595,0.57291527241851803,0.39859982532700089,9.2552499999999996E-2,0.16825000000000004,0.14778333333333329,0.14439166666666667,0.14235833333333334,0.14060833333333334,0.13910833333333331,0.13718333333333332,0.13441666666666666,0.14024999999999999,0.13799166666666665,0.1591083333333333,0.157725,0.14170833333333333,0.16113333333333332,6.3266666666666652E-2,0.11659166666666666,0.16634624999999997,{"$f":"MAX(AI4:AI56)","v":0.40748766217587662},0.16378333333333334,0.12481552845498117,0.18967839501966308,0.90224995534422159,0.29502459935806408,0.28662809813421064,0.30974720922399535,1.6080779555031766,0.32887652784168608,0.35187145595942138,0.30746844597982964,0.53370159028125885,0.65343368604049401,0.36601892409630427,0.37335371990488975,0.42375304263431196,0.40563044521546554,0.43276348591267277,0.29868234678129396,0.27305434706334147,0.29788301783154209,0.35654753992644383,0.32129232725240103,0.35301517467080373,0.35942718303379623,0.39121899980237163,0.5334038590399609,0.41174081976904381,0.25005627547035381,0.21919927635279488,0.29444505454155151,{"$f":"MAX(BO4:BO56)","v":0.30074810006015756},0.44146873862098851,0.3475229092200996,0.21774663141469658,0.2654157243722462,0.28268313708655129,0.29280093763105919,0.34702837477483889,0.27006393779800331,0.36008843100729798,0.42962866026775243,0.32376304997070893,0.32219992533254993,0.35482981395195146,0.27919548777543163,0.18613858980770581,0.23600068555563314,0.43148220043311558,0.33899027354349154,0.2487601438098539,0.22936040157708004,0.23229702806100905,0.2182049591821229,{"$f":"MAX(CL4:CL56)","v":0.37340817744057109},0.29048775726743292,0.48127983805383101,0.39256040165910489,0.59191257180266699,0.22193124164903733,0.35034967332799982,1.4469011630100441E-2]
[null,"n",{"$f":"COUNT(C4:C56)","v":53},53,37,53,51,53,53,53,53,53,51,51,51,51,36,51,53,53,53,53,53,53,45,53,53,46,46,53,53,25,48,51,{"$f":"COUNT(AI4:AI56)","v":37},53,53,53,53,53,53,53,53,53,53,53,53,53,53,53,53,53,53,53,53,53,53,53,53,53,53,53,53,53,25,53,{"$f":"COUNT(BO4:BO56)","v":53},53,53,53,53,53,53,53,53,53,53,53,53,53,53,25,31,31,31,31,31,31,31,{"$f":"COUNT(CL4:CL56)","v":28},31,31,29,31,31,30,28]
[]
[null,"Range",{"$f":"C64-C63","v":0.77938601791992945},{"$f":"D64-D63","v":0.73753457064996097},1.1382206675200379,0.86018730849267744,0.79139808542059509,1.1110167006826264,1.2076521801834219,1.181311677433271,0.78834228353047398,0.7855326173221695,0.94732893752907732,0.8629113011900239,1.176676603692854,0.94732893752907732,9.1001749999999992E-2,0.16646666666666671,0.14674166666666663,0.14057500000000001,0.13695833333333335,0.13334166666666666,0.13016666666666665,0.12364999999999998,0.11879999999999999,0.13992499999999999,0.13734999999999997,0.15724960032745783,0.15570064967764202,0.11694166666666667,0.12721666666666664,6.2124999999999986E-2,8.5147222222222221E-2,0.13678916666666663,0.96603874022603609,0.16298333333333334,0.1239018170099947,0.26370851283880559,1.2967537395376194,{"$f":"AN64-AN63","v":0.34192339673976718},0.32745465097230708,0.32713212753965593,1.6190953773564685,0.4050177679393272,0.40830120261061975,0.35382412523589496,0.66222064527340874,0.70403520073564552,0.43669400930730334,0.44780208920508813,0.60723685261105009,0.52643398420609311,0.63026814172457779,0.37863430887980115,0.30460358997355819,0.483453056988978,0.44320468326242723,0.40224766081734581,0.51162297811489654,0.42784746400213702,0.527385798895876,0.72320820257418905,0.55436402969652188,0.35097156948651098,0.26999284475895835,0.3064946767790161,0.34432710432172181,{"$f":"BP64-BP63","v":0.53648573660509624},0.48396713024709725,0.32081785028638998,0.28360421519814666,0.37018861617282089,0.35000890124226869,0.48619007662338048,0.30888033528403802,0.45197804743333186,0.49180586844728835,0.40899233207331315,0.31824761964866777,0.45928065202018542,0.36815597839137021,0.23371674582239038,{"$f":"CE64-CE63","v":0.19396018500410328},0.46652792560075118,0.31885575919499032,0.29432256696525905,0.20205983676472417,0.2245785906730513,0.21231231109090887,{"$f":"CL64-CL63","v":0.35781216071498867},0.3651487984613272,0.49157593353760221,0.4075812706646107,0.62866554171883426,0.19154319292065392,0.40332156791400009,5.2306445357287821E-3]
[]
["Across","min min",{"$f":"MIN(C63:CD63)","v":-0.65775517383121551}]
[null,"max max",{"$f":"MAX(C64:CD64)","v":1.6080779555031766}]
[null,"maxrange",{"$f":"C70-C69","v":2.2658331293343918}]