{"text_format":"1","workbook":"xlsx","n_sheets":5,"sheets":["Ag Balance Sheet Graphical","US AG B-S Background Data","Sample Graphs","Balance Sheet Table ","graphhelp - BJS"],"not_rendered":{"charts":6,"images":3,"macros":0,"external_links":0,"defined_names":48,"comments":0,"pivot_tables":0},"unopened":[],"bounds":{"document_bytes":16777216,"sheet_cells":100000,"rows_first":2000,"rows_last":500,"rows_between":2000,"halvings":0,"cell_chars":16384,"cell_head_chars":4096},"cells_cut":0,"cells_raw":0,"read":"whole","date_system":"1900"}

{"sheet":"Ag Balance Sheet Graphical","index":0,"n_rows":15,"n_cols":56,"rows_kept":15,"cut":false,"hidden":true,"merged":[]}
[]
[]
[]
[]
[]
[]
[]
[]
[]
[]
[]
[null,"Select Series to Graph",{"$f":"--C14","v":1960},{"$f":"--D14","v":1961},1962,1963,1964,1965,1966,1967,1968,1969,1970,1971,1972,1973,1974,1975,1976,1977,1978,1979,1980,1981,1982,1983,1984,1985,1986,1987,1988,1989,1990,1991,1992,1993,1994,1995,1996,1997,1998,1999,2000,2001,2002,2003,2004,2005,2006,2007,2008,2009,2010,2011,2012,2013]
[null,"Number of Farms                                                                                                                              ",2,3,4,5,6,7,8,9,10,11,12,13,14,15,16,17,18,19,20,21,22,23,24,25,26,27,28,29,30,31,32,33,34,35,36,37,38,39,40,41,42,43,44,45,46,47,48,49,50,51,52,53,54,54]
[null,"Year",1960,1961,1962,1963,1964,1965,1966,1967,1968,1969,1970,1971,1972,1973,1974,1975,1976,1977,1978,1979,1980,1981,1982,1983,1984,1985,1986,1987,1988,1989,1990,1991,1992,1993,1994,1995,1996,1997,1998,1999,2000,2001,2002,2003,2004,2005,2006,2007,2008,2009,2010,2011,2012,2013]
[null,{"$f":"B13","v":"Number of Farms                                                                                                                              "},{"$f":"IFERROR(--VLOOKUP($B$13,'US AG B-S Background Data'!$C$11:$BE$48,C13,0),\"\")","v":3962520},{"$f":"IFERROR(--VLOOKUP($B$13,'US AG B-S Background Data'!$C$11:$BE$48,D13,0),\"\")","v":3825410},{"$f":"IFERROR(--VLOOKUP($B$13,'US AG B-S Background Data'!$C$11:$BE$48,E13,0),\"\")","v":3692410},{"$f":"IFERROR(--VLOOKUP($B$13,'US AG B-S Background Data'!$C$11:$BE$48,F13,0),\"\")","v":3572200},{"$f":"IFERROR(--VLOOKUP($B$13,'US AG B-S Background Data'!$C$11:$BE$48,G13,0),\"\")","v":3456690},{"$f":"IFERROR(--VLOOKUP($B$13,'US AG B-S Background Data'!$C$11:$BE$48,H13,0),\"\")","v":3356170},{"$f":"IFERROR(--VLOOKUP($B$13,'US AG B-S Background Data'!$C$11:$BE$48,I13,0),\"\")","v":3257040},{"$f":"IFERROR(--VLOOKUP($B$13,'US AG B-S Background Data'!$C$11:$BE$48,J13,0),\"\")","v":3161730},{"$f":"IFERROR(--VLOOKUP($B$13,'US AG B-S Background Data'!$C$11:$BE$48,K13,0),\"\")","v":3070860},{"$f":"IFERROR(--VLOOKUP($B$13,'US AG B-S Background Data'!$C$11:$BE$48,L13,0),\"\")","v":3000180},{"$f":"IFERROR(--VLOOKUP($B$13,'US AG B-S Background Data'!$C$11:$BE$48,M13,0),\"\")","v":2949140},{"$f":"IFERROR(--VLOOKUP($B$13,'US AG B-S Background Data'!$C$11:$BE$48,N13,0),\"\")","v":2902310},{"$f":"IFERROR(--VLOOKUP($B$13,'US AG B-S Background Data'!$C$11:$BE$48,O13,0),\"\")","v":2859880},{"$f":"IFERROR(--VLOOKUP($B$13,'US AG B-S Background Data'!$C$11:$BE$48,P13,0),\"\")","v":2823260},{"$f":"IFERROR(--VLOOKUP($B$13,'US AG B-S Background Data'!$C$11:$BE$48,Q13,0),\"\")","v":2795460},{"$f":"IFERROR(--VLOOKUP($B$13,'US AG B-S Background Data'!$C$11:$BE$48,R13,0),\"\")","v":2521420},{"$f":"IFERROR(--VLOOKUP($B$13,'US AG B-S Background Data'!$C$11:$BE$48,S13,0),\"\")","v":2497270},{"$f":"IFERROR(--VLOOKUP($B$13,'US AG B-S Background Data'!$C$11:$BE$48,T13,0),\"\")","v":2455830},{"$f":"IFERROR(--VLOOKUP($B$13,'US AG B-S Background Data'!$C$11:$BE$48,U13,0),\"\")","v":2436250},{"$f":"IFERROR(--VLOOKUP($B$13,'US AG B-S Background Data'!$C$11:$BE$48,V13,0),\"\")","v":2437300},{"$f":"IFERROR(--VLOOKUP($B$13,'US AG B-S Background Data'!$C$11:$BE$48,W13,0),\"\")","v":2439510},{"$f":"IFERROR(--VLOOKUP($B$13,'US AG B-S Background Data'!$C$11:$BE$48,X13,0),\"\")","v":2439920},{"$f":"IFERROR(--VLOOKUP($B$13,'US AG B-S Background Data'!$C$11:$BE$48,Y13,0),\"\")","v":2406550},{"$f":"IFERROR(--VLOOKUP($B$13,'US AG B-S Background Data'!$C$11:$BE$48,Z13,0),\"\")","v":2378620},{"$f":"IFERROR(--VLOOKUP($B$13,'US AG B-S Background Data'!$C$11:$BE$48,AA13,0),\"\")","v":2333810},{"$f":"IFERROR(--VLOOKUP($B$13,'US AG B-S Background Data'!$C$11:$BE$48,AB13,0),\"\")","v":2292530},{"$f":"IFERROR(--VLOOKUP($B$13,'US AG B-S Background Data'!$C$11:$BE$48,AC13,0),\"\")","v":2249820},{"$f":"IFERROR(--VLOOKUP($B$13,'US AG B-S Background Data'!$C$11:$BE$48,AD13,0),\"\")","v":2212960},{"$f":"IFERROR(--VLOOKUP($B$13,'US AG B-S Background Data'!$C$11:$BE$48,AE13,0),\"\")","v":2200940},{"$f":"IFERROR(--VLOOKUP($B$13,'US AG B-S Background Data'!$C$11:$BE$48,AF13,0),\"\")","v":2174520},{"$f":"IFERROR(--VLOOKUP($B$13,'US AG B-S Background Data'!$C$11:$BE$48,AG13,0),\"\")","v":2145820},{"$f":"IFERROR(--VLOOKUP($B$13,'US AG B-S Background Data'!$C$11:$BE$48,AH13,0),\"\")","v":2116760},{"$f":"IFERROR(--VLOOKUP($B$13,'US AG B-S Background Data'!$C$11:$BE$48,AI13,0),\"\")","v":2107840},{"$f":"IFERROR(--VLOOKUP($B$13,'US AG B-S Background Data'!$C$11:$BE$48,AJ13,0),\"\")","v":2201590},{"$f":"IFERROR(--VLOOKUP($B$13,'US AG B-S Background Data'!$C$11:$BE$48,AK13,0),\"\")","v":2197690},{"$f":"IFERROR(--VLOOKUP($B$13,'US AG B-S Background Data'!$C$11:$BE$48,AL13,0),\"\")","v":2196400},{"$f":"IFERROR(--VLOOKUP($B$13,'US AG B-S Background Data'!$C$11:$BE$48,AM13,0),\"\")","v":2190500},{"$f":"IFERROR(--VLOOKUP($B$13,'US AG B-S Background Data'!$C$11:$BE$48,AN13,0),\"\")","v":2190510},{"$f":"IFERROR(--VLOOKUP($B$13,'US AG B-S Background Data'!$C$11:$BE$48,AO13,0),\"\")","v":2192330},{"$f":"IFERROR(--VLOOKUP($B$13,'US AG B-S Background Data'!$C$11:$BE$48,AP13,0),\"\")","v":2187280},{"$f":"IFERROR(--VLOOKUP($B$13,'US AG B-S Background Data'!$C$11:$BE$48,AQ13,0),\"\")","v":2166780},{"$f":"IFERROR(--VLOOKUP($B$13,'US AG B-S Background Data'!$C$11:$BE$48,AR13,0),\"\")","v":2148630},{"$f":"IFERROR(--VLOOKUP($B$13,'US AG B-S Background Data'!$C$11:$BE$48,AS13,0),\"\")","v":2135360},{"$f":"IFERROR(--VLOOKUP($B$13,'US AG B-S Background Data'!$C$11:$BE$48,AT13,0),\"\")","v":2126860},{"$f":"IFERROR(--VLOOKUP($B$13,'US AG B-S Background Data'!$C$11:$BE$48,AU13,0),\"\")","v":2112970},{"$f":"IFERROR(--VLOOKUP($B$13,'US AG B-S Background Data'!$C$11:$BE$48,AV13,0),\"\")","v":2098690},{"$f":"IFERROR(--VLOOKUP($B$13,'US AG B-S Background Data'!$C$11:$BE$48,AW13,0),\"\")","v":2088790},{"$f":"IFERROR(--VLOOKUP($B$13,'US AG B-S Background Data'!$C$11:$BE$48,AX13,0),\"\")","v":2204600},{"$f":"IFERROR(--VLOOKUP($B$13,'US AG B-S Background Data'!$C$11:$BE$48,AY13,0),\"\")","v":2184500},{"$f":"IFERROR(--VLOOKUP($B$13,'US AG B-S Background Data'!$C$11:$BE$48,AZ13,0),\"\")","v":2169660},{"$f":"IFERROR(--VLOOKUP($B$13,'US AG B-S Background Data'!$C$11:$BE$48,BA13,0),\"\")","v":2149520},{"$f":"IFERROR(--VLOOKUP($B$13,'US AG B-S Background Data'!$C$11:$BE$48,BB13,0),\"\")","v":2131240},{"$f":"IFERROR(--VLOOKUP($B$13,'US AG B-S Background Data'!$C$11:$BE$48,BC13,0),\"\")","v":2109810},{"$f":"IFERROR(--VLOOKUP($B$13,'US AG B-S Background Data'!$C$11:$BE$48,BD13,0),\"\")","v":2109810}]

{"sheet":"US AG B-S Background Data","index":1,"n_rows":111,"n_cols":67,"rows_kept":111,"cut":false,"hidden":false,"merged":[]}
[]
[]
[null,null,"Table 1--Farm business balance sheet, 1960-2023f                                            "]
[null,null,"                                                                                                                                   "]
[null,null,"United States                                                                                                                      "]
[null,null,"                                                                                                                                   "]
[null,null,"Year ","1960","1961","1962","1963","1964","1965","1966","1967","1968","1969",1970,"1971","1972","1973","1974","1975","1976","1977","1978","1979","1980","1981","1982","1983","1984","1985","1986","1987","1988","1989","1990","1991","1992","1993","1994","1995","1996","1997","1998","1999","2000","2001","2002","2003","2004","2005","2006","2007","2008","2009","2010",2011,2012,2013,2014,2015,2016,2017,2018,2019,2020,2021,2022,2023]
[null,null,"                                                                                                                                   "]
[null,null,null,null,null,null,null,"Numbers",null,null,null,null,null,null,null,null,null,"Numbers",null,null,null,null,null,null,null,null,null,"Numbers",null,null,null,null,null,null,null,null,null,"Numbers"]
[null,null,"                                                                                                                                   "]
[null,null,"Number of Farms                                                                                                                              ",3962520,3825410,3692410,3572200,3456690,3356170,3257040,3161730,3070860,3000180,2949140,2902310,2859880,2823260,2795460,2521420,2497270,2455830,2436250,2437300,2439510,2439920,2406550,2378620,2333810,2292530,2249820,2212960,2200940,2174520,2145820,2116760,2107840,2201590,2197690,2196400,2190500,2190510,2192330,2187280,2166780,2148630,2135360,2126860,2112970,2098690,2088790,2204600,2184500,2169660,2149520,2131240,2109810,2102010,2082440,2063890,2052261,2033724,2020919,2015068,2010664,2003754,"1,988,288(f)","not available"]
[null,null,null,null,null,null,null,"Thousand dollars",null,null,null,null,null,null,null,null,null,"Thousand dollars",null,null,null,null,null,null,null,null,null,"Thousand dollars",null,null,null,null,null,null,null,null,null,"Thousand dollars"]
[null,null,"Farm assets                                                                                                                        ",174350138,181631733,188870449,196695336,204238278,220817624,234022906,246072706,257160621,267822833,278823015,301760581,339933247,418493949,449181770,510786259,590716642,651508183,777744402,914682365,1000422127,997897469,962488416,959300462,897811233,775907905,722017259,756478652,788525662,813731058,840608505,844167552,867762818,909174821,934724297,965741060,1002916227,1051280908,1083354897,1138826915,1203214765,1255926409,1250530486,1322433781,1491953134,1709371086,1906665033,1961943172,2005861900,1976913105,2170832085,2318720178,2638246236,2767754249,2930596397,2880014647,2914440909,3005944863,3026678682,3075148145,3174623195,3497614240,3848184726,4047027328]
[null,null," Real estate                                                                                                                       ",123280105,129097425,134614477,142353253,150485891,161524641,171233350,180942601,189388755,195309483,202418081,217562382,243002153,298300207,335556227,383559733,456539435,509308292,601773349,706063787,782820207,785561830,750023254,753422019,661750215,586183371,542407976,563678551,582311234,600132424,619149240,624769057,640790780,677577858,704137650,740491453,769535891,808228878,840421562,886981055,946427649,996242486,1003708881,1016350076,1161561634,1372626160,1536641152,1548985369,1568551418,1560555911,1660113798,1802702005,2073664481,2251001916,2383150407,2365717294,2401352455,2472843963,2510163458,2545995513,2640942455,2895998249,3188219412,3389550688]
[null,null," Livestock and poultry                                                                                            ",15607597,16428026,17306979,15864578,14469305,17584671,18973530,18845528,20249055,22838634,23705761,27263869,33679316,42370002,24567475,29356695,29047508,31931218,50105786,61386773,60633203,53544275,52993051,49540878,49525922,46259169,47751409,57976580,62211338,66212752,70856057,68119760,70962162,72778679,67912189,57778086,60314851,67075193,63391480,73177382,76787712,78535901,67877550,74506996,83334116,87758593,86698438,89358661,86198460,80267748,90715139,101446630,95743147,110836501,127852850,118183719,108996528,107085709,97131860,99159424,98288022,104112399,132301505,125476823]
[null,null," Machinery and motor vehicles                                              ",19068447,19270293,19902285,20372604,21247171,22428938,24067400,26310099,27744429,28634424,30363934,32434438,34644365,39670896,48454284,57417012,63275288,69319935,78837918,91924442,97463497,101121601,103853547,101707294,125844857,86076967,79030185,78686237,80976113,84090265,86297804,85892466,84805549,85391600,86761586,87591746,88030611,88744926,89824706,89847429,90104683,92804006,136624880,137871242,149334862,144343034,155337507,194783471,189086640,191600286,207604913,223814646,243966688,247342759,245724348,239513055,255448333,272297744,270982438,278991092,278809005,308335490,322698486,337840893]
[null,null," Crops                                                           ",6359991,6471987,6527710,7408814,7012635,7892957,8107008,8016152,7393262,8278635,8700574,9950744,12949001,21379362,22515224,20535165,20584873,20443929,23800687,29876331,32831043,29511813,25885600,23746340,26128956,22904647,16279821,17828174,23651022,23936470,23178199,22238486,24208624,23325867,23297793,27445606,31692878,32670319,29939741,28273037,27932428,25238556,11699174,26693037,29607523,33402678,41144457,54231798,58759139,53423542,57218624,62461649,64766997,60458074,61724815,52541035,55681505,56796131,59725123,49594861,50552962,58135730,52532417,48984785]
[null,null," Purchased inputs                                                                                                                  ",null,null,null,null,null,null,null,null,null,null,null,null,null,null,null,null,null,null,null,null,null,null,null,null,1977708,1209904,2067459,3152585,3459088,2574449,2807529,2610686,3946496,3789676,5036672,3371612,4361892,4900371,5036405,4025649,4895715,4212374,11213419,9478695,10494785,10735654,11744226,15953866,19499249,18749862,19836910,20985068,21460770,20577855,20100471,16398086,14881507,15791469,16092337,13927346,14017731,18316363,19684039,20741153]
[null,null," Financial                                                                                                                         ",10033998,10364002,10518998,10696087,11023276,11386417,11641618,11958326,12385120,12761657,13634665,14549148,15658412,16773482,18088560,19917653,21269538,20504809,23226663,25431031,26674177,28157950,29732964,30883931,32583575,33273848,34480410,35156525,35916867,36784698,38319676,40537097,43049207,46311141,47578407,49062556,48980104,49661221,54741003,56522362,57066578,58893086,19406583,57533735,57620214,60504967,75099252,58630007,83766993,72315756,135342700,107310180,138635115,85892484,110685576,87661457,78080582,81129847,72583465,87479909,92013020,112716009,132748868,124432986]
[]
[]
[null,null,"Farm debt                                                                                                ",22445666,24138318,26665409,29560942,32157241,35810786,39223095,42206120,43921577,46420826,48501007,52825068,58099688,66768652,74672687,83503739,94137390,108404445,123865621,147520227,162431968,177687478,183962996,186178117,188813336,172154536,151307822,138507402,133138349,131030402,131115795,131872783,131565813,134311580,138929055,142985255,148572756,156907377,164626313,167696145,163929823,170664446,187029013,181095940,197577630,209073394,215684913,240735957,261063115,268346578,278930534,294472133,297521123,315332488,345201354,356738041,374164212,390425223,402605504,420494800,441253793,474115801,503894666,535085785]
[null,null," Real estate                                                                                                                       ",11309593,12318392,13488450,14981360,16850311,18915889,20696043,22613532,24729257,26415866,27238348,28826497,31379625,35188298,39563003,43750962,48484701,55834463,63424623,75778090,85272367,93905270,96769083,98071338,101393312,94089977,84087662,75809859,70829423,68761420,67632973,67449880,67879337,68432731,69911852,71722937,74422235,78513555,83100263,87206087,84723763,88541011,98118184,97396385,104161951,113886209,113365478,131710955,147901855,145979853,154065225,167190768,173368636,185160530,196780224,208769246,225980433,236243057,245773538,267943655,288645325,324257298,349067861,375860118]
[null,null,"  Farm Credit System                                                                                                               ",2222301,2462512,2666963,2905293,3266651,3766421,4388901,4970937,5433762,5976804,6368922,7000181,8014159,9616844,11839517,14043688,16223152,18771473,21566850,25969746,31575578,38293671,41493247,42124283,44266085,39638435,33101061,28194451,25885360,24340814,23461664,22774771,22866792,22409618,22137036,22480484,23450202,24924671,26787599,28044751,29692046,32854687,37815366,33207011,37077836,47867156,49693789,57823752,62837632,69074445,72478528,75287498,80343753,85250722,88797518,96662553,103749537,107185861,113029319,125191612,140511285,158077520,{"$f":"BM24/$BM$23*$BN$23","v":170172829.16662285},{"$f":"BN24/$BN$23*$BO$23","v":183234226.91429248}]
[null,null,"  Farm Service Agency                                                                                               ",623895,822065,921154,1024496,1125457,1314537,1467783,1636188,1824883,2028788,2168992,2319457,2505520,2653508,2821357,2946795,3189606,3462207,3571420,5967133,7094800,7726319,7922736,8186795,9046439,9231655,9033182,8675678,8171569,7423909,6913726,6336758,5755007,5253647,4918556,4572770,4285372,4021975,3777265,3583694,3418223,3347374,3181000,2178000,2396000,2453000,2374000,2555846,2464998,2637349,3475437,3334494,3743238,3717074,4325689,4857770,5914514,6027783,6620659,7988597,9290216,10625423,{"$f":"BM25/$BM$23*$BN$23","v":11438427.760013603},12316369.645996107]
[null,null,"  Farmer Mac",null,null,null,null,null,null,null,null,null,null,null,null,null,null,null,null,null,null,null,null,null,null,null,null,null,null,null,null,null,null,null,null,null,null,null,null,null,null,null,null,null,null,325693,915788,862208,770356,1454272,2829805,2427239,2069175,3600592,3770165,3811537,4481629,4728807,4843551,5456587,6238970,6544168,7642490,8668575,9543867,10274116.449827714,11062693.111062394]
[null,null,"  Commercial banks                                                                                                                 ",1355733,1401691,1606938,1844126,2090051,2259905,2418179,2676543,2918582,3115947,3333945,3716254,4207609,4774637,5204225,5475971,5884076,6734576,7388580,7463130,7430446,7252783,7238966,7979692,9145059,10087966,11106298,12458128,13134654,14195364,14740757,15674874,16881167,17635101,18971234,20151323,21213695,23215498,25193180,27578839,29756973,31082102,30421980,31980000,34891305,37166558,37455038,41061877,46395506,44244248,51227807,52946233,64559493,68903134,73254162,79163795,84417512,88358378,92942507,97876732,96848828,100815321,108529210.21225058,116859230.86692679]
[null,null,"  Life insurance companies                                                                                                         ",2651587,2828152,3043385,3405403,3865756,4339266,4727763,5034086,5235614,5222116,5038804,4980919,5035955,5304091,5581876,5938785,6511942,7735190,9160409,10654407,11337301,11482287,11171688,11016282,11296552,10596325,9650671,8606627,8225845,8247377,8782095,8591225,7888515,8086943,8122623,8224581,8629197,8920956,9943629,10633978,11053300,11205391,11421000,10026000,10726000,11307000,12001000,10806203,13737226,13291178,12436849,13003744,11487490,11977097,12403795,12527497,13204121,15041430,15855677,17814130,19182610,21108554,22723676.04069468,24467802.717733659]
[null,null,"  Individuals and others                                                                                                           ",4408545,4734961,5176176,5742101,6458587,7201849,7660952,8234921,9169138,9902199,10181409,10619908,11350228,12561253,13899119,15175336,16532391,18639262,20589756,24332811,26377883,27808051,27815219,27876341,27016085,24228530,21073725,17829262,15391379,14542381,13728224,14068465,14485871,15047423,15762403,16293778,16843769,17430456,17398591,17364826,10803221,10051456,14953145,18893637,17982825,14072424,10115426,16286248,19648041,14190626,10211729,18126226,8689061,10084246,12517927,9956273,12494207,12621457,9946574,10567719,13181494,22988761,24747747.171168435,26647228.83780336]
[null,null,"  CCC storage & drying loans                                                                                                       ",47523,69006,73829,59932,43809,33915,32456,60850,147276,170016,146276,189778,266154,277965,216909,170387,143534,491755,1147608,1390863,1456359,1342159,1127227,887945,623093,307067,122725,45713,20616,11575,6506,3786,1984,"NA","NA","NA","NA","NA","NA","NA","NA","NA","NA",195950,225778,249715,271954,347224,391213,472831,634283,722409,734065,746627,752327,757809,743955,769178,834632,862374,962317,1097852,1181854.1994221269,{"$f":"BN30/$BN$23*$BO$23","v":1272565.9061852049}]
[null,null,"                                                                                                                                   "]
[null,null," Nonreal estate                                                                                                                    ",11136073,11819926,13176959,14579582,15306930,16894897,18527052,19592588,19192320,20004960,21262659,23998571,26720062,31580354,35109684,39752777,45652689,52569982,60440998,71742137,77159601,83782208,87193913,88106779,87420023,78064559,67220161,62697543,62308927,62268982,63482823,64422903,63686475,65878849,69017203,71262319,74150521,78393822,81526050,80490057,79206060,82123435,88910829,83699555,93415679,95187185,102319434,109025002,113161260,122366725,124865309,127281365,124152487,130171958,148421130,147968795,148183780,154182166,156831966,152551145,152608468,149858504,154826805,159225667]
[null,null,"  Farm Credit System                                                                                                               ",1509061,1673393,1868097,2146954,2311117,2615293,3051943,3553601,3852970,4532871,5303116,6070545,6591759,7827546,9515860,10680641,12115639,13338805,14707824,17842439,19511718,21010020,20309620,19156137,17868609,13833717,10198209,9279862,8674622,9444862,9745477,10115291,10237792,10429835,11063985,12342519,13877867,14844151,16382637,15509734,16687385,20000000,20491000,20167247,22040316,24052920,26965061,31421824,36023495,38986948,39230652,41085284,42679741,44015862,47887186,48283041,49376260,51129210,53387956,52951543,55301307,56596548,{"$f":"BM33/$BM$32*$BN$32","v":58472909.224218197},{"$f":"BN33/$BN$32*$BO$32","v":60134212.371408135}]
[null,null,"  Farm Service Agency                                                                                             ",369168,436551,489448,522531,566642,630978,648961,702280,723062,690893,715373,697695,710248,802512,960889,1639435,1745859,2937219,5433200,8792794,10827139,13716495,14008779,13877781,14832430,15884319,15572185,15246835,13925583,11705845,10119848,8865776,7711693,6735161,6498477,5496596,4983948,4549888,4245007,4263493,4208278,4150979,3973000,3646000,3244000,3008000,2734000,3117195,2972189,3344724,3642459,3545409,3355025,2836595,3550210,3748543,3783890,3959372,3892902,3809969,3678478,3364964,{"$f":"BM34/$BM$32*$BN$32","v":3476523.5949507412},3575296.8502273853]
[null,null,"  Commercial banks                                                                                                                 ",4716945,5023481,5650609,6286305,6605571,7254628,8064148,8761610,9185089,9761598,10491171,11810931,13527275,16222596,17234913,19050762,22001974,24294841,26717825,29327405,29985795,31214694,34322015,37075109,37618984,33737631,29678316,27588797,28308722,29243276,31267500,32854335,32911989,34938855,36729740,37748207,38368022,41049702,42188408,41351980,44854281,45025160,44752500,44479303,46544934,48650364,48372335,54001860,56307741,57155563,56176988,59189718,59878041,63720321,70737959,73177901,73233553,73307370,75375051,71125036,63116253,65084336,67242095.239563316,69152544.128240556]
[null,null,"  Individuals and others                                                                                                           ",4540901,4686498,5168802,5623796,5823604,6393999,6762001,6575100,5431198,5019600,4752999,5419400,5890780,6727700,7398021,8381940,9789217,11999118,13582149,15779499,16834950,17840998,18553499,17997751,17100000,14608892,11771450,10582049,11400000,11874999,12349997,12587500,12825001,13774998,14725001,15674997,16920683,17950081,18709998,19364850,13456116,12947295,19694329,15407005,21586429,19475901,24248038,20484123,17857835,22879490,25815210,23460955,18239680,19599180,26245776,22759310,21790077,25786214,24176057,24664597,30512430,24812656,25635276.941267744,{"$f":"BN36/$BN$32*$BO$32","v":26363613.650123931}]
[null,null,"Year ",1960,1961,1962,1963,1964,1965,1966,1967,1968,1969,1970,1971,1972,1973,1974,1975,1976,1977,1978,1979,1980,1981,1982,1983,1984,1985,1986,1987,1988,1989,1990,1991,1992,1993,1994,1995,1996,1997,1998,1999,2000,2001,2002,2003,2004,2005,2006,2007,2008,2009,2010,2011]
[null,null,"Equity                                                                                                                             ",{"$f":"D13-D22","v":151904472},{"$f":"E13-E22","v":157493415},162205040,167134394,172081037,185006838,194799811,203866586,213239044,221402007,230322008,248935513,281833559,351725297,374509083,427282520,496579252,543103738,653878781,767162138,837990159,820209991,778525420,773122345,708997897,603753369,570709437,617971250,655387313,682700656,709492710,712294769,736197005,774863241,795795242,822755805,854343471,894373531,918728584,971130770,1039284942,1085261963,1063501473,1141337841,1294375504,1500297692,1690980120,1721207215,1744798785,1708566527,1891901551,2024248045,2340725113,2452421761,2585395043,2523276605,2540276697,2615519640,2624073179,2654653345,2733369402,3023498439,3344290061,3511941543]
[null,null,"Real estate debt",{"$f":"D23","v":11309593},{"$f":"E23","v":12318392},13488450,14981360,16850311,18915889,20696043,22613532,24729257,26415866,27238348,28826497,31379625,35188298,39563003,43750962,48484701,55834463,63424623,75778090,85272367,93905270,96769083,98071338,101393312,94089977,84087662,75809859,70829423,68761420,67632973,67449880,67879337,68432731,69911852,71722937,74422235,78513555,83100263,87206087,84723763,88541011,98118184,97396385,104161951,113886209,113365478,131710955,147901855,145979853,154065225,167190768,173368636,185160530,196780224,208769246,225980433,236243057,245773538,267943655,288645325,324257298,349067861,375860118]
[null,null,"Nonreal estate debt",{"$f":"D32","v":11136073},{"$f":"E32","v":11819926},13176959,14579582,15306930,16894897,18527052,19592588,19192320,20004960,21262659,23998571,26720062,31580354,35109684,39752777,45652689,52569982,60440998,71742137,77159601,83782208,87193913,88106779,87420023,78064559,67220161,62697543,62308927,62268982,63482823,64422903,63686475,65878849,69017203,71262319,74150521,78393822,81526050,80490057,79206060,82123435,88910829,83699555,93415679,95187185,102319434,109025002,113161260,122366725,124865309,127281365,124152487,130171958,148421130,147968795,148183780,154182166,156831966,152551145,152608468,149858504,154826805,159225667]
[null,null,"Assets",{"$f":"D13","v":174350138},{"$f":"E13","v":181631733},188870449,196695336,204238278,220817624,234022906,246072706,257160621,267822833,278823015,301760581,339933247,418493949,449181770,510786259,590716642,651508183,777744402,914682365,1000422127,997897469,962488416,959300462,897811233,775907905,722017259,756478652,788525662,813731058,840608505,844167552,867762818,909174821,934724297,965741060,1002916227,1051280908,1083354897,1138826915,1203214765,1255926409,1250530486,1322433781,1491953134,1709371086,1906665033,1961943172,2005861900,1976913105,2170832085,2318720178,2638246236,2767754249,2930596397,2880014647,2914440909,3005944863,3026678682,3075148145,3174623195,3497614240,3848184726,4047027328]
[null,null,"Ratio:                                                                                                                             ",1960,1961,1962,1963,1964,1965,1966,1967,1968,1969,1970,1971,1972,1973,1974,1975,1976,1977,1978,1979,1980,1981,1982,1983,1984,1985,1986,1987,1988,1989,1990,1991,1992,1993,1994,1995,1996,1997,1998,1999,2000,2001,2002,2003,2004,2005,2006,2007,2008,2009,2010,2011,2012,2013,2014,2015,2016,2017,2018,2019,2020,2021,2022,2023]
[null,null," Debt/equity                                                                                                                       ",{"$f":"D22/D38","v":0.14776171961546991},{"$f":"E22/E38","v":0.15326556986525436},0.1643932210737718,0.17686929238514484,0.18687265930411612,0.19356466164780353,0.20135078570481776,0.20702813947156598,0.20597342858093098,0.20966759348301661,0.21057912537824003,0.21220382485161932,0.20614893487542413,0.18983181639050545,0.19938818680133319,0.19542980368118032,0.18957173426166424,0.19960172875849366,0.18943208527208655,0.1922934145115488,0.19383517366580436,0.21663656862233954,0.23629671077406825,0.24081326610731965,0.26631014957721377,0.28514049749343923,0.26512234105566401,0.22413243658179891,0.20314453203338101,0.19192950943934642,0.18480217365446927,0.18513793549984642,0.17871006280445273,0.17333585191970668,0.1745788962633682,0.17378820560251168,0.17390284006746978,0.17543830576533465,0.17918927947494884,0.17268132179562182,0.15773328023451724,0.15725645219171844,0.17586154579778376,0.15866988151495101,0.15264320855070818,0.13935460616572087,0.12755023577687005,0.1398645990453857,0.14962362264597748,0.15705948452073357,0.14743395810028595,0.14547235637814337,0.12710639166795662,0.1285800399485201,0.13351977096677678,0.14137888818574451,0.14729269942989995,{"$f":"BI22/BI38","v":0.14927252582205805},0.1534276967662265,0.15839913742108577,{"$f":"BL22/BL38","v":0.16143218427671563},0.15681033430822949,{"$f":"BN22/BN38","v":0.15067313444974534},0.15236181424105213]
[null,null," Debt/assets                                                                                                                       ",{"$f":"D22/D13","v":0.12873902055643913},{"$f":"E22/E13","v":0.13289703071874562},0.14118359511074174,0.15028796615696063,0.15744962851674651,0.16217358628947118,0.16760365756675119,0.17151890059680167,0.17079433402052641,0.17332661849634007,0.17394908020774397,0.17505622445762722,0.17091499143653929,0.15954508341051307,0.16624157966161449,0.1634807858055555,0.15936133047018505,0.16638999759117376,0.15926263266116059,0.16128027897422073,0.16236343001237916,0.17806185857757698,0.19113268579847512,0.19407695959183224,0.21030404728741015,0.22187496079189964,0.20956261102340215,0.18309492493120613,0.1688446621538108,0.1610242115153481,0.15597724055861176,0.15621636094347299,0.15161494623983762,0.14772910214591173,0.14863105136551297,0.14805754971213506,0.148140743962656,0.14925352092478028,0.15195972571488731,0.14725340856560279,0.13624319428959136,0.13588729783609479,0.14955973892187063,0.13694140500786253,0.13242884477898084,0.12231012663800259,0.11312155479173777,0.12270281852995485,0.1301500940817511,0.13574019885917038,0.12849014713176216,0.12699770148806633,0.11277231023404746,0.11393081163688243,0.11779218535632424,0.12386674539020148,0.12838284380532622,{"$f":"BI22/BI13","v":0.1298843594257903},0.13301891158593757,0.13673968868254313,{"$f":"BL22/BL13","v":0.13899406823933319},0.13555405727076408,{"$f":"BN22/BN13","v":0.13094347124125039},0.13221699327254952]
[null,null," Real estate value/equity",{"$f":"D14/D38","v":0.8115633685886483},{"$f":"E14/E38","v":0.81970046176216316},0.82990317070295716,0.85172925567911528,0.87450595151864408,0.87307389686861192,0.87902215675147655,0.8875539859190068,0.88815233574204167,0.88214865640310114,0.87884819500184286,0.8739708504346666,0.86221865792781616,0.84810563682600293,0.89598955601298458,0.89767241823981003,0.91936872747152154,0.9377734977033062,0.92031331568778951,0.92035796870882591,0.9341639619421831,0.95775696299705282,0.96338954995201054,0.97451848840302246,0.93335991234964133,0.97089871642604453,0.95041003501051269,0.91214364907752588,0.88849939943832879,0.87905646307156915,0.87266469587827056,0.87712150108461628,0.87040666512898945,0.87444831829362779,0.88482264386295484,0.9000136474272582,0.90073362426386472,0.90368157149766992,0.91476588040935491,0.91334872954339608,0.91065271010151905,0.91797420343202429,0.94377761242649449,0.89049012438728037,0.89739154550625677,0.91490253388992082,0.90872810024519979,0.89994124792231944,0.89898699579848684,0.91337146452243467,0.87748424177913265,0.89055390689533798,0.88590687966015769,0.91786900271270266,0.92177418435624348,0.93755765392989887,0.94531137408611199,{"$f":"BI14/BI38","v":0.94545035150261769},0.95659049377448779,0.95906891865762611,{"$f":"BL14/BL38","v":0.96618570950111193},0.95783024447594234,{"$f":"BN14/BN38","v":0.95333220320209544},0.96515008763629639]
[null,null," Real estate value/assets",{"$f":"D14/D13","v":0.70708349539706128},{"$f":"E14/E13","v":0.71076470431518701},0.71273445746931008,0.72372459812671919,0.73681531431634961,0.73148437191770521,0.73169482819771492,0.7353217020338696,0.73646094905020465,0.72924881277766185,0.72597335983903621,0.72097681307155226,0.71485256339165903,0.71279455225767197,0.74703883686107742,0.75092022590999263,0.77285690386897887,0.78173736767938651,0.77374179415823041,0.77192237875931935,0.78248989688729664,0.78721697810018199,0.77925431779949861,0.78538690310773562,0.73707054520668935,0.75548060178611021,0.75123962653086662,0.74513477612319989,0.73848101851630032,0.73750708922799901,0.73654886468225778,0.74010077207990099,0.73844000538866139,0.74526685335910769,0.753310524033591,0.76675983208169696,0.76729827505323633,0.76880391515680413,0.77575830812901192,0.77885501590906814,0.78658247598881481,0.79323316944440492,0.80262647911168161,0.76854515560805992,0.77855101982043895,0.80300068910841516,0.80593136466252069,0.78951592029088602,0.78198375371704298,0.78939024029586768,0.76473616244712916,0.77745560766841271,0.78600111418864538,0.81329544225730854,0.81319638877587819,0.82142543839639026,0.82394961159941638,{"$f":"BI14/BI13","v":0.82265113822881186},0.8293458677752038,0.82792613329527898,{"$f":"BL14/BL13","v":0.83189162706284581},0.82799246866058052,{"$f":"BN14/BN13","v":0.82849957551647946},0.83754084499228765]
[null,null," Real estate debt to D",{"$f":"D23/D22","v":0.5038653341807724},{"$f":"E23/E22","v":0.51032520161512496},0.50584073171350941,0.50679575772652985,0.52399741010119616,0.52821764370097879,0.52764941165402679,0.53578798524953253,0.56303208329700916,0.56905204573481738,0.56160376216518559,0.54569730038019071,0.54009971619813169,0.52701824802453701,0.52981892830507094,0.52394015554201712,0.5150419084276715,0.51505695176982824,0.51204379785089849,0.51367932073477629,0.52497281200212997,0.52848558073405716,0.52602471749264179,0.52676082227214704,0.53700291593809879,0.54654369955143089,0.55573902848195122,0.54733435112731377,0.53199865802752289,0.52477454812357216,0.51582628164669253,0.51147688298957028,0.51593446239715779,0.50950730383783738,0.50321980524520227,0.50161072202864554,0.50091441394544767,0.50038154037843607,0.50478117067470252,0.52002439889122076,0.51682946671637653,0.51880173683041164,0.52461477728057093,0.53781650212588972,0.52719506251795811,0.54471880338824941,0.5256068976878322,0.54711791558416845,0.56653677406706804,0.54399744572110775,0.55234263094337321,0.56776431201386379,0.58271034423327317,0.58719141555753684,0.57004476291828221,0.58521722386203268,0.6039605760050617,{"$f":"BI23/BI22","v":0.60509168742922126},0.61045747154018049,0.63721038880861314,{"$f":"BL23/BL22","v":0.65414808796895718},0.68392004087625846,{"$f":"BN23/BN22","v":0.69273974215873124},0.70242964499608229]
[null,null," E/A",{"$f":"D38/D41","v":0.87126097944356085},{"$f":"E38/E41","v":0.86710296928125441},0.85881640488925826,0.84971203384303939,0.84255037148325351,0.83782641371052879,0.83239634243324878,0.82848109940319836,0.82920566597947354,0.82667338150365988,0.82605091979225598,0.82494377554237275,0.82908500856346068,0.8404549165894869,0.83375842033838554,0.83651921419444453,0.84063866952981492,0.83361000240882621,0.84073736733883941,0.8387197210257793,0.83763656998762082,0.82193814142242305,0.80886731420152491,0.80592304040816776,0.78969595271258985,0.77812503920810039,0.79043738897659788,0.81690507506879384,0.83115533784618922,0.83897578848465193,0.84402275944138827,0.84378363905652698,0.84838505376016238,0.85227089785408827,0.85136894863448698,0.85194245028786497,0.85185925603734403,0.85074647907521972,0.84804027428511264,0.85274659143439724,0.86375680571040869,0.86411270216390523,0.85044026107812931,0.86305859499213744,0.86757115522101913,0.87768987336199744,0.8868784452082622,0.8772971814700451,0.86984990591824896,0.86425980114082956,0.8715098528682379,0.87300229851193367,0.88722768976595257,0.88606918836311754,0.8822078146436757,0.87613325426257804,0.87161715619467373,{"$f":"BI38/BI41","v":0.87011564057420965},0.86698108874445756,0.86326031131745684,{"$f":"BL38/BL41","v":0.86100593176066675},0.86444594272923592,{"$f":"BN38/BN41","v":0.86905652901861241},0.86778300672745046]
[]
[]
[null,null,"Lender Shares of Debt through time: "]
[null,null," Real estate                                                                                                                       ","Lender Shares"]
[null,null,"Year",1960,1961,1962,1963,1964,1965,1966,1967,1968,1969,1970,1971,1972,1973,1974,1975,1976,1977,1978,1979,1980,1981,1982,1983,1984,1985,1986,1987,1988,1989,1990,1991,1992,1993,1994,1995,1996,1997,1998,1999,2000,2001,2002,2003,2004,2005,2006,2007,2008,2009,2010,2011,2012,2013,2014,2015,2016,2017,2018,2019,2020,2021,2022,2023]
[null,null,"Farm Credit System",{"$f":"D24/D$23","v":0.19649699153630021},0.19990531231673744,0.19772197695065036,0.19392718685085999,0.19386295006661894,0.19911414155581056,0.21206474107151788,0.21982134414031387,0.21973009540885113,0.2262581132112042,0.23382188963882833,0.24283842049902907,0.25539371487071627,0.27329665106280504,0.29925728843182103,0.32099152471207376,0.33460352782210617,0.33619868431438127,0.34003907283768953,0.34270784602778981,0.37029085870221007,0.40779043604262039,0.42878619610356339,0.42952695312467337,0.43657795693664686,0.42128222647987257,0.39364943931964713,0.37191008362118178,0.36546055161285163,0.35398940277847663,0.34689683092890211,0.33765472970448573,{"$f":"AJ24/AJ$23","v":0.33687412120716498},0.32746929243551598,0.31664210526135111,0.31343507307850488,0.31509671807088296,0.31745691556063155,0.32235275837815341,0.32159166825132285,0.35045712027686965,0.37106744805522945,0.38540629736889548,0.34094705876403936,0.3559633402027963,0.42030686964037939,0.43835027979152524,0.43902006480782102,0.42486033728244993,{"$f":"BA24/BA$23","v":0.47317793230001404},0.47044054230927196,0.45030894289569862,0.46342726604828338,0.46041519755857258,0.4512522457541262,{"$f":"BG24/BG$23","v":0.46301145811486044},0.45910849723878527,{"$f":"BI24/BI$23","v":0.45371009993322259},0.45989214266020778,0.46723111245160853,{"$f":"BL24/BL$23","v":0.48679563751812022},0.48750643694070378,{"$f":"BN24/BN$23","v":0.48750643694070378},0.48750643694070378]
[null,null,"Farm Service Agency",{"$f":"D25/D$23","v":5.5165115137211389E-2},6.6734765381715411E-2,6.8292057278634688E-2,6.838471273636039E-2,6.6791467528403481E-2,6.9493799630564554E-2,7.0920948511751736E-2,7.2354376131954973E-2,7.3794493704359976E-2,7.6801873540697091E-2,7.9630086229899116E-2,8.0462672935945015E-2,7.9845441110274584E-2,7.5408819147774642E-2,7.1313014333113184E-2,6.7353833271140418E-2,6.5785823862252957E-2,6.2008423005698109E-2,5.6309676448530091E-2,7.8744832444312074E-2,8.3201630840152474E-2,8.2277799744359392E-2,8.1872595609901566E-2,8.3477957647523887E-2,8.9221259485043752E-2,9.8115179685929782E-2,0.10742577192834782,0.11443997013633807,0.11536969600895944,0.10796619674230114,0.10222419174150454,9.3947654169288367E-2,{"$f":"AJ25/AJ$23","v":8.4782899396910721E-2},7.6770967974374715E-2,7.0353679087202553E-2,6.3756033861245814E-2,5.7581877244079004E-2,5.1226504773602466E-2,4.5454308610310898E-2,4.1094539650655348E-2,4.034550495591184E-2,3.7805915724183452E-2,3.2420086372572897E-2,2.2362226277700143E-2,2.3002641338774464E-2,2.1539043414817681E-2,2.0941119306178906E-2,1.9404961417218484E-2,1.6666444109169558E-2,{"$f":"BA25/BA$23","v":1.8066527303599901E-2},2.2558218442870544E-2,1.9944247160824095E-2,2.1591206381758692E-2,2.0074872328352051E-2,2.1982335989209973E-2,{"$f":"BG25/BG$23","v":2.3268609208848701E-2},2.6172681950742169E-2,{"$f":"BI25/BI$23","v":2.5515175245975588E-2},2.6938046519882054E-2,2.9814466030180859E-2,{"$f":"BL25/BL$23","v":3.2185575844680667E-2},3.2768493000888452E-2,{"$f":"BN25/BN$23","v":3.2768493000888452E-2},3.2768493000888452E-2]
[null,null,"Commercial banks",{"$f":"D27/D$23","v":0.11987460556714995},0.11378847174209102,0.11913437051699788,0.12309469901263971,0.12403634567931714,0.11947125509142076,0.11684257710519833,0.11836023669367528,0.11802141892091622,0.11795740484146913,0.12239894284337655,0.12891798819676217,0.13408729390488255,0.13568820520958416,0.13154271934311962,0.12516229928841335,0.12135943666023639,0.12061683122124771,0.1164938733652386,9.8486646997832744E-2,8.7137794591769693E-2,7.7235100862816319E-2,7.4806599128360032E-2,8.1366198960189567E-2,9.0193907464034703E-2,0.10721615969786027,0.1320799952792123,0.16433387641573111,0.18544064660811935,0.20644372963792779,0.2179522257582851,0.23239291159598802,0.24869375197344665,0.25769979865336662,0.27135933975830023,0.2809606500079605,0.28504512125979553,0.29568777009269293,0.30316606819884551,0.31624901367263503,0.35122345781548914,0.35104751627468994,0.31005445433030027,0.32834894231444012,0.33497169230249924,0.326348188479959,0.3303919205456885,0.31175749200208897,0.31369117040486072,{"$f":"BA27/BA$23","v":0.30308461812192672},0.33250726761993177,0.31668155863725683,0.37238277054910901,0.37212646777366643,0.3722638409030371,{"$f":"BG27/BG$23","v":0.37919280026522678},0.37356115695202691,{"$f":"BI27/BI$23","v":0.37401470808092363},0.37816319753675026,0.36528848574525863,{"$f":"BL27/BL$23","v":0.33552882936870709},0.31091149411847624,{"$f":"BN27/BN$23","v":0.31091149411847624},0.31091149411847624]
[null,null,"Life insurance co.",0.23445467931516192,0.22958775788268468,0.22562896403960425,0.2273093364020356,0.22941748671582382,0.22939794159291166,0.22843801590477947,0.22261387562102197,0.21171740016289209,0.19768861637926238,0.18498933929473255,0.17278960395361254,0.16048486876436541,0.15073451407055835,0.14108827886497899,0.13574067239938634,0.13430921230183518,0.1385379134030536,0.14442985337098496,0.14060009958023487,0.13295398496443755,0.12227521415997207,0.11544687263389693,0.11232927198362481,0.11141318670012476,0.11261906249589157,0.11476916791906998,0.11352912554553096,0.11613598772363287,0.11994192382879819,0.1298493118142241,0.12737198346386977,0.11621378977228372,0.11817361198108549,0.11618377667923888,0.11467155897422326,0.11594917836047251,0.11362313169999753,0.11965821335607565,0.12194077690929991,0.13046280770130572,0.12655594140437362,0.11640044214434299,0.10294016559238826,0.10297426168601623,9.9283311818729514E-2,0.10586115113456321,8.2044830667274415E-2,9.2880687669535986E-2,{"$f":"BA28/BA$23","v":9.1048029757914609E-2},8.0724569739861807E-2,7.7777883046748125E-2,6.6260485547108991E-2,6.4684935822985595E-2,6.3033747740829885E-2,{"$f":"BG28/BG$23","v":6.0006429299457258E-2},5.843037304030655E-2,{"$f":"BI28/BI$23","v":6.3669299707715857E-2},6.4513361076325479E-2,6.6484612221924047E-2,{"$f":"BL28/BL$23","v":6.645737290219407E-2},6.5098161645694097E-2,{"$f":"BN28/BN$23","v":6.5098161645694097E-2},6.5098161645694097E-2]
[null,null,"Individuals and others",0.38980580468280335,0.38438141926316355,0.38374876283042159,0.38328302637410755,0.38329185734316712,0.38073013644772391,0.37016506005519995,0.36415899117395728,0.37078097413116778,0.37485801146931924,0.37378951910005703,0.36840785753468414,0.36170693563100259,0.35697245146667794,0.35131607679022747,0.34685719596291392,0.34098160159840935,0.33383077401496636,0.32463347870431963,0.32110615350690419,0.30933682185695632,0.29612875826883839,0.28743910903857589,0.28424554582909839,0.26644839257248054,0.25750383592930415,0.25061613676451128,0.23518394883177399,0.2173020525664878,0.21149041133821844,0.2029812292888559,0.20857657567367058,0.21340619458319104,0.21988634356854764,0.22546109921390725,0.22717667013552442,0.22632710506476997,0.22200569060972974,0.20936866349027078,0.19912401298317628,0.12751110925042364,0.11352316724732225,0.15239932487947391,0.1939870458231073,0.17264293561475244,0.12356565490734703,8.9228451010456636E-2,0.12365143051312626,0.13284512895392692,{"$f":"BA29/BA$23","v":9.720948273594987E-2},6.6281855623162203E-2,0.10841642883056797,{"$f":"BD29/BD$23","v":5.011899038070531E-2},5.4462179385639048E-2,6.3613745047876355E-2,{"$f":"BG29/BG$23","v":4.7690324081545998E-2},5.5288888662320602E-2,{"$f":"BI29/BI$23","v":5.3425726708235068E-2},4.0470483848427975E-2,3.9440079295775823E-2,{"$f":"BL29/BL$23","v":4.5666750362230876E-2},7.0896664907138029E-2,{"$f":"BN29/BN$23","v":7.0896664907138029E-2},7.0896664907138029E-2]
[null,null,"CCC storage & drying loans",{"$f":"D30/D$23","v":4.2020079767680412E-3},5.6018675164745532E-3,5.4734976961770994E-3,4.0004378774690678E-3,2.5998926666694756E-3,1.7929371440062901E-3,1.5682224858152836E-3,2.6908666899093871E-3,5.9555367959498338E-3,6.4361319821958519E-3,5.3702228931064395E-3,6.5834568799670668E-3,8.4817457187585897E-3,7.8993590425999009E-3,5.4826222367397133E-3,3.8944743660722248E-3,2.9603977551599216E-3,8.8073740406529929E-3,1.8094045273237179E-2,1.8354421442926313E-2,1.7078909044473928E-2,1.4292690921393443E-2,1.1648627485702227E-2,9.0540724548899294E-3,6.1453067042528406E-3,3.263546339266296E-3,1.4594887892114303E-3,6.0299544944411522E-4,2.9106547994891895E-4,1.683356742778145E-4,9.6195682540822211E-5,5.6130566874247961E-5,2.9228334979170465E-5,0,0,0,0,0,0,0,0,0,0,2.0118816524863832E-3,2.167566926621795E-3,2.1926711073506715E-3,2.3989137151611533E-3,2.6362575535193713E-3,2.6450851478502417E-3,{"$f":"BA29/BA$23","v":9.720948273594987E-2},4.1169770790261077E-3,{"$f":"BC30/BC$23","v":4.3208665684220078E-3},4.2341280230179584E-3,4.0323226553736907E-3]
[null,null,"Total ",{"$f":"SUM(D54:D59)","v":0.9999992042153949},0.99999959410286665,0.99999962931248587,0.99999939925347225,1,1.0000002114624378,0.99999956513426269,0.9999996904508327,0.9999999191241371,1.0000001514241479,0.99999999999999989,1,0.99999999999999989,1.0000000000000002,1,1,0.99999999999999989,1,1,1,1,1,1,1,1.0000000098625834,1.0000000106281246,1,1,1,1,0.99999998521431255,0.99999998517417676,{"$f":"SUM(AJ54:AJ59)","v":0.9999999852679764},1.0000000146128905,1,0.99999998605745888,0.99999999999999989,1.0000000127366542,1.0000000120336563,1.0000000114670895,0.99999999999999989,0.99999998870579876,0.99668060509558554,0.99059732042416149,0.99172243807146032,0.99323573936858334,0.98717183550357357,0.97851503696104847,0.98358885356779335,1.0797960729553551,0.97662943081412446,{"$f":"SUM(BC54:BC59)","v":0.97744992713951773},0.97801484692998331,0.9757959755245893]
[null,null,"Total Real Estate Debt",{"$f":"D39","v":11309593},{"$f":"E39","v":12318392},13488450,14981360,16850311,18915889,20696043,22613532,24729257,26415866,27238348,28826497,31379625,35188298,39563003,43750962,48484701,55834463,63424623,75778090,85272367,93905270,96769083,98071338,101393312,94089977,84087662,75809859,70829423,68761420,67632973,67449880,67879337,68432731,69911852,71722937,74422235,78513555,83100263,87206087,84723763,88541011,98118184,97396385,104161951,113886209,113365478,131710955,147901855,145979853,154065225,{"$f":"BC39","v":167190768},173368636,{"$f":"BE39","v":185160530},{"$f":"BF39","v":196780224},{"$f":"BG39","v":208769246},{"$f":"BH39","v":225980433},{"$f":"BI39","v":236243057},{"$f":"BJ39","v":245773538},267943655,{"$f":"BL39","v":288645325},324257298,{"$f":"BN39","v":349067861},375860118]
[]
[]
[null,null,"Nonrealestate"]
[null,null,"Farm Credit System",{"$f":"D33/D$32","v":0.13551105492932741},{"$f":"E33/E$32","v":0.14157389817838115},0.14176996376781623,0.14725758255620772,0.15098501136413375,0.15479780669867357,0.16472901355272279,0.18137476274191036,0.20075582316259838,0.22658735633562876,0.24940982216758498,0.25295443632872971,0.24669699493960756,0.24786124943374604,0.27103234537798743,0.26867660088249934,0.26538719329325816,0.25373425085060902,0.24334184554662713,0.24870236301993626,0.25287479130432516,0.25076947124621018,0.23292474556108062,0.21741955860172801,0.204399500100795,0.17720867416928596,0.15171354617850438,0.14800997863664292,0.13921956961319523,0.15167843919465393,0.1535136047746333,0.15701389612945571,0.16075300132406448,0.15831841567238067,0.16030764098046685,0.17319839114413327,0.18715805112144795,0.18935358196976287,0.20094972097875463,0.19269130347367006,0.21068318509972594,0.24353584333144371,0.23046686472802994,0.24094807911463806,0.23593808058709287,0.25269073772903361,0.26353801957114031,0.28820750675152473,0.31833769790120753,0.31860743188150209,0.31418375779617058,0.32279103857819247,0.34376871564401285,0.33813628277758562,0.32264399280614559,0.32630556327771676,0.33320961308990771,{"$f":"BI33/BI$32","v":0.33161559035303734},0.34041501462782148,0.34710682112546581,{"$f":"BL33/BL$32","v":0.36237377731883136},0.37766657539835041,{"$f":"BN33/BN$32","v":0.37766657539835041},0.37766657539835041]
[null,null,"Farm Service Agency",3.315064475601049E-2,{"$f":"E34/E$32","v":3.6933479955796676E-2},3.7144230318998488E-2,3.5839916398151879E-2,3.701865756229368E-2,3.7347253433980689E-2,3.5027752931227264E-2,3.5844167192205539E-2,3.7674548986261172E-2,3.4536085050907377E-2,3.3644569101164631E-2,2.9072356016531152E-2,2.6581076046904382E-2,2.5411748076034867E-2,2.7368204168399808E-2,4.1240766651346142E-2,3.8242194233071354E-2,5.5872550993074338E-2,8.9892625532093304E-2,0.12256108289609494,0.14032134510389704,0.16371608396856765,0.16066235036383789,0.15751093340956204,0.16966856666235378,0.20347670189234016,0.2316594421724161,0.243180741548357,0.22349258237106218,0.18798837919013997,0.15941080629007315,0.13761838705095297,0.12108839435688661,0.10223555970141494,9.4157350885401711E-2,7.7131871052357984E-2,6.7213930971570648E-2,5.8038859235616809E-2,5.2069332440367218E-2,5.2969188480013127E-2,5.3130757924330536E-2,5.0545608570805645E-2,4.4685220514589959E-2,4.3560566122484164E-2,3.4726504530358332E-2,3.1600892494089407E-2,2.6720241630734588E-2,2.85915610439521E-2,2.6265075167950586E-2,2.7333607236771272E-2,2.9171104682085877E-2,2.7854894547996088E-2,2.7023421608944491E-2,2.1791137227881292E-2,2.3919842141075197E-2,2.5333334639915127E-2,2.5535115921594118E-2,{"$f":"BI34/BI$32","v":2.5679831219909053E-2},2.4822120765864784E-2,2.4975027227753681E-2,{"$f":"BL34/BL$32","v":2.4104022851471125E-2},2.2454274600258922E-2,{"$f":"BN34/BN$32","v":2.2454274600258922E-2},2.2454274600258922E-2]
[null,null,"Commercial banks",0.42357346256620265,{"$f":"E35/E$32","v":0.42500105330608667},0.42882496636742967,0.43117182646251451,0.43154120388608297,0.42939758673876499,0.43526341913435551,0.44719002920900497,0.47858148467720424,0.48795888619622335,0.49340823271445022,0.49215142851630622,0.50625911721312622,0.51369265841668521,0.49088772772776879,0.47923097297076883,0.48194256421565879,0.46214284418054397,0.44204804493797406,0.40878911928703771,0.38862039994219255,0.37256948396490097,0.39362856670969681,0.42079746213398633,0.43032457220927522,0.43217602753638817,0.44150914782843204,0.44002995460284622,0.45432851058404522,0.46962829744028894,0.49253480740766681,0.50997911410480834,0.51678145163474665,0.53035011282604527,0.53218238936747408,0.5297078109400285,0.51743428748127074,0.52363440068019651,0.51748377359138586,0.51375264897625805,0.5662986013948933,0.54826201558665932,0.50334138713294418,0.53141624229662865,0.4982561225080856,0.51110203542630239,0.47275803929877097,0.49531629451380338,0.49758849450774939,0.46708419302714854,0.44990068458485938,0.46503050937582263,0.48229433374137726,0.48950881571590094,0.47660302141615551,0.49454955012643037,0.49420761840465938,{"$f":"BI35/BI$32","v":0.4754594639693932},0.48061025390703832,0.46623731339414071,{"$f":"BL35/BL$32","v":0.41358290157267025},0.43430525637704215,{"$f":"BN35/BN$32","v":0.4343052563770422},0.43430525637704226]
[null,null,"Individuals and others",0.40776501734498327,{"$f":"E36/E$32","v":0.39649131475103988},0.39226061187562322,0.38573094893941406,0.3804553885070357,0.37845741231805086,0.36497986835682222,0.33559119397600767,0.28298809106976125,0.25091777239244667,0.22353737601680015,0.22582177913843288,0.22046281180036184,0.2130343440735338,0.21071169424367361,0.21085168465086099,0.21442804825801171,0.22825037299803527,0.22471748398330552,0.21994743479693113,0.21818347660973519,0.21294494888461282,0.21278433736538466,0.20427203450485915,0.19560736102757603,0.18713859640198569,0.1751178489441583,0.16877932521215386,0.1829593374316974,0.19070488417491713,0.19454076577533422,0.195388587192353,0.20137715268430229,0.2090959118001591,0.21335261876665734,0.21996192686348026,0.22819371693962878,0.22897315811442387,0.22949717298949232,0.24058685907005881,0.16988745558105023,0.15765652033429922,0.22150652762443593,0.18407511246624908,0.23107929237446317,0.2046063343505746,0.23698369949935416,0.18788463769071978,0.15780873242309248,0.18697476785457812,0.20674445293688418,0.18432356535459846,0.14691352900566543,0.15056376427863211,0.17683315037420885,0.15381155195593774,0.14704765258383881,{"$f":"BI36/BI$32","v":0.16724511445766044},0.15415261069927544,0.16168083825263979,{"$f":"BL36/BL$32","v":0.19993929825702725},0.16557389362434846,{"$f":"BN36/BN$32","v":0.16557389362434846},0.16557389362434846]
[null,null,"Total NonReal Estate Debt",{"$f":"D40","v":11136073},{"$f":"E40","v":11819926},13176959,14579582,15306930,16894897,18527052,19592588,19192320,20004960,21262659,23998571,26720062,31580354,35109684,39752777,45652689,52569982,60440998,71742137,77159601,83782208,87193913,88106779,87420023,78064559,67220161,62697543,62308927,62268982,63482823,64422903,63686475,65878849,69017203,71262319,74150521,78393822,81526050,80490057,79206060,82123435,88910829,83699555,93415679,95187185,102319434,109025002,113161260,122366725,124865309,127281365,124152487,130171958,148421130,147968795,148183780,{"$f":"BI40","v":154182166},156831966,152551145,{"$f":"BL40","v":152608468},149858504,{"$f":"BN40","v":154826805},159225667]
[]
[]
[]
[]
[]
[]
[null,"Source:  USDA - ERS, various years"]
[]
[]
[]
[]
[]
[]
[]
[]
[]
[]
[]
[]
[]
[]
[]
[]
[]
[]
[null,null,"FCS Ag Debt Volume"]
[null,null,null,{"$f":"D7","v":"1960"},"1961","1962","1963","1964","1965","1966","1967","1968","1969",1970,"1971","1972","1973","1974","1975","1976","1977","1978","1979","1980","1981","1982","1983","1984","1985","1986","1987","1988","1989","1990","1991",{"$f":"AJ7","v":"1992"},"1993","1994","1995","1996","1997","1998","1999","2000","2001","2002","2003","2004","2005","2006","2007","2008","2009","2010",{"$f":"BC7","v":2011},2012,2013]
[null,null,"FCS Non Real Estate Debt",{"$f":"D33","v":1509061},1673393,1868097,2146954,2311117,2615293,3051943,3553601,3852970,4532871,5303116,6070545,6591759,7827546,9515860,10680641,12115639,13338805,14707824,17842439,19511718,21010020,20309620,19156137,17868609,13833717,10198209,9279862,8674622,9444862,9745477,10115291,10237792,10429835,11063985,12342519,13877867,14844151,16382637,15509734,16687385,20000000,20491000,20167247,22040316,24052920,26965061,31421824,36023495,{"$f":"BA32","v":122366725},39230652,{"$f":"BC33","v":41085284},42679741]
[null,null,"FCS Resl Estate Debt ",{"$f":"D24","v":2222301},2462512,2666963,2905293,3266651,3766421,4388901,4970937,5433762,5976804,6368922,7000181,8014159,9616844,11839517,14043688,16223152,18771473,21566850,25969746,31575578,38293671,41493247,42124283,44266085,39638435,33101061,28194451,25885360,24340814,23461664,22774771,22866792,22409618,22137036,22480484,23450202,24924671,26787599,28044751,29692046,32854687,37815366,33207011,37077836,47867156,49693789,57823752,62837632,69074445,72478528,{"$f":"BC24","v":75287498},80343753]
[]
[]
[]
[]
[null,null,"Sources/Notes:"]
[null,null,"1/ Excludes horses, mules, and broilers.                                                                                           "]
[null,null,"2/ Include only farm share value for trucks and autos.                                                                             "]
[null,null,"3/ All non-CCC crops held on farms plus the value above loan rate                                                                  "]
[null,null,"   for crops held under CCC.                                                                                                       "]
[null,null,"4/ Excludes debt for nonfarm purposes.                                                                                             "]
[null,null,"5/ Farmers Home Administration prior to 1994.                                                                                      "]
[null,null,"(f) forecasted and subject to revision"]
[null,null,"Economic Research Service/USDA.                   "]

{"sheet":"Sample Graphs","index":2,"n_rows":18,"n_cols":19,"rows_kept":18,"cut":false,"hidden":false,"merged":[]}
[]
[]
[]
[]
[]
[]
[]
[]
[]
[]
[]
[]
[]
[]
[]
[]
[]
[null,null,null,15,null,null,null,null,null,null,13,null,null,null,null,null,null,null,13]

{"sheet":"Balance Sheet Table ","index":3,"n_rows":22,"n_cols":18,"rows_kept":22,"cut":false,"hidden":false,"merged":[]}
[]
[]
[null,"Table 1.  Selected Balance Sheet Characteristics of US Agricultural Sector"]
[]
[null,null,null,{"$f":"'US AG B-S Background Data'!N7","v":1970},{"$f":"'US AG B-S Background Data'!X7","v":"1980"},{"$f":"'US AG B-S Background Data'!AH7","v":"1990"},{"$f":"'US AG B-S Background Data'!AR7","v":"2000"},{"$f":"'US AG B-S Background Data'!BB7","v":"2010"},2013,2015,2016,2017,2018,2019,2020,2021,2022,"2023(p)"]
[null,null,null,null,null,null,"($ millions, except ratios - source ERS-USDA)"]
[null,"Farm Assets ",null,{"$f":"('US AG B-S Background Data'!N13)/1000","v":278823.01500000001},{"$f":"('US AG B-S Background Data'!X13)/1000","v":1000422.127},{"$f":"('US AG B-S Background Data'!AH13)/1000","v":840608.505},{"$f":"('US AG B-S Background Data'!AR13)/1000","v":1203214.7649999999},{"$f":"('US AG B-S Background Data'!BB13)/1000","v":2170832.085},{"$f":"('US AG B-S Background Data'!BE13)/1000","v":2767754.2489999998},{"$f":"('US AG B-S Background Data'!BG13)/1000","v":2880014.6469999999},{"$f":"('US AG B-S Background Data'!BH13)/1000","v":2914440.909},{"$f":"('US AG B-S Background Data'!BI13)/1000","v":3005944.8629999999},{"$f":"('US AG B-S Background Data'!BJ13)/1000","v":3026678.682},{"$f":"('US AG B-S Background Data'!BK13)/1000","v":3075148.145},{"$f":"('US AG B-S Background Data'!BL13)/1000","v":3174623.1949999998},{"$f":"('US AG B-S Background Data'!BM13)/1000","v":3497614.24},{"$f":"('US AG B-S Background Data'!BN13)/1000","v":3848184.7259999998},{"$f":"('US AG B-S Background Data'!BO13)/1000","v":4047027.3280000002}]
[null,"Real Estate",null,{"$f":"('US AG B-S Background Data'!N14)/1000","v":202418.08100000001},{"$f":"('US AG B-S Background Data'!X14)/1000","v":782820.20700000005},{"$f":"('US AG B-S Background Data'!AH14)/1000","v":619149.24},{"$f":"('US AG B-S Background Data'!AR14)/1000","v":946427.64899999998},{"$f":"('US AG B-S Background Data'!BB14)/1000","v":1660113.798},{"$f":"('US AG B-S Background Data'!BE14)/1000","v":2251001.9160000002},{"$f":"('US AG B-S Background Data'!BG14)/1000","v":2365717.2940000002},{"$f":"('US AG B-S Background Data'!BH14)/1000","v":2401352.4550000001},{"$f":"('US AG B-S Background Data'!BI14)/1000","v":2472843.963},{"$f":"('US AG B-S Background Data'!BJ14)/1000","v":2510163.4580000001},{"$f":"('US AG B-S Background Data'!BK14)/1000","v":2545995.5129999998},{"$f":"('US AG B-S Background Data'!BL14)/1000","v":2640942.4550000001},{"$f":"('US AG B-S Background Data'!BM14)/1000","v":2895998.2489999998},{"$f":"('US AG B-S Background Data'!BN14)/1000","v":3188219.412},{"$f":"('US AG B-S Background Data'!BO14)/1000","v":3389550.6880000001}]
[null,"Non Real Estate",null,{"$f":"D7-D8","v":76404.934000000008},{"$f":"E7-E8","v":217601.91999999993},221459.26500000001,{"$f":"G7-G8","v":256787.11599999992},{"$f":"H7-H8","v":510718.28700000001},{"$f":"I7-I8","v":516752.33299999963},{"$f":"J7-J8","v":514297.35299999965},513088.45399999991,533100.89999999991,516515.22399999993,529152.63200000022,533680.73999999976,601615.99100000039,659965.31399999978,657476.64000000013]
[]
[null,"Farm Debt",null,{"$f":"('US AG B-S Background Data'!N22)/1000","v":48501.006999999998},{"$f":"('US AG B-S Background Data'!X22)/1000","v":162431.96799999999},{"$f":"('US AG B-S Background Data'!AH22)/1000","v":131115.79500000001},{"$f":"('US AG B-S Background Data'!AR22)/1000","v":163929.823},{"$f":"('US AG B-S Background Data'!BB22)/1000","v":278930.53399999999},{"$f":"('US AG B-S Background Data'!BE22)/1000","v":315332.48800000001},{"$f":"('US AG B-S Background Data'!BG22)/1000","v":356738.04100000003},{"$f":"('US AG B-S Background Data'!BH22)/1000","v":374164.212},{"$f":"('US AG B-S Background Data'!BI22)/1000","v":390425.223},{"$f":"('US AG B-S Background Data'!BJ22)/1000","v":402605.50400000002},{"$f":"('US AG B-S Background Data'!BK22)/1000","v":420494.8},{"$f":"('US AG B-S Background Data'!BL22)/1000","v":441253.79300000001},{"$f":"('US AG B-S Background Data'!BM22)/1000","v":474115.80099999998},{"$f":"('US AG B-S Background Data'!BN22)/1000","v":503894.66600000003},{"$f":"('US AG B-S Background Data'!BO22)/1000","v":535085.78500000003}]
[null,"Real Estate",null,{"$f":"('US AG B-S Background Data'!N23)/1000","v":27238.348000000002},{"$f":"('US AG B-S Background Data'!X23)/1000","v":85272.366999999998},{"$f":"('US AG B-S Background Data'!AH23)/1000","v":67632.972999999998},{"$f":"('US AG B-S Background Data'!AR23)/1000","v":84723.763000000006},{"$f":"('US AG B-S Background Data'!BB23)/1000","v":154065.22500000001},{"$f":"('US AG B-S Background Data'!BE23)/1000","v":185160.53},{"$f":"('US AG B-S Background Data'!BG23)/1000","v":208769.24600000001},{"$f":"('US AG B-S Background Data'!BH23)/1000","v":225980.43299999999},{"$f":"('US AG B-S Background Data'!BI23)/1000","v":236243.057},{"$f":"('US AG B-S Background Data'!BJ23)/1000","v":245773.538},{"$f":"('US AG B-S Background Data'!BK23)/1000","v":267943.65500000003},{"$f":"('US AG B-S Background Data'!BL23)/1000","v":288645.32500000001},{"$f":"('US AG B-S Background Data'!BM23)/1000","v":324257.29800000001},{"$f":"('US AG B-S Background Data'!BN23)/1000","v":349067.86099999998},{"$f":"('US AG B-S Background Data'!BO23)/1000","v":375860.11800000002}]
[null,"Non Real Estate",null,{"$f":"(D11-D12)","v":21262.658999999996},{"$f":"(E11-E12)","v":77159.600999999995},63482.822000000015,79206.06,124865.30899999998,130171.95800000001,{"$f":"(J11-J12)","v":147968.79500000001},148183.77900000001,154182.166,156831.96600000001,152551.14499999996,152608.46799999999,149858.50299999997,154826.80500000005,159225.66700000002]
[]
[null,"Equity",null,{"$f":"(D7-D11)","v":230322.00800000003},{"$f":"(E7-E11)","v":837990.15899999999},709492.71,1039284.9419999999,1891901.551,2452421.7609999999,{"$f":"(J7-J11)","v":2523276.6059999997},2540276.6970000002,2615519.6399999997,2624073.1779999998,2654653.3450000002,2733369.4019999998,3023498.4390000002,3344290.0599999996,3511941.5430000001]
[]
[null,"Selected Indicators"]
[null," Debt/Equity                                                                                                                       ",null,{"$f":"'US AG B-S Background Data'!N43","v":0.21057912537824003},{"$f":"'US AG B-S Background Data'!X43","v":0.19383517366580436},{"$f":"'US AG B-S Background Data'!AH43","v":0.18480217365446927},{"$f":"'US AG B-S Background Data'!AR43","v":0.15773328023451724},{"$f":"'US AG B-S Background Data'!BB43","v":0.14743395810028595},{"$f":"'US AG B-S Background Data'!BE43","v":0.1285800399485201},{"$f":"'US AG B-S Background Data'!BG43","v":0.14137888818574451},{"$f":"'US AG B-S Background Data'!BH43","v":0.14729269942989995},{"$f":"'US AG B-S Background Data'!BI43","v":0.14927252582205805},{"$f":"'US AG B-S Background Data'!BJ43","v":0.1534276967662265},{"$f":"'US AG B-S Background Data'!BK43","v":0.15839913742108577},{"$f":"'US AG B-S Background Data'!BL43","v":0.16143218427671563},{"$f":"'US AG B-S Background Data'!BM43","v":0.15681033430822949},{"$f":"'US AG B-S Background Data'!BN43","v":0.15067313444974534},{"$f":"'US AG B-S Background Data'!BO43","v":0.15236181424105213}]
[null," Debt/Assets                                                                                                                       ",null,{"$f":"'US AG B-S Background Data'!N44","v":0.17394908020774397},{"$f":"'US AG B-S Background Data'!X44","v":0.16236343001237916},{"$f":"'US AG B-S Background Data'!AH44","v":0.15597724055861176},{"$f":"'US AG B-S Background Data'!AR44","v":0.13624319428959136},{"$f":"'US AG B-S Background Data'!BB44","v":0.12849014713176216},{"$f":"'US AG B-S Background Data'!BE44","v":0.11393081163688243},{"$f":"'US AG B-S Background Data'!BG44","v":0.12386674539020148},{"$f":"'US AG B-S Background Data'!BH44","v":0.12838284380532622},{"$f":"'US AG B-S Background Data'!BI44","v":0.1298843594257903},{"$f":"'US AG B-S Background Data'!BJ44","v":0.13301891158593757},{"$f":"'US AG B-S Background Data'!BK44","v":0.13673968868254313},{"$f":"'US AG B-S Background Data'!BL44","v":0.13899406823933319},{"$f":"'US AG B-S Background Data'!BM44","v":0.13555405727076408},{"$f":"'US AG B-S Background Data'!BN44","v":0.13094347124125039},{"$f":"'US AG B-S Background Data'!BO44","v":0.13221699327254952}]
[null," Real Estate/Equity",null,{"$f":"'US AG B-S Background Data'!N45","v":0.87884819500184286},{"$f":"'US AG B-S Background Data'!X45","v":0.9341639619421831},{"$f":"'US AG B-S Background Data'!AH45","v":0.87266469587827056},{"$f":"'US AG B-S Background Data'!AR45","v":0.91065271010151905},{"$f":"'US AG B-S Background Data'!BB45","v":0.87748424177913265},{"$f":"'US AG B-S Background Data'!BE45","v":0.91786900271270266},{"$f":"'US AG B-S Background Data'!BG45","v":0.93755765392989887},{"$f":"'US AG B-S Background Data'!BH45","v":0.94531137408611199},{"$f":"'US AG B-S Background Data'!BI45","v":0.94545035150261769},{"$f":"'US AG B-S Background Data'!BJ45","v":0.95659049377448779},{"$f":"'US AG B-S Background Data'!BK45","v":0.95906891865762611},{"$f":"'US AG B-S Background Data'!BL45","v":0.96618570950111193},{"$f":"'US AG B-S Background Data'!BM45","v":0.95783024447594234},{"$f":"'US AG B-S Background Data'!BN45","v":0.95333220320209544},{"$f":"'US AG B-S Background Data'!BO45","v":0.96515008763629639}]
[null," Real Estate/Assets",null,{"$f":"'US AG B-S Background Data'!N46","v":0.72597335983903621},{"$f":"'US AG B-S Background Data'!X46","v":0.78248989688729664},{"$f":"'US AG B-S Background Data'!AH46","v":0.73654886468225778},{"$f":"'US AG B-S Background Data'!AR46","v":0.78658247598881481},{"$f":"'US AG B-S Background Data'!BB46","v":0.76473616244712916},{"$f":"'US AG B-S Background Data'!BE46","v":0.81329544225730854},{"$f":"'US AG B-S Background Data'!BG46","v":0.82142543839639026},{"$f":"'US AG B-S Background Data'!BH46","v":0.82394961159941638},{"$f":"'US AG B-S Background Data'!BI46","v":0.82265113822881186},{"$f":"'US AG B-S Background Data'!BJ46","v":0.8293458677752038},{"$f":"'US AG B-S Background Data'!BK46","v":0.82792613329527898},{"$f":"'US AG B-S Background Data'!BL46","v":0.83189162706284581},{"$f":"'US AG B-S Background Data'!BM46","v":0.82799246866058052},{"$f":"'US AG B-S Background Data'!BN46","v":0.82849957551647946},{"$f":"'US AG B-S Background Data'!BO46","v":0.83754084499228765}]
[null," Real Estate D/Total D",null,{"$f":"'US AG B-S Background Data'!N47","v":0.56160376216518559},{"$f":"'US AG B-S Background Data'!X47","v":0.52497281200212997},{"$f":"'US AG B-S Background Data'!AH47","v":0.51582628164669253},{"$f":"'US AG B-S Background Data'!AR47","v":0.51682946671637653},{"$f":"'US AG B-S Background Data'!BB47","v":0.55234263094337321},{"$f":"'US AG B-S Background Data'!BE47","v":0.58719141555753684},{"$f":"'US AG B-S Background Data'!BG47","v":0.58521722386203268},{"$f":"'US AG B-S Background Data'!BH47","v":0.6039605760050617},{"$f":"'US AG B-S Background Data'!BI47","v":0.60509168742922126},{"$f":"'US AG B-S Background Data'!BJ47","v":0.61045747154018049},{"$f":"'US AG B-S Background Data'!BK47","v":0.63721038880861314},{"$f":"'US AG B-S Background Data'!BL47","v":0.65414808796895718},{"$f":"'US AG B-S Background Data'!BM47","v":0.68392004087625846},{"$f":"'US AG B-S Background Data'!BN47","v":0.69273974215873124},{"$f":"'US AG B-S Background Data'!BO47","v":0.70242964499608229}]

{"sheet":"graphhelp - BJS","index":4,"n_rows":112,"n_cols":64,"rows_kept":112,"cut":false,"hidden":true,"merged":[]}
[]
[]
[null,null,"Table 1--Farm business balance sheet, 1960-2019f                                            "]
[null,null,"                                                                                                                                   "]
[null,null,"United States                                                                                                                      "]
[null,null,"                                                                                                                                   "]
[null,null,"Year ","1960","1961","1962","1963","1964","1965","1966","1967","1968","1969","1970","1971","1972","1973","1974","1975","1976","1977","1978","1979","1980","1981","1982","1983","1984","1985","1986","1987","1988","1989","1990","1991","1992","1993","1994","1995","1996","1997","1998","1999","2000","2001","2002","2003","2004","2005","2006","2007","2008","2009","2010",2011,2012,2013,2014,2015,2016,2017,2018,2019]
[null,null,"                                                                                                                                   "]
[null,null,null,null,null,null,null,"Numbers",null,null,null,null,null,null,null,null,null,"Numbers",null,null,null,null,null,null,null,null,null,"Numbers",null,null,null,null,null,null,null,null,null,"Numbers"]
[null,null,"                                                                                                                                   "]
[null,null,"Number of Farms                                                                                                                              ",3962520,3825410,3692410,3572200,3456690,3356170,3257040,3161730,3070860,3000180,2949140,2902310,2859880,2823260,2795460,2521420,2497270,2455830,2436250,2437300,2439510,2439920,2406550,2378620,2333810,2292530,2249820,2212960,2200940,2174520,2145820,2116760,2107840,2201590,2197690,2196400,2190500,2190510,2192330,2187280,2166780,2148630,2135360,2126860,2112970,2098690,2088790,2204600,2184500,2169660,2149520,2131240,2109810,2102010,2082440,2063890,2055340,2042000,2029200,"(not available)"]
[null,null,null,null,null,null,null,"Thousand dollars",null,null,null,null,null,null,null,null,null,"Thousand dollars",null,null,null,null,null,null,null,null,null,"Thousand dollars",null,null,null,null,null,null,null,null,null,"Thousand dollars"]
[null,null,"Year ",1960,1961,1962,1963,1964,1965,1966,1967,1968,1969,1970,1971,1972,1973,1974,1975,1976,1977,1978,1979,1980,1981,1982,1983,1984,1985,1986,1987,1988,1989,1990,1991,1992,1993,1994,1995,1996,1997,1998,1999,2000,2001,2002,2003,2004,2005,2006,2007,2008,2009,2010,2011,2012,2013,2014,2015,2016,2017,2018,2019,2020]
[null,null,"Farm assets                                                                                                                        ",174350138,181631733,188870449,196695336,204238278,220817624,234022906,246072706,257160621,267822833,278823015,301760581,339933247,418493949,449181770,510786259,590716642,651508183,777744402,914682365,1000422127,997897469,962488416,959300462,897811233,775907905,722017259,756478652,788525662,813731058,840608505,844167552,867762818,909174821,934724297,965741060,1002916227,1051280908,1083354897,1138826915,1203214765,1255926409,1250530486,1322433781,1491953134,1709371086,1906665033,1961943172,2005861900,1976913105,2170832085,2318720178,2638237199,2776109588,2949238467,2909653173,2956537719,2993054674,3032752620,3075150919,3108826924]
[null,null,"Real estate assets                                                                                                                 ",123280105,129097425,134614477,142353253,150485891,161524641,171233350,180942601,189388755,195309483,202418081,217562382,243002153,298300207,335556227,383559733,456539435,509308292,601773349,706063787,782820207,785561830,750023254,753422019,661750215,586183371,542407976,563678551,582311234,600132424,619149240,624769057,640790780,677577858,704137650,740491453,769535891,808228878,840421562,886981055,946427649,996242486,1003708881,1016350076,1161561634,1372626160,1536641152,1548985369,1568551418,1560555911,1660113798,1802702005,2073664481,2251001916,2383150407,2395363130,2443444432,2469495245,2519026381,2545995513,2575178351]
[null,null," Livestock and poultry                                                                                            ",15607597,16428026,17306979,15864578,14469305,17584671,18973530,18845528,20249055,22838634,23705761,27263869,33679316,42370002,24567475,29356695,29047508,31931218,50105786,61386773,60633203,53544275,52993051,49540878,49525922,46259169,47751409,57976580,62211338,66212752,70856057,68119760,70962162,72778679,67912189,57778086,60314851,67075193,63391480,73177382,76787712,78535901,67877550,74506996,83334116,87758593,86698438,89358661,86198460,80267748,90715139,101446630,95743147,110836501,127852850,118182982,108995849,115101418,{"$f":"BJ14-BJ21","v":104920785},99161769,90655767]
[null,null," Machinery and motor vehicles                                              ",19068447,19270293,19902285,20372604,21247171,22428938,24067400,26310099,27744429,28634424,30363934,32434438,34644365,39670896,48454284,57417012,63275288,69319935,78837918,91924442,97463497,101121601,103853547,101707294,125844857,86076967,79030185,78686237,80976113,84090265,86297804,85892466,84805549,85391600,86761586,87591746,88030611,88744926,89824706,89847429,90104683,92804006,136624880,137871242,149334862,144343034,155337507,194783471,189086640,191600286,207604913,223814646,243966688,247342759,245724348,239513055,255448333,260524825,267457173,278991092,287315670]
[null,null," Crops                                                           ",6359991,6471987,6527710,7408814,7012635,7892957,8107008,8016152,7393262,8278635,8700574,9950744,12949001,21379362,22515224,20535165,20584873,20443929,23800687,29876331,32831043,29511813,25885600,23746340,26128956,22904647,16279821,17828174,23651022,23936470,23178199,22238486,24208624,23325867,23297793,27445606,31692878,32670319,29939741,28273037,27932428,25238556,11699174,26693037,29607523,33402678,41144457,54231798,58759139,53423542,57218624,62461649,64766997,60458074,61724815,52534478,55687058,56940618,49412836,49595285,49017006]
[null,null," Purchased inputs                                                                                                                  ",null,null,null,null,null,null,null,null,null,null,null,null,null,null,null,null,null,null,null,null,null,null,null,null,1977708,1209904,2067459,3152585,3459088,2574449,2807529,2610686,3946496,3789676,5036672,3371612,4361892,4900371,5036405,4025649,4895715,4212374,11213419,9478695,10494785,10735654,11744226,15953866,19499249,18749862,19836910,20985068,21460770,20577855,20100471,16398071,14881465,16163101,16842242,13927352,13838565]
[null,null," Financial                                                                                                                         ",10033998,10364002,10518998,10696087,11023276,11386417,11641618,11958326,12385120,12761657,13634665,14549148,15658412,16773482,18088560,19917653,21269538,20504809,23226663,25431031,26674177,28157950,29732964,30883931,32583575,33273848,34480410,35156525,35916867,36784698,38319676,40537097,43049207,46311141,47578407,49062556,48980104,49661221,54741003,56522362,57066578,58893086,19406583,57533735,57620214,60504967,75099252,58630007,83766993,72315756,135342700,107310180,138635115,85892484,110685576,87661457,78080582,82722065,75093203,87479909,92821565]
[null,null,null,null,null,null,null,null,null,null,null,null,null,null,null,null,null,null,null,null,null,null,null,null,null,null,null,null,null,null,null,null,null,null,null,null,null,null,null,null,null,null,null,null,null,null,null,null,null,null,null,null,null,null,null,null,{"$f":"SUM(BE15:BE20)","v":2776109589},{"$f":"SUM(BF15:BF20)","v":2949238467},2909653173,2956537719,3000947272,2927831835,2971597967,{"$f":"SUM(BL15:BL20)","v":3108826924}]
[]
[null,null,"Farm debt                                                                                                ",22445666,24138318,26665409,29560942,32157241,35810786,39223095,42206120,43921577,46420826,48501007,52825068,58099688,66768652,74672687,83503739,94137390,108404445,123865621,147520227,162431968,177687478,183962996,186178117,188813336,172154536,151307822,138507402,133138349,131030402,131115795,131872783,131565813,134311580,138929055,142985255,148572756,156907377,164626313,167696145,163929823,170664446,187029013,181095940,197577630,209073394,215684913,240735957,261063115,268346578,278930534,294472133,297521123,315332488,345201354,356738041,374164212,393048069,410842987,418594843,433750810]
[null,null,"Real estate debt                                                                                                                    ",11309593,12318392,13488450,14981360,16850311,18915889,20696043,22613532,24729257,26415866,27238348,28826497,31379625,35188298,39563003,43750962,48484701,55834463,63424623,75778090,85272367,93905270,96769083,98071338,101393312,94089977,84087662,75809859,70829423,68761420,67632973,67449880,67879337,68432731,69911852,71722937,74422235,78513555,83100263,87206087,84723763,88541011,98118184,97396385,104161951,113886209,113365478,131710955,147901855,145979853,154065225,167190768,173368636,185160530,196780224,208769246,225980433,238058397,250866892,266840441,281559130]
[null,null,"  Farm Credit System                                                                                                               ",2222301,2462512,2666963,2905293,3266651,3766421,4388901,4970937,5433762,5976804,6368922,7000181,8014159,9616844,11839517,14043688,16223152,18771473,21566850,25969746,31575578,38293671,41493247,42124283,44266085,39638435,33101061,28194451,25885360,24340814,23461664,22774771,22866792,22409618,22137036,22480484,23450202,24924671,26787599,28044751,29692046,32854687,37815366,33207011,37077836,47867156,49693789,57823752,62837632,69074445,72478528,75287498,80343753,85250722,88797518,96662553,103749537,107653783,113445987.59628057,119228380.01280621,{"$f":"BK25/$BK$24*$BL$24","v":125804914.80942765}]
[null,null,"  Farm Service Agency                                                                                               ",623895,822065,921154,1024496,1125457,1314537,1467783,1636188,1824883,2028788,2168992,2319457,2505520,2653508,2821357,2946795,3189606,3462207,3571420,5967133,7094800,7726319,7922736,8186795,9046439,9231655,9033182,8675678,8171569,7423909,6913726,6336758,5755007,5253647,4918556,4572770,4285372,4021975,3777265,3583694,3418223,3347374,3181000,2178000,2396000,2453000,2374000,2555846,2464998,2637349,3475437,3334494,3743238,3717074,4325689,4857770,5914514,6054097,6379831.6606178107,6705014.5163072441,7074857.344613811]
[null,null,"  Farmer Mac",null,null,null,null,null,null,null,null,null,null,null,null,null,null,null,null,null,null,null,null,null,null,null,null,null,null,null,null,null,null,null,null,null,null,null,null,null,null,null,null,null,null,325693,915788,862208,770356,1454272,2829805,2427239,2069175,3600592,3770165,3811537,4481629,4728807,4843551,5456587,6266206,6603352.9741517697,6939928.8105511935,7322729.3090882311]
[null,null,"  Commercial banks                                                                                                                 ",1355733,1401691,1606938,1844126,2090051,2259905,2418179,2676543,2918582,3115947,3333945,3716254,4207609,4774637,5204225,5475971,5884076,6734576,7388580,7463130,7430446,7252783,7238966,7979692,9145059,10087966,11106298,12458128,13134654,14195364,14740757,15674874,16881167,17635101,18971234,20151323,21213695,23215498,25193180,27578839,29756973,31082102,30421980,31980000,34891305,37166558,37455038,41061877,46395506,44244248,51227807,52946233,64559493,68903134,73254162,79163795,84417512,73294843,77238399.043063179,81175274.576119348,85652832.837145865]
[null,null,"  Life insurance companies                                                                                                         ",2651587,2828152,3043385,3405403,3865756,4339266,4727763,5034086,5235614,5222116,5038804,4980919,5035955,5304091,5581876,5938785,6511942,7735190,9160409,10654407,11337301,11482287,11171688,11016282,11296552,10596325,9650671,8606627,8225845,8247377,8782095,8591225,7888515,8086943,8122623,8224581,8629197,8920956,9943629,10633978,11053300,11205391,11421000,10026000,10726000,11307000,12001000,10806203,13737226,13291178,12436849,13003744,11487490,11977097,12403795,12527497,13204121,13787713.995323781,14529548.217497991,15270125.748784419,16112412.73888593]
[null,null,"  Individuals and others                                                                                                           ",4408545,4734961,5176176,5742101,6458587,7201849,7660952,8234921,9169138,9902199,10181409,10619908,11350228,12561253,13899119,15175336,16532391,18639262,20589756,24332811,26377883,27808051,27815219,27876341,27016085,24228530,21073725,17829262,15391379,14542381,13728224,14068465,14485871,15047423,15762403,16293778,16843769,17430456,17398591,17364826,10803221,10051456,14953145,18893637,17982825,14072424,10115426,16286248,19648041,14190626,10211729,18126226,8689061,10084246,12517927,9956273,12494207,13046423.363915881,13748373.181819594,14449133.874291407,15246135.659395862]
[null,null,"  CCC storage & drying loans                                                                                                       ",47523,69006,73829,59932,43809,33915,32456,60850,147276,170016,146276,189778,266154,277965,216909,170387,143534,491755,1147608,1390863,1456359,1342159,1127227,887945,623093,307067,122725,45713,20616,11575,6506,3786,1984,"NA","NA","NA","NA","NA","NA","NA","NA","NA","NA",195950,225778,249715,271954,347224,391213,472831,634283,722409,734065,746627,752327,757809,743955,776836.16845006973,818633.06494606636,860359.15616320947,907815.82652551308]
[null,null,"                                                                                                                                   "]
[null,null," Nonreal estate                                                                                                                    ",11136073,11819926,13176959,14579582,15306930,16894897,18527052,19592588,19192320,20004960,21262659,23998571,26720062,31580354,35109684,39752777,45652689,52569982,60440998,71742137,77159601,83782208,87193913,88106779,87420023,78064559,67220161,62697543,62308927,62268982,63482823,64422903,63686475,65878849,69017203,71262319,74150521,78393822,81526050,80490057,79206060,82123435,88910829,83699555,93415679,95187185,102319434,109025002,113161260,122366725,124865309,127281365,124152487,130171958,148421130,147968795,148183780,154989672,159976095,151754403,152191680]
[null,null,"  Farm Credit System                                                                                                               ",1509061,1673393,1868097,2146954,2311117,2615293,3051943,3553601,3852970,4532871,5303116,6070545,6591759,7827546,9515860,10680641,12115639,13338805,14707824,17842439,19511718,21010020,20309620,19156137,17868609,13833717,10198209,9279862,8674622,9444862,9745477,10115291,10237792,10429835,11063985,12342519,13877867,14844151,16382637,15509734,16687385,20000000,20491000,20167247,22040316,24052920,26965061,31421824,36023495,38986948,39230652,41085284,42679741,44015862,47887186,48283041,49376260,51180555,75652929.743461132,77089686.20709078,{"$f":"BK34/$BK$33*$BL$33","v":77311818.455310151}]
[null,null,"  Farm Service Agency                                                                                             ",369168,436551,489448,522531,566642,630978,648961,702280,723062,690893,715373,697695,710248,802512,960889,1639435,1745859,2937219,5433200,8792794,10827139,13716495,14008779,13877781,14832430,15884319,15572185,15246835,13925583,11705845,10119848,8865776,7711693,6735161,6498477,5496596,4983948,4549888,4245007,4263493,4208278,4150979,3973000,3646000,3244000,3008000,2734000,3117195,2972189,3344724,3642459,3545409,3355025,2836595,3550210,3748543,3783890,3958398,52827167.276234545,53830430.128007114,{"$f":"BK35/$BK$33*$BL$33","v":53985541.337499239}]
[null,null,"  Commercial banks                                                                                                                 ",4716945,5023481,5650609,6286305,6605571,7254628,8064148,8761610,9185089,9761598,10491171,11810931,13527275,16222596,17234913,19050762,22001974,24294841,26717825,29327405,29985795,31214694,34322015,37075109,37618984,33737631,29678316,27588797,28308722,29243276,31267500,32854335,32911989,34938855,36729740,37748207,38368022,41049702,42188408,41351980,44854281,45025160,44752500,44479303,46544934,48650364,48372335,54001860,56307741,57155563,56176988,59189718,59878041,63720321,70737959,73177901,73233553,73294843,4085750.0136900092,4163344.2028489746,{"$f":"BK36/$BK$33*$BL$33","v":4175340.7882988821}]
[null,null,"  Individuals and others                                                                                                           ",4540901,4686498,5168802,5623796,5823604,6393999,6762001,6575100,5431198,5019600,4752999,5419400,5890780,6727700,7398021,8381940,9789217,11999118,13582149,15779499,16834950,17840998,18553499,17997751,17100000,14608892,11771450,10582049,11400000,11874999,12349997,12587500,12825001,13774998,14725001,15674997,16920683,17950081,18709998,19364850,13456116,12947295,19694329,15407005,21586429,19475901,24248038,20484123,17857835,22879490,25815210,23460955,18239680,19599180,26245776,22759310,21790077,26555877,27410248.998786934,27930808.513828173,{"$f":"BK37/$BK$33*$BL$33","v":28011290.528933205}]
[null,null,"Year ",1960,1961,1962,1963,1964,1965,1966,1967,1968,1969,1970,1971,1972,1973,1974,1975,1976,1977,1978,1979,1980,1981,1982,1983,1984,1985,1986,1987,1988,1989,1990,1991,1992,1993,1994,1995,1996,1997,1998,1999,2000,2001,2002,2003,2004,2005,2006,2007,2008,2009,2010,2011]
[null,null,"Equity                                                                                                                             ",{"$f":"D14-D23","v":151904472},{"$f":"E14-E23","v":157493415},162205040,167134394,172081037,185006838,194799811,203866586,213239044,221402007,230322008,248935513,281833559,351725297,374509083,427282520,496579252,543103738,653878781,767162138,837990159,820209991,778525420,773122345,708997897,603753369,570709437,617971250,655387313,682700656,709492710,712294769,736197005,774863241,795795242,822755805,854343471,894373531,918728584,971130770,1039284942,1085261963,1063501473,1141337841,1294375504,1500297692,1690980120,1721207215,1744798785,1708566527,1891901551,2024248045,2340716076,2460777100,2604037113,2552915132,2582345250,2600006605,2621909633,2650730378,{"$f":"BL14-BL23","v":2675076114}]
[null,null,"Real estate debt",{"$f":"D24","v":11309593},{"$f":"E24","v":12318392},13488450,14981360,16850311,18915889,20696043,22613532,24729257,26415866,27238348,28826497,31379625,35188298,39563003,43750962,48484701,55834463,63424623,75778090,85272367,93905270,96769083,98071338,101393312,94089977,84087662,75809859,70829423,68761420,67632973,67449880,67879337,68432731,69911852,71722937,74422235,78513555,83100263,87206087,84723763,88541011,98118184,97396385,104161951,113886209,113365478,131710955,147901855,145979853,154065225,167190768,173368636,185160530,196780224,208769246,225980433,238058397,250866892,266840441,{"$f":"BL24","v":281559130}]
[null,null,"Nonreal estate debt",{"$f":"D33","v":11136073},{"$f":"E33","v":11819926},13176959,14579582,15306930,16894897,18527052,19592588,19192320,20004960,21262659,23998571,26720062,31580354,35109684,39752777,45652689,52569982,60440998,71742137,77159601,83782208,87193913,88106779,87420023,78064559,67220161,62697543,62308927,62268982,63482823,64422903,63686475,65878849,69017203,71262319,74150521,78393822,81526050,80490057,79206060,82123435,88910829,83699555,93415679,95187185,102319434,109025002,113161260,122366725,124865309,127281365,124152487,130171958,148421130,147968795,148183780,154989672,159976095,151754403,{"$f":"BL33","v":152191680}]
[null,null,"Assets",{"$f":"D14","v":174350138},{"$f":"E14","v":181631733},188870449,196695336,204238278,220817624,234022906,246072706,257160621,267822833,278823015,301760581,339933247,418493949,449181770,510786259,590716642,651508183,777744402,914682365,1000422127,997897469,962488416,959300462,897811233,775907905,722017259,756478652,788525662,813731058,840608505,844167552,867762818,909174821,934724297,965741060,1002916227,1051280908,1083354897,1138826915,1203214765,1255926409,1250530486,1322433781,1491953134,1709371086,1906665033,1961943172,2005861900,1976913105,2170832085,2318720178,2638237199,2776109588,2949238467,2909653173,2956537719,2993054674,3032752620,3075150919,{"$f":"BL14","v":3108826924}]
[null,null,"Ratio:                                                                                                                             ",1960,1961,1962,1963,1964,1965,1966,1967,1968,1969,1970,1971,1972,1973,1974,1975,1976,1977,1978,1979,1980,1981,1982,1983,1984,1985,1986,1987,1988,1989,1990,1991,1992,1993,1994,1995,1996,1997,1998,1999,2000,2001,2002,2003,2004,2005,2006,2007,2008,2009,2010,2011,2012,2013,2014,2015,2016,2017]
[null,null," Debt/equity                                                                                                                       ",{"$f":"D23/D39","v":0.14776171961546991},0.15326556986525436,0.1643932210737718,0.17686929238514484,0.18687265930411612,0.19356466164780353,0.20135078570481776,0.20702813947156598,0.20597342858093098,0.20966759348301661,0.21057912537824003,0.21220382485161932,0.20614893487542413,0.18983181639050545,0.19938818680133319,0.19542980368118032,0.18957173426166424,0.19960172875849366,0.18943208527208655,0.1922934145115488,0.19383517366580436,0.21663656862233954,0.23629671077406825,0.24081326610731965,0.26631014957721377,0.28514049749343923,0.26512234105566401,0.22413243658179891,0.20314453203338101,0.19192950943934642,0.18480217365446927,0.18513793549984642,0.17871006280445273,0.17333585191970668,0.1745788962633682,0.17378820560251168,0.17390284006746978,0.17543830576533465,0.17918927947494884,0.17268132179562182,0.15773328023451724,0.15725645219171844,0.17586154579778376,0.15866988151495101,0.15264320855070818,0.13935460616572087,0.12755023577687005,0.1398645990453857,0.14962362264597748,0.15705948452073357,0.14743395810028595,0.14547235637814337,0.12710688239832468,0.12814345842213828,0.13256391480623264,0.13973752457666894,0.14489317878777053,0.15117195019587268,0.15669608968555934,0.15791679398031933,0.16214522186115263]
[null,null," Debt/assets                                                                                                                       ",{"$f":"D23/D14","v":0.12873902055643913},0.13289703071874562,0.14118359511074174,0.15028796615696063,0.15744962851674651,0.16217358628947118,0.16760365756675119,0.17151890059680167,0.17079433402052641,0.17332661849634007,0.17394908020774397,0.17505622445762722,0.17091499143653929,0.15954508341051307,0.16624157966161449,0.1634807858055555,0.15936133047018505,0.16638999759117376,0.15926263266116059,0.16128027897422073,0.16236343001237916,0.17806185857757698,0.19113268579847512,0.19407695959183224,0.21030404728741015,0.22187496079189964,0.20956261102340215,0.18309492493120613,0.1688446621538108,0.1610242115153481,0.15597724055861176,0.15621636094347299,0.15161494623983762,0.14772910214591173,0.14863105136551297,0.14805754971213506,0.148140743962656,0.14925352092478028,0.15195972571488731,0.14725340856560279,0.13624319428959136,0.13588729783609479,0.14955973892187063,0.13694140500786253,0.13242884477898084,0.12231012663800259,0.11312155479173777,0.12270281852995485,0.1301500940817511,0.13574019885917038,0.12849014713176216,0.12699770148806633,0.11277269652356228,0.11358791070894857,0.11704762360269323,0.1226050047168285,0.12655485827069199,0.13132004317005003,0.13546867762659784,0.13612172346198922,0.13952234093556762]
[null,null," Real estate value/equity",{"$f":"D15/D39","v":0.8115633685886483},0.81970046176216316,0.82990317070295716,0.85172925567911528,0.87450595151864408,0.87307389686861192,0.87902215675147655,0.8875539859190068,0.88815233574204167,0.88214865640310114,0.87884819500184286,0.8739708504346666,0.86221865792781616,0.84810563682600293,0.89598955601298458,0.89767241823981003,0.91936872747152154,0.9377734977033062,0.92031331568778951,0.92035796870882591,0.9341639619421831,0.95775696299705282,0.96338954995201054,0.97451848840302246,0.93335991234964133,0.97089871642604453,0.95041003501051269,0.91214364907752588,0.88849939943832879,0.87905646307156915,0.87266469587827056,0.87712150108461628,0.87040666512898945,0.87444831829362779,0.88482264386295484,0.9000136474272582,0.90073362426386472,0.90368157149766992,0.91476588040935491,0.91334872954339608,0.91065271010151905,0.91797420343202429,0.94377761242649449,0.89049012438728037,0.89739154550625677,0.91490253388992082,0.90872810024519979,0.89994124792231944,0.89898699579848684,0.91337146452243467,0.87748424177913265,0.89055390689533798,0.88591029995557646,0.9147524641707695,0.91517528498450396,0.93828545256944329,0.94621136813522511,0.94980345059546489,0.96076018383506201,0.96048829942522351,0.96265610444608085]
[null,null," Real estate value/assets",{"$f":"D15/D14","v":0.70708349539706128},0.71076470431518701,0.71273445746931008,0.72372459812671919,0.73681531431634961,0.73148437191770521,0.73169482819771492,0.7353217020338696,0.73646094905020465,0.72924881277766185,0.72597335983903621,0.72097681307155226,0.71485256339165903,0.71279455225767197,0.74703883686107742,0.75092022590999263,0.77285690386897887,0.78173736767938651,0.77374179415823041,0.77192237875931935,0.78248989688729664,0.78721697810018199,0.77925431779949861,0.78538690310773562,0.73707054520668935,0.75548060178611021,0.75123962653086662,0.74513477612319989,0.73848101851630032,0.73750708922799901,0.73654886468225778,0.74010077207990099,0.73844000538866139,0.74526685335910769,0.753310524033591,0.76675983208169696,0.76729827505323633,0.76880391515680413,0.77575830812901192,0.77885501590906814,0.78658247598881481,0.79323316944440492,0.80262647911168161,0.76854515560805992,0.77855101982043895,0.80300068910841516,0.80593136466252069,0.78951592029088602,0.78198375371704298,0.78939024029586768,0.76473616244712916,0.77745560766841271,0.78600380655158819,0.81084764294974943,0.80805619269715023,0.82324696023143507,0.82645467916656745,0.82507522046020598,0.83060727221463915,0.82792538644832603,0.82834407123784937]
[null,null," Real estate debt to D",{"$f":"D24/D23","v":0.5038653341807724},0.51032520161512496,0.50584073171350941,0.50679575772652985,0.52399741010119616,0.52821764370097879,0.52764941165402679,0.53578798524953253,0.56303208329700916,0.56905204573481738,0.56160376216518559,0.54569730038019071,0.54009971619813169,0.52701824802453701,0.52981892830507094,0.52394015554201712,0.5150419084276715,0.51505695176982824,0.51204379785089849,0.51367932073477629,0.52497281200212997,0.52848558073405716,0.52602471749264179,0.52676082227214704,0.53700291593809879,0.54654369955143089,0.55573902848195122,0.54733435112731377,0.53199865802752289,0.52477454812357216,0.51582628164669253,0.51147688298957028,0.51593446239715779,0.50950730383783738,0.50321980524520227,0.50161072202864554,0.50091441394544767,0.50038154037843607,0.50478117067470252,0.52002439889122076,0.51682946671637653,0.51880173683041164,0.52461477728057093,0.53781650212588972,0.52719506251795811,0.54471880338824941,0.5256068976878322,0.54711791558416845,0.56653677406706804,0.54399744572110775,0.55234263094337321,0.56776431201386379,0.58271034423327317,0.58719141555753684,0.57004476291828221,0.58521722386203268,0.6039605760050617,0.60567247564826476,0.61061500363397947,0.63746710085484737,0.64912646503184623]
[null,null," E/A",{"$f":"D39/D42","v":0.87126097944356085},{"$f":"E39/E42","v":0.86710296928125441},0.85881640488925826,0.84971203384303939,0.84255037148325351,0.83782641371052879,0.83239634243324878,0.82848109940319836,0.82920566597947354,0.82667338150365988,0.82605091979225598,0.82494377554237275,0.82908500856346068,0.8404549165894869,0.83375842033838554,0.83651921419444453,0.84063866952981492,0.83361000240882621,0.84073736733883941,0.8387197210257793,0.83763656998762082,0.82193814142242305,0.80886731420152491,0.80592304040816776,0.78969595271258985,0.77812503920810039,0.79043738897659788,0.81690507506879384,0.83115533784618922,0.83897578848465193,0.84402275944138827,0.84378363905652698,0.84838505376016238,0.85227089785408827,0.85136894863448698,0.85194245028786497,0.85185925603734403,0.85074647907521972,0.84804027428511264,0.85274659143439724,0.86375680571040869,0.86411270216390523,0.85044026107812931,0.86305859499213744,0.86757115522101913,0.87768987336199744,0.8868784452082622,0.8772971814700451,0.86984990591824896,0.86425980114082956,0.8715098528682379,0.87300229851193367,0.88722730347643775,0.88641208929105142,0.88295237639730673,0.87739499528317155,0.87343558426625978,0.86867995682995003,0.86453132237340213,0.86198383358107955,0.86047765906443241]
[]
[]
[null,null,"Lender Shares of Debt through time: "]
[null,null," Real estate                                                                                                                       ","Lender Shares"]
[null,null,"Year",1960,1961,1962,1963,1964,1965,1966,1967,1968,1969,1970,1971,1972,1973,1974,1975,1976,1977,1978,1979,1980,1981,1982,1983,1984,1985,1986,1987,1988,1989,1990,1991,1992,1993,1994,1995,1996,1997,1998,1999,2000,2001,2002,2003,2004,2005,2006,2007,2008,2009,2010,2011,2012,2013,2014,2015,2016,2017,2018,2019,"2020(p)"]
[null,null,"Farm Credit System",{"$f":"D25/D$24","v":0.19649699153630021},0.19990531231673744,0.19772197695065036,0.19392718685085999,0.19386295006661894,0.19911414155581056,0.21206474107151788,0.21982134414031387,0.21973009540885113,0.2262581132112042,0.23382188963882833,0.24283842049902907,0.25539371487071627,0.27329665106280504,0.29925728843182103,0.32099152471207376,0.33460352782210617,0.33619868431438127,0.34003907283768953,0.34270784602778981,0.37029085870221007,0.40779043604262039,0.42878619610356339,0.42952695312467337,0.43657795693664686,0.42128222647987257,0.39364943931964713,0.37191008362118178,0.36546055161285163,0.35398940277847663,0.34689683092890211,0.33765472970448573,0.33687412120716498,0.32746929243551598,0.31664210526135111,0.31343507307850488,0.31509671807088296,0.31745691556063155,0.32235275837815341,0.32159166825132285,0.35045712027686965,0.37106744805522945,0.38540629736889548,0.34094705876403936,0.3559633402027963,0.42030686964037939,0.43835027979152524,0.43902006480782102,0.42486033728244993,0.47317793230001404,0.47044054230927196,0.45030894289569862,0.46342726604828338,0.46041519755857258,0.4512522457541262,0.46301145811486044,0.45910849723878527,0.4522158611359548,0.4522158611359548,0.44681525621075635,0.44681525621075635]
[null,null,"Farm Service Agency",5.5165115137211389E-2,6.6734765381715411E-2,6.8292057278634688E-2,6.838471273636039E-2,6.6791467528403481E-2,6.9493799630564554E-2,7.0920948511751736E-2,7.2354376131954973E-2,7.3794493704359976E-2,7.6801873540697091E-2,7.9630086229899116E-2,8.0462672935945015E-2,7.9845441110274584E-2,7.5408819147774642E-2,7.1313014333113184E-2,6.7353833271140418E-2,6.5785823862252957E-2,6.2008423005698109E-2,5.6309676448530091E-2,7.8744832444312074E-2,8.3201630840152474E-2,8.2277799744359392E-2,8.1872595609901566E-2,8.3477957647523887E-2,8.9221259485043752E-2,9.8115179685929782E-2,0.10742577192834782,0.11443997013633807,0.11536969600895944,0.10796619674230114,0.10222419174150454,9.3947654169288367E-2,8.4782899396910721E-2,7.6770967974374715E-2,7.0353679087202553E-2,6.3756033861245814E-2,5.7581877244079004E-2,5.1226504773602466E-2,4.5454308610310898E-2,4.1094539650655348E-2,4.034550495591184E-2,3.7805915724183452E-2,3.2420086372572897E-2,2.2362226277700143E-2,2.3002641338774464E-2,2.1539043414817681E-2,2.0941119306178906E-2,1.9404961417218484E-2,1.6666444109169558E-2,1.8066527303599901E-2,2.2558218442870544E-2,1.9944247160824095E-2,2.1591206381758692E-2,2.0074872328352051E-2,2.1982335989209973E-2,2.3268609208848701E-2,2.6172681950742169E-2,2.5431142426788667E-2,2.5431142426788667E-2,2.512743005213083E-2,2.512743005213083E-2]
[null,null,"Commercial banks",{"$f":"D28/D$24","v":0.11987460556714995},0.11378847174209102,0.11913437051699788,0.12309469901263971,0.12403634567931714,0.11947125509142076,0.11684257710519833,0.11836023669367528,0.11802141892091622,0.11795740484146913,0.12239894284337655,0.12891798819676217,0.13408729390488255,0.13568820520958416,0.13154271934311962,0.12516229928841335,0.12135943666023639,0.12061683122124771,0.1164938733652386,9.8486646997832744E-2,8.7137794591769693E-2,7.7235100862816319E-2,7.4806599128360032E-2,8.1366198960189567E-2,9.0193907464034703E-2,0.10721615969786027,0.1320799952792123,0.16433387641573111,0.18544064660811935,0.20644372963792779,0.2179522257582851,0.23239291159598802,0.24869375197344665,0.25769979865336662,0.27135933975830023,0.2809606500079605,0.28504512125979553,0.29568777009269293,0.30316606819884551,0.31624901367263503,0.35122345781548914,0.35104751627468994,0.31005445433030027,0.32834894231444012,0.33497169230249924,0.326348188479959,0.3303919205456885,0.31175749200208897,0.31369117040486072,0.30308461812192672,0.33250726761993177,0.31668155863725683,0.37238277054910901,0.37212646777366643,0.3722638409030371,0.37919280026522678,0.37356115695202691,0.30788598059828154,0.30788598059828148,0.30420904069829263,0.30420904069829263]
[null,null,"Life insurance co.",0.23445467931516192,0.22958775788268468,0.22562896403960425,0.2273093364020356,0.22941748671582382,0.22939794159291166,0.22843801590477947,0.22261387562102197,0.21171740016289209,0.19768861637926238,0.18498933929473255,0.17278960395361254,0.16048486876436541,0.15073451407055835,0.14108827886497899,0.13574067239938634,0.13430921230183518,0.1385379134030536,0.14442985337098496,0.14060009958023487,0.13295398496443755,0.12227521415997207,0.11544687263389693,0.11232927198362481,0.11141318670012476,0.11261906249589157,0.11476916791906998,0.11352912554553096,0.11613598772363287,0.11994192382879819,0.1298493118142241,0.12737198346386977,0.11621378977228372,0.11817361198108549,0.11618377667923888,0.11467155897422326,0.11594917836047251,0.11362313169999753,0.11965821335607565,0.12194077690929991,0.13046280770130572,0.12655594140437362,0.11640044214434299,0.10294016559238826,0.10297426168601623,9.9283311818729514E-2,0.10586115113456321,8.2044830667274415E-2,9.2880687669535986E-2,9.1048029757914609E-2,8.0724569739861807E-2,7.7777883046748125E-2,6.6260485547108991E-2,6.4684935822985595E-2,6.3033747740829885E-2,6.0006429299457258E-2,5.843037304030655E-2,5.7917360484132728E-2,5.7917360484132721E-2,5.7225680228824155E-2,5.7225680228824155E-2]
[null,null,"Individuals and others",0.38980580468280335,0.38438141926316355,0.38374876283042159,0.38328302637410755,0.38329185734316712,0.38073013644772391,0.37016506005519995,0.36415899117395728,0.37078097413116778,0.37485801146931924,0.37378951910005703,0.36840785753468414,0.36170693563100259,0.35697245146667794,0.35131607679022747,0.34685719596291392,0.34098160159840935,0.33383077401496636,0.32463347870431963,0.32110615350690419,0.30933682185695632,0.29612875826883839,0.28743910903857589,0.28424554582909839,0.26644839257248054,0.25750383592930415,0.25061613676451128,0.23518394883177399,0.2173020525664878,0.21149041133821844,0.2029812292888559,0.20857657567367058,0.21340619458319104,0.21988634356854764,0.22546109921390725,0.22717667013552442,0.22632710506476997,0.22200569060972974,0.20936866349027078,0.19912401298317628,0.12751110925042364,0.11352316724732225,0.15239932487947391,0.1939870458231073,0.17264293561475244,0.12356565490734703,8.9228451010456636E-2,0.12365143051312626,0.13284512895392692,9.720948273594987E-2,6.6281855623162203E-2,0.10841642883056797,{"$f":"BD30/BD$24","v":5.011899038070531E-2},5.4462179385639048E-2,6.3613745047876355E-2,4.7690324081545998E-2,5.5288888662320602E-2,5.4803458009993575E-2,5.4803458009993575E-2,5.4148965652066984E-2,5.4148965652066984E-2]
[null,null,"CCC storage & drying loans",4.2020079767680412E-3,5.6018675164745532E-3,5.4734976961770994E-3,4.0004378774690678E-3,2.5998926666694756E-3,1.7929371440062901E-3,1.5682224858152836E-3,2.6908666899093871E-3,5.9555367959498338E-3,6.4361319821958519E-3,5.3702228931064395E-3,6.5834568799670668E-3,8.4817457187585897E-3,7.8993590425999009E-3,5.4826222367397133E-3,3.8944743660722248E-3,2.9603977551599216E-3,8.8073740406529929E-3,1.8094045273237179E-2,1.8354421442926313E-2,1.7078909044473928E-2,1.4292690921393443E-2,1.1648627485702227E-2,9.0540724548899294E-3,6.1453067042528406E-3,3.263546339266296E-3,1.4594887892114303E-3,6.0299544944411522E-4,2.9106547994891895E-4,1.683356742778145E-4,9.6195682540822211E-5,5.6130566874247961E-5,2.9228334979170465E-5,{"$error":"#VALUE!"},{"$error":"#VALUE!"},{"$error":"#VALUE!"},{"$error":"#VALUE!"},{"$error":"#VALUE!"},{"$error":"#VALUE!"},{"$error":"#VALUE!"},{"$error":"#VALUE!"},{"$error":"#VALUE!"},{"$error":"#VALUE!"},2.0118816524863832E-3,2.167566926621795E-3,2.1926711073506715E-3,2.3989137151611533E-3,2.6362575535193713E-3,2.6450851478502417E-3,{"$f":"BA30/BA$24","v":9.720948273594987E-2},4.1169770790261077E-3,4.3208665684220078E-3,4.2341280230179584E-3,4.0323226553736907E-3]
[null,null,"Total ",{"$f":"SUM(D55:D60)","v":0.9999992042153949},0.99999959410286665,0.99999962931248587,0.99999939925347225,1,1.0000002114624378,0.99999956513426269,0.9999996904508327,0.9999999191241371,1.0000001514241479,0.99999999999999989,1,0.99999999999999989,1.0000000000000002,1,1,0.99999999999999989,1,1,1,1,1,1,1,1.0000000098625834,1.0000000106281246,1,1,1,1,0.99999998521431255,0.99999998517417676,0.9999999852679764,{"$error":"#VALUE!"},{"$error":"#VALUE!"},{"$error":"#VALUE!"},{"$error":"#VALUE!"},{"$error":"#VALUE!"},{"$error":"#VALUE!"},{"$error":"#VALUE!"},{"$error":"#VALUE!"},{"$error":"#VALUE!"},{"$error":"#VALUE!"},0.99059732042416149,0.99172243807146032,0.99323573936858334,0.98717183550357357,0.97851503696104847,0.98358885356779335,1.0797960729553551,0.97662943081412446,0.97744992713951773,0.97801484692998331,0.9757959755245893]
[null,null,"Total Real Estate Debt",{"$f":"D40","v":11309593},{"$f":"E40","v":12318392},13488450,14981360,16850311,18915889,20696043,22613532,24729257,26415866,27238348,28826497,31379625,35188298,39563003,43750962,48484701,55834463,63424623,75778090,85272367,93905270,96769083,98071338,101393312,94089977,84087662,75809859,70829423,68761420,67632973,67449880,67879337,68432731,69911852,71722937,74422235,78513555,83100263,87206087,84723763,88541011,98118184,97396385,104161951,113886209,113365478,131710955,147901855,145979853,154065225,167190768,173368636,{"$f":"BE40","v":185160530},{"$f":"BF40","v":196780224},{"$f":"BG40","v":208769246},{"$f":"BH40","v":225980433},{"$f":"BI40","v":238058397},{"$f":"BJ40","v":250866892},266840441,281559130]
[]
[]
[null,null,"Nonrealestate"]
[null,null,"Farm Credit System",{"$f":"D34/D$33","v":0.13551105492932741},0.14157389817838115,0.14176996376781623,0.14725758255620772,0.15098501136413375,0.15479780669867357,0.16472901355272279,0.18137476274191036,0.20075582316259838,0.22658735633562876,0.24940982216758498,0.25295443632872971,0.24669699493960756,0.24786124943374604,0.27103234537798743,0.26867660088249934,0.26538719329325816,0.25373425085060902,0.24334184554662713,0.24870236301993626,0.25287479130432516,0.25076947124621018,0.23292474556108062,0.21741955860172801,0.204399500100795,0.17720867416928596,0.15171354617850438,0.14800997863664292,0.13921956961319523,0.15167843919465393,0.1535136047746333,0.15701389612945571,0.16075300132406448,0.15831841567238067,0.16030764098046685,0.17319839114413327,0.18715805112144795,0.18935358196976287,0.20094972097875463,0.19269130347367006,0.21068318509972594,0.24353584333144371,0.23046686472802994,0.24094807911463806,0.23593808058709287,0.25269073772903361,0.26353801957114031,0.28820750675152473,0.31833769790120753,0.31860743188150209,0.31418375779617058,0.32279103857819247,0.34376871564401285,0.33813628277758562,0.32264399280614559,0.32630556327771676,0.33320961308990771,0.33021913227869792,0.47290146533118671,0.50798978272209194,0.50798978272209194]
[null,null,"Farm Service Agency",3.315064475601049E-2,3.6933479955796676E-2,3.7144230318998488E-2,3.5839916398151879E-2,3.701865756229368E-2,3.7347253433980689E-2,3.5027752931227264E-2,3.5844167192205539E-2,3.7674548986261172E-2,3.4536085050907377E-2,3.3644569101164631E-2,2.9072356016531152E-2,2.6581076046904382E-2,2.5411748076034867E-2,2.7368204168399808E-2,4.1240766651346142E-2,3.8242194233071354E-2,5.5872550993074338E-2,8.9892625532093304E-2,0.12256108289609494,0.14032134510389704,0.16371608396856765,0.16066235036383789,0.15751093340956204,0.16966856666235378,0.20347670189234016,0.2316594421724161,0.243180741548357,0.22349258237106218,0.18798837919013997,0.15941080629007315,0.13761838705095297,0.12108839435688661,0.10223555970141494,9.4157350885401711E-2,7.7131871052357984E-2,6.7213930971570648E-2,5.8038859235616809E-2,5.2069332440367218E-2,5.2969188480013127E-2,5.3130757924330536E-2,5.0545608570805645E-2,4.4685220514589959E-2,4.3560566122484164E-2,3.4726504530358332E-2,3.1600892494089407E-2,2.6720241630734588E-2,2.85915610439521E-2,2.6265075167950586E-2,2.7333607236771272E-2,2.9171104682085877E-2,2.7854894547996088E-2,2.7023421608944491E-2,2.1791137227881292E-2,2.3919842141075197E-2,2.5333334639915127E-2,2.5535115921594118E-2,2.5539753384341637E-2,0.33021913227869792,0.35472071362573326,0.35472071362573326]
[null,null,"Commercial banks",0.42357346256620265,0.42500105330608667,0.42882496636742967,0.43117182646251451,0.43154120388608297,0.42939758673876499,0.43526341913435551,0.44719002920900497,0.47858148467720424,0.48795888619622335,0.49340823271445022,0.49215142851630622,0.50625911721312622,0.51369265841668521,0.49088772772776879,0.47923097297076883,0.48194256421565879,0.46214284418054397,0.44204804493797406,0.40878911928703771,0.38862039994219255,0.37256948396490097,0.39362856670969681,0.42079746213398633,0.43032457220927522,0.43217602753638817,0.44150914782843204,0.44002995460284622,0.45432851058404522,0.46962829744028894,0.49253480740766681,0.50997911410480834,0.51678145163474665,0.53035011282604527,0.53218238936747408,0.5297078109400285,0.51743428748127074,0.52363440068019651,0.51748377359138586,0.51375264897625805,0.5662986013948933,0.54826201558665932,0.50334138713294418,0.53141624229662865,0.4982561225080856,0.51110203542630239,0.47275803929877097,0.49531629451380338,0.49758849450774939,0.46708419302714854,0.44990068458485938,0.46503050937582263,0.48229433374137726,0.48950881571590094,0.47660302141615551,0.49454955012643037,0.49420761840465938,0.47290146533118671,2.5539753384341637E-2,2.7434750626965168E-2,2.7434750626965168E-2]
[null,null,"Individuals and others",0.40776501734498327,0.39649131475103988,0.39226061187562322,0.38573094893941406,0.3804553885070357,0.37845741231805086,0.36497986835682222,0.33559119397600767,0.28298809106976125,0.25091777239244667,0.22353737601680015,0.22582177913843288,0.22046281180036184,0.2130343440735338,0.21071169424367361,0.21085168465086099,0.21442804825801171,0.22825037299803527,0.22471748398330552,0.21994743479693113,0.21818347660973519,0.21294494888461282,0.21278433736538466,0.20427203450485915,0.19560736102757603,0.18713859640198569,0.1751178489441583,0.16877932521215386,0.1829593374316974,0.19070488417491713,0.19454076577533422,0.195388587192353,0.20137715268430229,0.2090959118001591,0.21335261876665734,0.21996192686348026,0.22819371693962878,0.22897315811442387,0.22949717298949232,0.24058685907005881,0.16988745558105023,0.15765652033429922,0.22150652762443593,0.18407511246624908,0.23107929237446317,0.2046063343505746,0.23698369949935416,0.18788463769071978,0.15780873242309248,0.18697476785457812,0.20674445293688418,0.18432356535459846,0.14691352900566543,0.15056376427863211,0.17683315037420885,0.15381155195593774,0.14704765258383881,0.17133965545781657,0.17133965545781657,0.1840527059621998,0.1840527059621998]
[null,null,"Total NonReal Estate Debt",{"$f":"D41","v":11136073},11819926,13176959,14579582,15306930,16894897,18527052,19592588,19192320,20004960,21262659,23998571,26720062,31580354,35109684,39752777,45652689,52569982,60440998,71742137,77159601,83782208,87193913,88106779,87420023,78064559,67220161,62697543,62308927,62268982,63482823,64422903,63686475,65878849,69017203,71262319,74150521,78393822,81526050,80490057,79206060,82123435,88910829,83699555,93415679,95187185,102319434,109025002,113161260,122366725,124865309,127281365,124152487,130171958,148421130,147968795,148183780,154989672,159976095,151754403,152191680]
[]
[]
[]
[]
[]
[]
[null,"Source:  USDA - ERS, various years"]
[]
[]
[]
[]
[]
[]
[]
[]
[]
[]
[]
[]
[]
[]
[]
[]
[]
[]
[null,null,"FCS Ag Debt Volume"]
[null,null,null,{"$f":"D7","v":"1960"},"1961","1962","1963","1964","1965","1966","1967","1968","1969","1970","1971","1972","1973","1974","1975","1976","1977","1978","1979","1980","1981","1982","1983","1984","1985","1986","1987","1988","1989","1990","1991","1992","1993","1994","1995","1996","1997","1998","1999","2000","2001","2002","2003","2004","2005","2006","2007","2008","2009","2010",2011,2012,2013]
[null,null,"FCS Non Real Estate Debt",{"$f":"D34","v":1509061},1673393,1868097,2146954,2311117,2615293,3051943,3553601,3852970,4532871,5303116,6070545,6591759,7827546,9515860,10680641,12115639,13338805,14707824,17842439,19511718,21010020,20309620,19156137,17868609,13833717,10198209,9279862,8674622,9444862,9745477,10115291,10237792,10429835,11063985,12342519,13877867,14844151,16382637,15509734,16687385,20000000,20491000,20167247,22040316,24052920,26965061,31421824,36023495,{"$f":"BA33","v":122366725},39230652,41085284,42679741]
[null,null,"FCS Resl Estate Debt ",{"$f":"D25","v":2222301},2462512,2666963,2905293,3266651,3766421,4388901,4970937,5433762,5976804,6368922,7000181,8014159,9616844,11839517,14043688,16223152,18771473,21566850,25969746,31575578,38293671,41493247,42124283,44266085,39638435,33101061,28194451,25885360,24340814,23461664,22774771,22866792,22409618,22137036,22480484,23450202,24924671,26787599,28044751,29692046,32854687,37815366,33207011,37077836,47867156,49693789,57823752,62837632,69074445,72478528,75287498,80343753]
[]
[]
[]
[]
[null,null,"Sources/Notes:"]
[null,null,"1/ Excludes horses, mules, and broilers.                                                                                           "]
[null,null,"2/ Include only farm share value for trucks and autos.                                                                             "]
[null,null,"3/ All non-CCC crops held on farms plus the value above loan rate                                                                  "]
[null,null,"   for crops held under CCC.                                                                                                       "]
[null,null,"4/ Excludes debt for nonfarm purposes.                                                                                             "]
[null,null,"5/ Farmers Home Administration prior to 1994.                                                                                      "]
[null,null,"(f) forecasted and subject to revision"]
[null,null,"Economic Research Service/USDA.                   "]