BEGIN:VCALENDAR
VERSION:2.0
PRODID:-//farmdoc - ECPv5.16.4//NONSGML v1.0//EN
CALSCALE:GREGORIAN
METHOD:PUBLISH
X-WR-CALNAME:farmdoc
X-ORIGINAL-URL:https://farmdoc.illinois.edu
X-WR-CALDESC:Events for farmdoc
BEGIN:VTIMEZONE
TZID:America/Chicago
BEGIN:DAYLIGHT
TZOFFSETFROM:-0600
TZOFFSETTO:-0500
TZNAME:CDT
DTSTART:20200308T080000
END:DAYLIGHT
BEGIN:STANDARD
TZOFFSETFROM:-0500
TZOFFSETTO:-0600
TZNAME:CST
DTSTART:20201101T070000
END:STANDARD
END:VTIMEZONE
BEGIN:VEVENT
DTSTART;TZID=America/Chicago:20200407T110000
DTEND;TZID=America/Chicago:20200407T113000
DTSTAMP:20260419T163644
CREATED:20200327T143643Z
LAST-MODIFIED:20200407T185239Z
UID:27254-1586257200-1586259000@farmdoc.illinois.edu
SUMMARY:Acreage Decisions 2020
DESCRIPTION:Todd Hubbs will provide the latest outlook on acreage decisions for 2020. Gary Schnitkey will examine the cash flow and management decisions associated with 2020 acreage shifts.
URL:https://farmdoc.illinois.edu/webinar/acreage-decisions-2020
LOCATION:farmdoc Webinars\, University of Illinois\, Champaign\, IL\, 61820\, United States
CATEGORIES:farmdoc daily live
ATTACH;FMTTYPE=image/jpeg:https://farmdoc.illinois.edu/wp-content/uploads/2019/10/6-Trade.jpg
END:VEVENT
END:VCALENDAR