BEGIN:VCALENDAR
VERSION:2.0
PRODID:-//farmdoc - ECPv5.16.4//NONSGML v1.0//EN
CALSCALE:GREGORIAN
METHOD:PUBLISH
X-WR-CALNAME:farmdoc
X-ORIGINAL-URL:https://farmdoc.illinois.edu
X-WR-CALDESC:Events for farmdoc
BEGIN:VTIMEZONE
TZID:America/Chicago
BEGIN:DAYLIGHT
TZOFFSETFROM:-0600
TZOFFSETTO:-0500
TZNAME:CDT
DTSTART:20200308T080000
END:DAYLIGHT
BEGIN:STANDARD
TZOFFSETFROM:-0500
TZOFFSETTO:-0600
TZNAME:CST
DTSTART:20201101T070000
END:STANDARD
END:VTIMEZONE
BEGIN:VEVENT
DTSTART;TZID=America/Chicago:20200424T110000
DTEND;TZID=America/Chicago:20200424T114500
DTSTAMP:20260419T162444
CREATED:20200410T211611Z
LAST-MODIFIED:20200424T182329Z
UID:27391-1587726000-1587728700@farmdoc.illinois.edu
SUMMARY:An Update on Policy and Political Outlook for Coronavirus Pandemic Relief
DESCRIPTION:Less than a month ago\, Congress enacted the CARES Act to provide $2 trillion in relief for the wide range of challenges from the Coronavirus pandemic.  Questions remain about implementation\, the outlook for additional relief and a general perspective on the political and policy discussions at the federal level for the food and agricultural sector.
URL:https://farmdoc.illinois.edu/webinar/gardner-policy-group
LOCATION:farmdoc Webinars\, University of Illinois\, Champaign\, IL\, 61820\, United States
CATEGORIES:farmdoc daily live
ATTACH;FMTTYPE=image/jpeg:https://farmdoc.illinois.edu/wp-content/uploads/2020/03/Webinar_2020-04-08-scaled.jpg
END:VEVENT
END:VCALENDAR