BEGIN:VCALENDAR
VERSION:2.0
PRODID:-//farmdoc - ECPv5.16.4//NONSGML v1.0//EN
CALSCALE:GREGORIAN
METHOD:PUBLISH
X-WR-CALNAME:farmdoc
X-ORIGINAL-URL:https://farmdoc.illinois.edu
X-WR-CALDESC:Events for farmdoc
BEGIN:VTIMEZONE
TZID:America/Chicago
BEGIN:DAYLIGHT
TZOFFSETFROM:-0600
TZOFFSETTO:-0500
TZNAME:CDT
DTSTART:20210314T080000
END:DAYLIGHT
BEGIN:STANDARD
TZOFFSETFROM:-0500
TZOFFSETTO:-0600
TZNAME:CST
DTSTART:20211107T070000
END:STANDARD
END:VTIMEZONE
BEGIN:VEVENT
DTSTART;TZID=America/Chicago:20211014T110000
DTEND;TZID=America/Chicago:20211014T120000
DTSTAMP:20260424T211656
CREATED:20210820T161240Z
LAST-MODIFIED:20211014T211010Z
UID:29200-1634209200-1634212800@farmdoc.illinois.edu
SUMMARY:Grain Returns for 2021 and 2022
DESCRIPTION:Production cost are rising at substantial rates. Here we will summarize grain farm financial statements for farms enrolled in Illinois Farm Business Farm Management\, and present projections for the future.
URL:https://farmdoc.illinois.edu/webinar/grain-returns-for-2021-and-2022
LOCATION:farmdoc Webinars\, University of Illinois\, Champaign\, IL\, 61820\, United States
CATEGORIES:farmdoc Webinar
ATTACH;FMTTYPE=image/jpeg:https://farmdoc.illinois.edu/wp-content/uploads/2021/08/webinarGrain.jpg
END:VEVENT
END:VCALENDAR