BEGIN:VCALENDAR
VERSION:2.0
PRODID:-//farmdoc - ECPv5.16.4//NONSGML v1.0//EN
CALSCALE:GREGORIAN
METHOD:PUBLISH
X-WR-CALNAME:farmdoc
X-ORIGINAL-URL:https://farmdoc.illinois.edu
X-WR-CALDESC:Events for farmdoc
BEGIN:VTIMEZONE
TZID:America/Chicago
BEGIN:DAYLIGHT
TZOFFSETFROM:-0600
TZOFFSETTO:-0500
TZNAME:CDT
DTSTART:20210314T080000
END:DAYLIGHT
BEGIN:STANDARD
TZOFFSETFROM:-0500
TZOFFSETTO:-0600
TZNAME:CST
DTSTART:20211107T070000
END:STANDARD
END:VTIMEZONE
BEGIN:VEVENT
DTSTART;TZID=America/Chicago:20211007T110000
DTEND;TZID=America/Chicago:20211007T120000
DTSTAMP:20260424T224806
CREATED:20210820T193607Z
LAST-MODIFIED:20211007T193327Z
UID:29207-1633604400-1633608000@farmdoc.illinois.edu
SUMMARY:Is the MRTN Nitrogen Rate for Corn High Enough?
DESCRIPTION:The Maximum Return to Nitrogen (MRTN) is a recommended N rate based on recent N response trials\, and is often lower than rates based on expected yields. We’ll discuss how much risk this brings\, and will introduce a way for producers to check MRTN performance in the field.
URL:https://farmdoc.illinois.edu/webinar/is-the-mrtn-nitrogen-rate-for-corn-high-enough
LOCATION:farmdoc Webinars\, University of Illinois\, Champaign\, IL\, 61820\, United States
CATEGORIES:farmdoc Webinar
ATTACH;FMTTYPE=image/jpeg:https://farmdoc.illinois.edu/wp-content/uploads/2021/08/webinarNitrogen.jpg
END:VEVENT
END:VCALENDAR