BEGIN:VCALENDAR
VERSION:2.0
PRODID:-//farmdoc - ECPv5.16.4//NONSGML v1.0//EN
CALSCALE:GREGORIAN
METHOD:PUBLISH
X-WR-CALNAME:farmdoc
X-ORIGINAL-URL:https://farmdoc.illinois.edu
X-WR-CALDESC:Events for farmdoc
BEGIN:VTIMEZONE
TZID:America/Chicago
BEGIN:DAYLIGHT
TZOFFSETFROM:-0600
TZOFFSETTO:-0500
TZNAME:CDT
DTSTART:20240310T080000
END:DAYLIGHT
BEGIN:STANDARD
TZOFFSETFROM:-0500
TZOFFSETTO:-0600
TZNAME:CST
DTSTART:20241103T070000
END:STANDARD
END:VTIMEZONE
BEGIN:VEVENT
DTSTART;TZID=America/Chicago:20240125T110000
DTEND;TZID=America/Chicago:20240125T120000
DTSTAMP:20260422T160153
CREATED:20240112T120152Z
LAST-MODIFIED:20240125T201826Z
UID:34809-1706180400-1706184000@farmdoc.illinois.edu
SUMMARY:Macro and Farm Financial Update
DESCRIPTION:Brad Zwilling and Gerald Mashange will analyze economic factors impacting agriculture\, focusing on inflation\, interest rates\, and farm credit conditions. Utilizing Illinois FBFM data\, they’ll assess the financial state of Illinois farms\, covering topics like income\, land values\, and debt.
URL:https://farmdoc.illinois.edu/webinar/macro-and-farm-financial-update
LOCATION:farmdoc Webinars\, University of Illinois\, Champaign\, IL\, 61820\, United States
CATEGORIES:farmdoc Webinar,IFES Meeting Page
ATTACH;FMTTYPE=image/jpeg:https://farmdoc.illinois.edu/wp-content/uploads/2020/03/6-Trade.jpg
END:VEVENT
END:VCALENDAR