BEGIN:VCALENDAR
VERSION:2.0
PRODID:-//farmdoc - ECPv5.16.4//NONSGML v1.0//EN
CALSCALE:GREGORIAN
METHOD:PUBLISH
X-WR-CALNAME:farmdoc
X-ORIGINAL-URL:https://farmdoc.illinois.edu
X-WR-CALDESC:Events for farmdoc
BEGIN:VTIMEZONE
TZID:America/Chicago
BEGIN:DAYLIGHT
TZOFFSETFROM:-0600
TZOFFSETTO:-0500
TZNAME:CDT
DTSTART:20250309T080000
END:DAYLIGHT
BEGIN:STANDARD
TZOFFSETFROM:-0500
TZOFFSETTO:-0600
TZNAME:CST
DTSTART:20251102T070000
END:STANDARD
END:VTIMEZONE
BEGIN:VEVENT
DTSTART;TZID=America/Chicago:20250805T110000
DTEND;TZID=America/Chicago:20250805T120000
DTSTAMP:20260421T032136
CREATED:20250121T125314Z
LAST-MODIFIED:20250812T171135Z
UID:36369-1754391600-1754395200@farmdoc.illinois.edu
SUMMARY:Smart Nitrogen Management: Timing\, Rate\, and ROI
DESCRIPTION:Learn how to optimize nitrogen fertilizer rates and application timing to boost profitability and efficiency. Discover PCM’s data-driven insights into nitrogen management on both high- and low-SPR soils.
URL:https://farmdoc.illinois.edu/webinar/smart-nitrogen-management-timing-rate-and-roi
LOCATION:farmdoc Webinars\, University of Illinois\, Champaign\, IL\, 61820\, United States
CATEGORIES:farmdoc Webinar
ATTACH;FMTTYPE=image/png:https://farmdoc.illinois.edu/wp-content/uploads/2025/01/2025-PCM-Nitrogen-Webinar.png
END:VEVENT
END:VCALENDAR