BEGIN:VCALENDAR
VERSION:2.0
PRODID:-//farmdoc - ECPv5.16.4//NONSGML v1.0//EN
CALSCALE:GREGORIAN
METHOD:PUBLISH
X-WR-CALNAME:farmdoc
X-ORIGINAL-URL:https://farmdoc.illinois.edu
X-WR-CALDESC:Events for farmdoc
BEGIN:VTIMEZONE
TZID:America/Chicago
BEGIN:DAYLIGHT
TZOFFSETFROM:-0600
TZOFFSETTO:-0500
TZNAME:CDT
DTSTART:20200308T080000
END:DAYLIGHT
BEGIN:STANDARD
TZOFFSETFROM:-0500
TZOFFSETTO:-0600
TZNAME:CST
DTSTART:20201101T070000
END:STANDARD
END:VTIMEZONE
BEGIN:VEVENT
DTSTART;TZID=America/Chicago:20200331T140000
DTEND;TZID=America/Chicago:20200331T150000
DTSTAMP:20260419T180957
CREATED:20200304T195050Z
LAST-MODIFIED:20200331T222256Z
UID:27003-1585663200-1585666800@farmdoc.illinois.edu
SUMMARY:Updated Supply and Demand for Corn and Soybeans
DESCRIPTION:The webinar will review USDA’s March 31 Grain Stocks and Prospective Plantings reports and considers balance sheet and price implications for both old and new crop corn and soybeans. The USDA’s estimate of March 1 stocks of corn and soybeans will provide a clearer picture of total 2019-20 marketing year consumption\, ending stocks\, and price prospects. The report will be especially important for projecting the magnitude of domestic corn consumption for feed use. The magnitude of planting intentions will clarify prospects for the size of the 2020 corn and soybean crops with implications for the 2020-21 balance sheets and price prospects.
URL:https://farmdoc.illinois.edu/webinar/updated-supply-and-demand-for-corn-and-soybeans-6
LOCATION:farmdoc Webinars\, University of Illinois\, Champaign\, IL\, 61820\, United States
CATEGORIES:farmdoc Webinar
ATTACH;FMTTYPE=image/jpeg:https://farmdoc.illinois.edu/wp-content/uploads/2019/10/6-Trade.jpg
END:VEVENT
END:VCALENDAR