BEGIN:VCALENDAR
VERSION:2.0
PRODID:-//farmdoc - ECPv5.16.4//NONSGML v1.0//EN
CALSCALE:GREGORIAN
METHOD:PUBLISH
X-WR-CALNAME:farmdoc
X-ORIGINAL-URL:https://farmdoc.illinois.edu
X-WR-CALDESC:Events for farmdoc
BEGIN:VTIMEZONE
TZID:America/Chicago
BEGIN:DAYLIGHT
TZOFFSETFROM:-0600
TZOFFSETTO:-0500
TZNAME:CDT
DTSTART:20200308T080000
END:DAYLIGHT
BEGIN:STANDARD
TZOFFSETFROM:-0500
TZOFFSETTO:-0600
TZNAME:CST
DTSTART:20201101T070000
END:STANDARD
END:VTIMEZONE
BEGIN:VEVENT
DTSTART;TZID=America/Chicago:20200110T140000
DTEND;TZID=America/Chicago:20200110T150000
DTSTAMP:20260420T000959
CREATED:20200102T165509Z
LAST-MODIFIED:20200110T215834Z
UID:26860-1578664800-1578668400@farmdoc.illinois.edu
SUMMARY:Updated Supply and Demand for Corn and Soybeans
DESCRIPTION:This webinar discusses the implications of the January Crop Production report and the December 1 stocks report. A detailed discussion of USDA’s December stocks report will provide a clearer picture of the impact on corn and soybean balance sheets. The webinar will review the USDA’s U.S. corn and soybean yield and production estimates for the 2019 crop year. An analysis of the production estimates combined with projections of marketing year consumption provide a basis for projections of the magnitude of year-ending stocks in the 2019-20 marketing year. The implications for marketing year average prices as well as the likely pattern of prices during the 2019-20 marketing year and beyond will be discussed with specific references to the pending trade deal with China.
URL:https://farmdoc.illinois.edu/webinar/updated-supply-and-demand-for-corn-and-soybeans
LOCATION:farmdoc Webinars\, University of Illinois\, Champaign\, IL\, 61820\, United States
CATEGORIES:farmdoc Webinar
ATTACH;FMTTYPE=image/jpeg:https://farmdoc.illinois.edu/wp-content/uploads/2020/01/2020-01-10.jpg
END:VEVENT
END:VCALENDAR